BEGIN:VCALENDAR
VERSION:2.0
PRODID:-//METK nõuandeteenistus - ECPv6.15.13//NONSGML v1.0//EN
CALSCALE:GREGORIAN
METHOD:PUBLISH
X-WR-CALNAME:METK nõuandeteenistus
X-ORIGINAL-URL:https://test.pikk.ee
X-WR-CALDESC:Events for METK nõuandeteenistus
REFRESH-INTERVAL;VALUE=DURATION:PT1H
X-Robots-Tag:noindex
X-PUBLISHED-TTL:PT1H
BEGIN:VTIMEZONE
TZID:Europe/Tallinn
BEGIN:DAYLIGHT
TZOFFSETFROM:+0200
TZOFFSETTO:+0300
TZNAME:EEST
DTSTART:20230326T010000
END:DAYLIGHT
BEGIN:STANDARD
TZOFFSETFROM:+0300
TZOFFSETTO:+0200
TZNAME:EET
DTSTART:20231029T010000
END:STANDARD
BEGIN:DAYLIGHT
TZOFFSETFROM:+0200
TZOFFSETTO:+0300
TZNAME:EEST
DTSTART:20240331T010000
END:DAYLIGHT
BEGIN:STANDARD
TZOFFSETFROM:+0300
TZOFFSETTO:+0200
TZNAME:EET
DTSTART:20241027T010000
END:STANDARD
BEGIN:DAYLIGHT
TZOFFSETFROM:+0200
TZOFFSETTO:+0300
TZNAME:EEST
DTSTART:20250330T010000
END:DAYLIGHT
BEGIN:STANDARD
TZOFFSETFROM:+0300
TZOFFSETTO:+0200
TZNAME:EET
DTSTART:20251026T010000
END:STANDARD
END:VTIMEZONE
BEGIN:VEVENT
DTSTART;TZID=Europe/Tallinn:20240430T100000
DTEND;TZID=Europe/Tallinn:20240430T150000
DTSTAMP:20260424T103946
CREATED:20240406T152541Z
LAST-MODIFIED:20240409T183106Z
UID:10011087-1714471200-1714489200@test.pikk.ee
SUMMARY:Tootjate pindala- ja loomatoetuste infopäev Järvamaal
DESCRIPTION:Infopäev toimub 30. aprillil 2024 Järvamaal\, Türi Kultuurimajas. Registreerimine kuni eelneva tööpäeva kella 16.00. \nRegistreerinine SIIN \nInfopäev toimub kell 10.00-15.00 \nInfopäeva teemakava: \n\nÜlevaade toetustest\nToetusõiguslik maa\nTingimuslikkus\nOtsetoetused\nMaaelu arengukava toetused\nPRIA-s toetuste taotlemine ja kontroll\n\nInfopäevade lektoriteks konsulendid Liia Lust ja Helle Rohtla \nInfopäev viiakse läbi „Teadmussiirde pikaajaline programm põllumajanduse\, toidu ja maamajanduse tegevusvaldkonnas“ raames ja on osalejale tasuta.
URL:https://test.pikk.ee/sundmus/tootjate-pindala-ja-loomatoetuste-infopaev-jarvamaal/
LOCATION:Järvamaa\, Järvamaa\, Eesti
CATEGORIES:Aiandus,Keskkond,Loomakasvatus,Mahemajandus,Mesindus,Taimekasvatus,Veemajandus
ORGANIZER;CN="Eesti Maaelu N%C3%B5uandeteenistus MT%C3%9C":MAILTO:maanouanne@gmail.com
GEO:58.8866713;25.5000624
END:VEVENT
END:VCALENDAR