BEGIN:VCALENDAR
VERSION:2.0
PRODID:-//METK nõuandeteenistus - ECPv6.15.13//NONSGML v1.0//EN
CALSCALE:GREGORIAN
METHOD:PUBLISH
X-WR-CALNAME:METK nõuandeteenistus
X-ORIGINAL-URL:https://test.pikk.ee
X-WR-CALDESC:Events for METK nõuandeteenistus
REFRESH-INTERVAL;VALUE=DURATION:PT1H
X-Robots-Tag:noindex
X-PUBLISHED-TTL:PT1H
BEGIN:VTIMEZONE
TZID:Europe/Tallinn
BEGIN:DAYLIGHT
TZOFFSETFROM:+0200
TZOFFSETTO:+0300
TZNAME:EEST
DTSTART:20200329T010000
END:DAYLIGHT
BEGIN:STANDARD
TZOFFSETFROM:+0300
TZOFFSETTO:+0200
TZNAME:EET
DTSTART:20201025T010000
END:STANDARD
BEGIN:DAYLIGHT
TZOFFSETFROM:+0200
TZOFFSETTO:+0300
TZNAME:EEST
DTSTART:20210328T010000
END:DAYLIGHT
BEGIN:STANDARD
TZOFFSETFROM:+0300
TZOFFSETTO:+0200
TZNAME:EET
DTSTART:20211031T010000
END:STANDARD
BEGIN:DAYLIGHT
TZOFFSETFROM:+0200
TZOFFSETTO:+0300
TZNAME:EEST
DTSTART:20220327T010000
END:DAYLIGHT
BEGIN:STANDARD
TZOFFSETFROM:+0300
TZOFFSETTO:+0200
TZNAME:EET
DTSTART:20221030T010000
END:STANDARD
END:VTIMEZONE
BEGIN:VEVENT
DTSTART;TZID=Europe/Tallinn:20211014T090000
DTEND;TZID=Europe/Tallinn:20211014T123000
DTSTAMP:20260425T000811
CREATED:20211001T134225Z
LAST-MODIFIED:20211007T085730Z
UID:10008021-1634202000-1634214600@test.pikk.ee
SUMMARY:EPKK Metsandusfoorum 2021
DESCRIPTION:Eesti Põllumajandus-Kaubanduskoja Metsandusfoorum 2021\nToimumise aeg: 14. oktoober 2021 kell 9.00 – 12.35\nToimumise koht: EPA raames Eesti Rahva Muuseumis (Muuseumi tee 2\, 60532 Tartu)\nVõimalus jälgida ka videoülekannet foorumilt! \nPÄEVAKAVA\n8.30 – 9.00 Kogunemine ja registreerimine\n9.00 – 9.10 Konverentsi avamine\n9.10 – 9.35 Mida toob Euroopa Liidu rohelepe kaasa metsandussektorile? – Meelis Seedre\, Keskkonnaministeeriumi metsaosakonna juhataja\n9.35 – 10.05 LULUCF-i uuringu tutvustus: metsandussektori võime panustada kliimaeesmärkidesse – Mati Valgepea\, Keskkonnaagentuuri juhtivspetsialist\n10.05 – 10.35 Metsade süsiniku sidumise ja talletamise võime ning selle seosed metsade majandamisega – Jürgen Aosaar\, Eesti Maaülikooli vanemteadur\n10.35 – 11.00 Kohvipaus\n11.00 – 11.30 Püsimetsandus\, kas see on Eestis võimalik? – Hardi Tullus\, Eesti Maaülikooli metsakasvatuse ja metsaökoloogia professor\n11.30 – 12.00 Jätkusuutlik metsamajandus praktikas – Gunnar Lepasaar\, Parim metsamajandaja 2021\, Lepasaare Puit OÜ juht\n12.00 – 12.30 Vestlusvoor: Metsa väärindamine – milline on puidutööstuse roll süsinikusidumises?\nVestlusvoorus osalevad: Eesti Metsa- ja Puidutööstuse Liidu tegevjuht Henrik Välja\, metsandusekspert\, riigikogu liige Heiki Hepner\, Keskühistu Eramets TÜ tegevjuht Priit Põllumäe ja Eesti Maaülikooli vanemteadur Jürgen Aosaar\n12.30 – 12.35 Konverentsi lõpetamine\n12.35 Ühine lõuna messikeskuses ja messikülastus \nPäeva modereerib ajakirjanik Kristo Elias. \nRegistreerimine on avatud  SIIN  koos võimalusega valida osalemine ERM-s või jälgida otseülekannet.\nMõlemal juhul on etteregistreerimine vajalik! ERM-i tulijatele lõpeb registreerimine 7. oktoobri hilisõhtul\, videoülekande jälgijatele on link avatud kuni 10. oktoobrini. \nVarane registreerimise kuupäev on tingitud toitlustuse tellimuse esitamise tähtajast!\nOsalemine on TASUTA.\nRegistreerumisel võimalus saada tasuta EPA 2021 elektrooniline messipääse. \nKonverentsi korraldamist toetab Euroopa Liit. \nLisainformatsioon: Meelika Sander-Sõrmus\, EPKK põllumajandusvaldkonna juht\,\ntel. 555 33 789\, e-post: meelika@epkk.ee.
URL:https://test.pikk.ee/sundmus/epkk-metsandusfoorum-2021/
CATEGORIES:Metsandus
END:VEVENT
BEGIN:VEVENT
DTSTART;TZID=Europe/Tallinn:20211019T160000
DTEND;TZID=Europe/Tallinn:20211019T173000
DTSTAMP:20260425T000811
CREATED:20210824T134724Z
LAST-MODIFIED:20210824T134724Z
UID:10007967-1634659200-1634664600@test.pikk.ee
SUMMARY:Puutuhk kui väärtuslik väetis koduaeda ja metsa (veebipõhine tasuline koolitus)
DESCRIPTION:Täpsem info ja registreerumine SIIN \n\n.\nKoolitus annab ülevaate puutuha kui toitainerikka ja väärtusliku lubiväetise omadustest ning mõjust mulla keemilistele omadustele ja taimede kasvule.\n.\n\n\nKoolitus sobib enesetäiendamiseks kõigile (sh hobiaednikele)\, kes soovivad koguda teadmisi puutuha kasutamise erinevatest võimalustest väetisena koduaias või metsas.\n.\nKoolitus toimub 19. oktoobril 2021 maaülikooli videosilla vahendusel BigBlueButton (BBB) keskkonnas.\nBBB keskkonnas asuva seminariruumi aadress ning juhised seminariruumi sisenemiseks saadetakse koolitusele registreerunutele meilidele.\n\n.\n\nSellel koolitusel osalemine on tasuline (20 eurot) ning vajalik on eelregistreerimine.\n.\nKoolituse korraldaja:\nEesti Maaülikooli avatud ülikool\nFr. R. Kreutzwaldi 56/1\n51006 Tartu\,\ntel 731 3275\ne-post: avayl@emu.ee\nhttp://avatudylikool.emu.ee/
URL:https://test.pikk.ee/sundmus/puutuhk-kui-vaartuslik-vaetis-koduaeda-ja-metsa-veebipohine-tasuline-koolitus-2/
LOCATION:Veebis\, Eesti
CATEGORIES:Bioenergia ja biomajandus,Keskkond,Metsandus,Taimekasvatus
END:VEVENT
BEGIN:VEVENT
DTSTART;TZID=Europe/Tallinn:20211026T100000
DTEND;TZID=Europe/Tallinn:20211026T131500
DTSTAMP:20260425T000811
CREATED:20210927T100820Z
LAST-MODIFIED:20210927T100820Z
UID:10009953-1635242400-1635254100@test.pikk.ee
SUMMARY:Kliimamuutused meie metsades
DESCRIPTION:Kliimamuutused meie metsades \n26.10.2021 \nÄripäeva veebiseminar \n  \n  \nKliimamuutus on tegur\, millega peab metsanduses arvestama. Muutuv kliima vähendab meie metsade vastupanuvõimet tormidele\, kahjuritele ja põudadele. Ühtlasi on nende tegurite esinemise tõenäosus kasvutrendis. \nVeebiseminari eesmärk on tutvustada metsaomanikele potentsiaalseid riskitegureid ja võimalusi kahjude leevendamiseks. \nVeebiseminaril räägitakse järgmistel teemadel: \n\nkliimamuutuste põhjused;\nkliimamuutuste mõjud metsadele;\nkliimamuutused ja Eesti metsad;\nmillised metsad on vastupidavamad kliima-muutustele?;\nsoovitused metsamajandajatele – milliseid puistuid kasvatada?;\nsoovitused metsamajandajatele – kuidas muuta metsad vastupidavamaks tormidele?.\n\nVeebiseminari viivad läbi väga hinnatud esinejad Annela Anger-Kraavi ja Tiit Maaten. \n  \nVeebiseminar on TASUTA. Täpsem informatsioon veebiseminar kohta on leitav siit: https://pood.aripaev.ee/veebiseminar-kliimamuutused-meie-metsades. \n  \nMetsanduse teemal korraldatud tegevuses osalemise toetamine on riigiabi komisjoni määruse (EL) nr 702/2014 Euroopa Liidu toimimise lepingu artiklite 107 ja 108 kohaldamise kohta\, millega teatavat liiki abi põllumajandus- ja metsandussektoris ja maapiirkondades tunnistatakse siseturuga kokkusobivaks (ELT L 193\, 01.07.2014\, lk 1–75)\, artikli 38 tähenduses. \nAbil loetakse olevat ergutav mõju\, kui abisaaja on asjaomasele liikmesriigile esitanud kirjaliku abitaotluse enne projekti või tegevusega seotud töö alustamist. \nTaotluse veebiseminaril osalemissooviga saab täita (registreerimisvorm) SIIN. Kui millegipärast registreerimine ei õnnestu\, siis palun saatke kiri liina.aru@aripaev.ee. \n  \n  \nVeebiseminar toimub 26. oktoobril kell 10.00-13.15 internetis Äripäeva veebiseminaride keskkonnas.  Enne veebiseminari saadetakse registreerunud kasutajatele infomeil lingiga\, mille kaudu pääseb enne seminari algust veebiseminari keskkonda. \nSeminari on võimalik jälgida oma arvutist töökohal\, kodus või mujal Teile sobivas kohas ning selle jälgimiseks on tarvis arvutit\, internetiühendust ning mugavamaks kuulamiseks kõrvaklappe. Veebiseminari kestel on Teil võimalik esitada ka lektorile küsimusi\, mille saate kirjutada vestluse kasti. \nLisainfot veebiseminari kohta saab küsida kirjutades liina.aru@aripaev.ee. \n  \nVeebiseminar toimub MAK 2014-2020 “Teadmussiirde ja teavituse toetuse (meede 1) üleriigilise ulatusega tegevuste” meetme raames\, tegevust toetab Euroopa Liit. Toetus – infopäeval osaleja kohta 62\,00 eurot.
URL:https://test.pikk.ee/sundmus/kliimamuutused-meie-metsades/
CATEGORIES:Metsandus
END:VEVENT
END:VCALENDAR