BEGIN:VCALENDAR
VERSION:2.0
PRODID:-//METK nõuandeteenistus - ECPv6.15.13//NONSGML v1.0//EN
CALSCALE:GREGORIAN
METHOD:PUBLISH
X-WR-CALNAME:METK nõuandeteenistus
X-ORIGINAL-URL:https://test.pikk.ee
X-WR-CALDESC:Events for METK nõuandeteenistus
REFRESH-INTERVAL;VALUE=DURATION:PT1H
X-Robots-Tag:noindex
X-PUBLISHED-TTL:PT1H
BEGIN:VTIMEZONE
TZID:Europe/Tallinn
BEGIN:DAYLIGHT
TZOFFSETFROM:+0200
TZOFFSETTO:+0300
TZNAME:EEST
DTSTART:20210328T010000
END:DAYLIGHT
BEGIN:STANDARD
TZOFFSETFROM:+0300
TZOFFSETTO:+0200
TZNAME:EET
DTSTART:20211031T010000
END:STANDARD
BEGIN:DAYLIGHT
TZOFFSETFROM:+0200
TZOFFSETTO:+0300
TZNAME:EEST
DTSTART:20220327T010000
END:DAYLIGHT
BEGIN:STANDARD
TZOFFSETFROM:+0300
TZOFFSETTO:+0200
TZNAME:EET
DTSTART:20221030T010000
END:STANDARD
BEGIN:DAYLIGHT
TZOFFSETFROM:+0200
TZOFFSETTO:+0300
TZNAME:EEST
DTSTART:20230326T010000
END:DAYLIGHT
BEGIN:STANDARD
TZOFFSETFROM:+0300
TZOFFSETTO:+0200
TZNAME:EET
DTSTART:20231029T010000
END:STANDARD
END:VTIMEZONE
BEGIN:VEVENT
DTSTART;TZID=Europe/Tallinn:20220117T100000
DTEND;TZID=Europe/Tallinn:20220117T113000
DTSTAMP:20260423T082850
CREATED:20211220T141435Z
LAST-MODIFIED:20211220T141435Z
UID:10010082-1642413600-1642419000@test.pikk.ee
SUMMARY:Biomajanduse seminar "Innovatiivne biomajandus - tulevikustrateegiad ja -lahendused"
DESCRIPTION:17. jaanuaril 2022 kell 10.00-11.30 toimub biomajanduse seminar “Innovatiivne biomajandus – tulevikustrateegiad ja -lahendused”. \nAsukoht: Helsingis\, Snellmaninkatu 9-11 (Säätytalo). Liituda saab ka läbi Microsoft Teamsi. \nRegistreerimine on avatud 22. detsembrini 2021 SIIN. Teamsi link saadetakse registreerunutele vahetult enne seminari toimumist. \nBiomajandus põhineb taastuvate loodusvarade säästval ja vastutustundlikul kasutamisel. Säästev biomajandus on lahendus paljudele kliima ja bioloogilise mitmekesisusega seotud probleemidele. Seminaril käsitletakse võimalusi\, kuidas biomajanduse uuendused pakuvad Euroopale paremaid võimalusi liikuda vähese CO2-heitega ja ressursitõhusa ühiskonna ning jätkusuutliku majanduse poole.\nSeminaril tutvustatakse laialdaselt biomajanduse tähtsust tööstuste rohelisele ja kliimaneutraalsele majandusele üleminekul. See koondab Euroopa roheleppe ja jätkusuutliku majanduskasvu osana kõige aktuaalsemad biomajandussektorid ja uuendused. \nSeminari modereerib André Noël Chaker. Üritus toimub inglise keeles. \nSeminari korraldajaks on Soome Majandus- ja Tööministeerium.
URL:https://test.pikk.ee/sundmus/biomajanduse-seminar-innovatiivne-biomajandus-tulevikustrateegiad-ja-lahendused/
CATEGORIES:Keskkond,Metsandus
END:VEVENT
BEGIN:VEVENT
DTSTART;TZID=Europe/Tallinn:20220131T100000
DTEND;TZID=Europe/Tallinn:20220131T131500
DTSTAMP:20260423T082850
CREATED:20211115T121908Z
LAST-MODIFIED:20211115T121908Z
UID:10010020-1643623200-1643634900@test.pikk.ee
SUMMARY:Kuidas metsaomanikuna deklareerida oma tulusid ja kulusid?
DESCRIPTION:Kuidas metsaomanikuna deklareerida oma tulusid ja kulusid?\n31.01.2022\nÄripäeva veebiseminar \n\n\n\n\nVeebiseminari eesmärk on juhendada metsaomanike oma tulusid ja kulusid õigesti deklareerima.Veebiseminaril räägitakse järgmistel teemadel: \n\nkuidas deklaratsiooni esitada?;\nmetsamaa müügitulu\, soetamismaksumuse\, müügiga seotud kulu kajastamine (metsaomanik\, kes ei ole FIE ja FIE);\nraieõiguse ja metsamaterjali müügitulu\, soetamismaksumuse\, müügiga seotud kulu ja metsa majandamise kulude kajastamine (metsaomanik\, kes ei ole FIE ja FIE);\ndeklareeritud andmete alusel maksuvaba tulu suuruse arvutus\, mis suurendab kasvava metsa ja metsamaterjali müügi ning maksustamise erikorra kasutamise järel arvestusliku tulu suurust.\n\nVeebiseminari viib läbi Maksu ja Tolliameti peaspetsialist Xenia Rudakova. \nVeebiseminar on TASUTA. \nMetsanduse teemal korraldatud tegevuses osalemise toetamine on riigiabi komisjoni määruse (EL) nr 702/2014 Euroopa Liidu toimimise lepingu artiklite 107 ja 108 kohaldamise kohta\, millega teatavat liiki abi põllumajandus- ja metsandussektoris ja maapiirkondades tunnistatakse siseturuga kokkusobivaks (ELT L 193\, 01.07.2014\, lk 1–75)\, artikli 38 tähenduses. \nAbil loetakse olevat ergutav mõju\, kui abisaaja on asjaomasele liikmesriigile esitanud kirjaliku abitaotluse enne projekti või tegevusega seotud töö alustamist. \nTaotluse veebiseminaril osalemissooviga saab täita (registreerimisvorm) SIIN. Kui millegipärast registreerimine ei õnnestu\, siis palun saatke kiri liina.aru@aripaev.ee. Veebiseminari lisainfot leiate  siit. \nVeebiseminar toimub 31. jaanuaril kell 10.00-13.15 internetis Äripäeva veebiseminaride keskkonnas.  Enne veebiseminari saadetakse registreerunud kasutajatele infomeil lingiga\, mille kaudu pääseb enne seminari algust veebiseminari keskkonda. \nSeminari on võimalik jälgida oma arvutist töökohal\, kodus või mujal Teile sobivas kohas ning selle jälgimiseks on tarvis arvutit\, internetiühendust ning mugavamaks kuulamiseks kõrvaklappe. Veebiseminari kestel on Teil võimalik esitada ka lektorile küsimusi\, mille saate kirjutada vestluse kasti. \nLisainfot veebiseminari kohta saab küsida kirjutades liina.aru@aripaev.ee. \n  \nVeebiseminar toimub MAK 2014-2020 “Teadmussiirde ja teavituse toetuse (meede 1) üleriigilise ulatusega tegevuste” meetme raames\, tegevust toetab Euroopa Liit. Toetus – infopäeval osaleja kohta 62\,00 eurot.
URL:https://test.pikk.ee/sundmus/kuidas-metsaomanikuna-deklareerida-oma-tulusid-ja-kulusid/
CATEGORIES:Metsandus
END:VEVENT
END:VCALENDAR