BEGIN:VCALENDAR
VERSION:2.0
PRODID:-//METK nõuandeteenistus - ECPv6.15.13//NONSGML v1.0//EN
CALSCALE:GREGORIAN
METHOD:PUBLISH
X-WR-CALNAME:METK nõuandeteenistus
X-ORIGINAL-URL:https://test.pikk.ee
X-WR-CALDESC:Events for METK nõuandeteenistus
REFRESH-INTERVAL;VALUE=DURATION:PT1H
X-Robots-Tag:noindex
X-PUBLISHED-TTL:PT1H
BEGIN:VTIMEZONE
TZID:Europe/Tallinn
BEGIN:DAYLIGHT
TZOFFSETFROM:+0200
TZOFFSETTO:+0300
TZNAME:EEST
DTSTART:20210328T010000
END:DAYLIGHT
BEGIN:STANDARD
TZOFFSETFROM:+0300
TZOFFSETTO:+0200
TZNAME:EET
DTSTART:20211031T010000
END:STANDARD
BEGIN:DAYLIGHT
TZOFFSETFROM:+0200
TZOFFSETTO:+0300
TZNAME:EEST
DTSTART:20220327T010000
END:DAYLIGHT
BEGIN:STANDARD
TZOFFSETFROM:+0300
TZOFFSETTO:+0200
TZNAME:EET
DTSTART:20221030T010000
END:STANDARD
BEGIN:DAYLIGHT
TZOFFSETFROM:+0200
TZOFFSETTO:+0300
TZNAME:EEST
DTSTART:20230326T010000
END:DAYLIGHT
BEGIN:STANDARD
TZOFFSETFROM:+0300
TZOFFSETTO:+0200
TZNAME:EET
DTSTART:20231029T010000
END:STANDARD
END:VTIMEZONE
BEGIN:VEVENT
DTSTART;TZID=Europe/Tallinn:20220404T100000
DTEND;TZID=Europe/Tallinn:20220404T170000
DTSTAMP:20260420T073814
CREATED:20220322T064447Z
LAST-MODIFIED:20220322T064648Z
UID:10010183-1649066400-1649091600@test.pikk.ee
SUMMARY:Konverents „Metsakasvatuse tulevik Eestis muutuvates kliimatingimustes“
DESCRIPTION:Konverents Tartus „Metsakasvatuse tulevik Eestis muutuvates kliimatingimustes“ 04.04.2022 algusega 10.00 \nMetsamaja kaldauditoorium 1A5\, Kreutzwaldi 5\, Tartu 51006 \nEttekandjad: \nEesti Maaülikooli professor Veiko Uri \nTartu Ülikooli Ökoloogia ja maateaduste instituut Jaan Liira \nCambridge’i Ülikooli kliimamuutuste poliitika uurimisgrupi teadusdirektor Annela Anger-Kraavi \nMaaeluministeeriumi esindaja räägib tulevase toetusperioodi metsataimetootmise toetamisest. \n  \nPäevakava täieneb jooksvalt \n  \nKonverentsi korraldamist toetab MAK 2014-2020 meede 1.1 \nKorraldaja: OÜ Eesti Metsataim \nRegistreerimine: info@eestimetsataim.ee\, 5117968
URL:https://test.pikk.ee/sundmus/konverents-metsakasvatuse-tulevik-eestis-muutuvates-kliimatingimustes/
CATEGORIES:Metsandus
ORGANIZER;CN="O%C3%9C Eesti Metsataim":MAILTO:info@eestimetsataim.ee
END:VEVENT
BEGIN:VEVENT
DTSTART;TZID=Europe/Tallinn:20220405T170000
DTEND;TZID=Europe/Tallinn:20220405T183000
DTSTAMP:20260420T073814
CREATED:20220324T100525Z
LAST-MODIFIED:20220324T101016Z
UID:10010187-1649178000-1649183400@test.pikk.ee
SUMMARY:Puutuhk kui väärtuslik väetis koduaeda ja metsa (veebikoolitus)
DESCRIPTION:Täpsem info ja registreerumine SIIN \nKoolitus sobib enesetäiendamiseks kõigile (sh hobiaednikele)\, kes soovivad koguda teadmisi puutuha kasutamise erinevatest võimalustest väetisena koduaias või metsas. \nKoolitus annab ülevaate puutuha kui toitainerikka ja väärtusliku lubiväetise omadustest ning mõjust mulla keemilistele omadustele ja taimede kasvule. \nKoolituse põhiteemad: \n\nMida endast kujutab puutuhk – on see jääde või väärtuslik looduslähedane lubiväetisaine?\nPuutuha keemiline koostis (pH\, makro- ja mikroelemendid sh raskmetallid)\, seda mõjutavad tegurid ja puutuha peamised tekkekohad Eestis.\nPuutuha mõju mulla keemilistele omadustele (pH tõus\, elementide leostumine jms).\nKuidas\, millal ja milliste liikide puhul kasutada puutuhka koduaias?\nPuutuhk ja mets\, mõju bioloogilisele mitmekesisusele – Eesti ja Skandinaavia kogemus\nPuutuha kasutamise ohutud võtted – mida on oluline teada nii kasutaja kui taime seisukohast?\n\nTegemist on tasulise koolitusega\, hinnaga 20 eurot. \nKoolituse korraldaja:\nEesti Maaülikooli avatud ülikool\nFr. R. Kreutzwaldi 56/1\n51006 Tartu\,\ntel 731 3275\ne-post: avayl@emu.ee\nhttp://avatudylikool.emu.ee/
URL:https://test.pikk.ee/sundmus/puutuhk-kui-vaartuslik-vaetis-koduaeda-ja-metsa-veebikoolitus/
LOCATION:Veebis\, Eesti
CATEGORIES:Aiandus,Bioenergia ja biomajandus,Keskkond,Mahemajandus,Metsandus,Süsinik,Taimekaitse,Taimekasvatus
END:VEVENT
END:VCALENDAR