BEGIN:VCALENDAR
VERSION:2.0
PRODID:-//METK nõuandeteenistus - ECPv6.15.13//NONSGML v1.0//EN
CALSCALE:GREGORIAN
METHOD:PUBLISH
X-ORIGINAL-URL:https://test.pikk.ee
X-WR-CALDESC:Events for METK nõuandeteenistus
REFRESH-INTERVAL;VALUE=DURATION:PT1H
X-Robots-Tag:noindex
X-PUBLISHED-TTL:PT1H
BEGIN:VTIMEZONE
TZID:Europe/Tallinn
BEGIN:DAYLIGHT
TZOFFSETFROM:+0200
TZOFFSETTO:+0300
TZNAME:EEST
DTSTART:20210328T010000
END:DAYLIGHT
BEGIN:STANDARD
TZOFFSETFROM:+0300
TZOFFSETTO:+0200
TZNAME:EET
DTSTART:20211031T010000
END:STANDARD
BEGIN:DAYLIGHT
TZOFFSETFROM:+0200
TZOFFSETTO:+0300
TZNAME:EEST
DTSTART:20220327T010000
END:DAYLIGHT
BEGIN:STANDARD
TZOFFSETFROM:+0300
TZOFFSETTO:+0200
TZNAME:EET
DTSTART:20221030T010000
END:STANDARD
BEGIN:DAYLIGHT
TZOFFSETFROM:+0200
TZOFFSETTO:+0300
TZNAME:EEST
DTSTART:20230326T010000
END:DAYLIGHT
BEGIN:STANDARD
TZOFFSETFROM:+0300
TZOFFSETTO:+0200
TZNAME:EET
DTSTART:20231029T010000
END:STANDARD
END:VTIMEZONE
BEGIN:VEVENT
DTSTART;TZID=Europe/Tallinn:20220517T113000
DTEND;TZID=Europe/Tallinn:20220517T163000
DTSTAMP:20260424T181855
CREATED:20220502T065434Z
LAST-MODIFIED:20220523T102504Z
UID:10010228-1652787000-1652805000@test.pikk.ee
SUMMARY:Infopäev: Kuuse-kooreüraski kahjustuse ennetamine metsas
DESCRIPTION:Infopäev toimub 17.05.2022\, kell 11.30-16.30. \nRegistreerimine SIIN \nAuskoht: Kassinurme Linnamägi\, Jõgeva vald\, Jõgevamaa \n  \nAjakava: \n11.30-12.30 Teoreetiline osa \n12.30-12.45 puhkepaus \n12.45-16.30 Praktiline osa metsas \nKassinurme Linnamägi\, Jõgeva vald\, Jõgevamaa \nLektor on Heino Õunap metsaentomoloog \nEttekande failid: 1\, 2\, 3 \nMetsanduse teemal korraldatud tegevuses osalemise toetamine on riigiabi komisjoni määruse (EL) nr 702/2014 Euroopa Liidu toimimise lepingu artiklite 107 ja 108 kohaldamise kohta\, millega teatavat liiki abi põllumajandus- ja metsandussektoris ja maapiirkondades tunnistatakse siseturuga kokkusobivaks (ELT L 193\, 01.07.2014\, lk 1–75)\, artikli 38 tähenduses. \nOsaleja peab osavõtulehel kinnitama\, et ettevõte ei ole raskustes komisjoni määruste (EL) nr 702/2014 art 2 tähenduses ning ettevõttel ei ole täitmata kohustusi ebaseaduslikuks ja siseturuga kokkusobimatuks tunnistatud abi tagasimaksmise kohta. \nInfopäev toimub MAK 2014-2020 “Teadmussiirde ja teavituse toetuse üleriigilise ulatusega tegevuste” meetme raames\, tegevust toetab Euroopa Liit
URL:https://test.pikk.ee/sundmus/infopaev-kuuse-kooreuraski-kahjustuse-ennetamine-metsas/
LOCATION:Jõgevamaa\, Jõgevamaa\, Eesti
CATEGORIES:Metsandus
ORGANIZER;CN="Maaelu Edendamise Sihtasutus":MAILTO:angelika.nops@pikk.ee
END:VEVENT
END:VCALENDAR