BEGIN:VCALENDAR
VERSION:2.0
PRODID:-//METK nõuandeteenistus - ECPv6.15.13//NONSGML v1.0//EN
CALSCALE:GREGORIAN
METHOD:PUBLISH
X-WR-CALNAME:METK nõuandeteenistus
X-ORIGINAL-URL:https://test.pikk.ee
X-WR-CALDESC:Events for METK nõuandeteenistus
REFRESH-INTERVAL;VALUE=DURATION:PT1H
X-Robots-Tag:noindex
X-PUBLISHED-TTL:PT1H
BEGIN:VTIMEZONE
TZID:Europe/Tallinn
BEGIN:DAYLIGHT
TZOFFSETFROM:+0200
TZOFFSETTO:+0300
TZNAME:EEST
DTSTART:20200329T010000
END:DAYLIGHT
BEGIN:STANDARD
TZOFFSETFROM:+0300
TZOFFSETTO:+0200
TZNAME:EET
DTSTART:20201025T010000
END:STANDARD
BEGIN:DAYLIGHT
TZOFFSETFROM:+0200
TZOFFSETTO:+0300
TZNAME:EEST
DTSTART:20210328T010000
END:DAYLIGHT
BEGIN:STANDARD
TZOFFSETFROM:+0300
TZOFFSETTO:+0200
TZNAME:EET
DTSTART:20211031T010000
END:STANDARD
BEGIN:DAYLIGHT
TZOFFSETFROM:+0200
TZOFFSETTO:+0300
TZNAME:EEST
DTSTART:20220327T010000
END:DAYLIGHT
BEGIN:STANDARD
TZOFFSETFROM:+0300
TZOFFSETTO:+0200
TZNAME:EET
DTSTART:20221030T010000
END:STANDARD
END:VTIMEZONE
BEGIN:VEVENT
DTSTART;VALUE=DATE:20210323
DTEND;VALUE=DATE:20210324
DTSTAMP:20260423T055418
CREATED:20210304T071329Z
LAST-MODIFIED:20210316T090957Z
UID:10007865-1616457600-1616543999@test.pikk.ee
SUMMARY:Riskijuhtimine nõustajale (loomakasvatuse ja veterinaaria moodul)
DESCRIPTION:Koolitusel osalemise eeltingimuseks on eelnevalt läbitud üldmoodul. \nKoolitus toimub 23. ja 30 märtsil 2021.\nKoolitus toimub veebikeskkonnas videosild.emu.ee keskkonnas. \nLoomakasvatuse ja veterinaaria mooduli läbinud õppija: \n\nteab loomakasvatuse riske ja riskide juhtimise võimalusi\, oskab pakkuda lahendusi riskide minimeerimiseks;\nteab esmaseid põhimõtteid loomakasvatusettevõtte karjaterviseprogrammi juhtimiseset;\nteab tootmisprotsessi kaardistamisest\, looma tervise- ja heaoluriskide hindamisest ja monitooringust;\nmõistab riskijuhtimise olulisust põllumajandusliku tegevuse jätkusuutlikkuse osana;\noskab leida kitsaskohti riskide hindamisel\, mõõtmisel ja juhtimisel ning pakub välja lahendusi.\n\nAJAKAVA:\n \n23. märts 2021\n9.00 – 9.15 – Kogunemine videokeskkonda\n9.15 – 10.00 – Karjaterviseprogramm kui meetod riskide hindamiseks ja juhtimiseks piimaveisekarjas – Kerli Mõtus\, EMÜ\n10.00 – 10.45 – Udaratervise programmi rakendamine farmis – Piret Kalmus\, EMÜ\n10.45 – 11.00 – Paus\n11.00 – 11.45 – Noorkarja terviseriskid ja nende ohjamine farmis – Kerli Mõtus\, EMÜ\n11.45 – 12.30 – Veiste söötadest tulenevad riskid – Andres Olt\, EMÜ\n12.30 – 13.30 – Paus\n13.30 – 14.15 – Ainevahetushaiguste riskide hindamine farmis – Piret Kalmus\, EMÜ\n14.15 – 15.00 – Grupitöö – ettevalmistus II õppepäeva karjatervise visiidiks – Kerli Mõttus\, Piret Kalmus\, Andres Olt\, EMÜ \n30. märts 2021\nTulenevalt hetkeolukorrast ei ole võimalik külastada Eerika farmi.\nSelle asemel tuleb läbi viia riskihindamine enda poolt valitud farmis ettevalmistatud materjalide põhjal. \nSihtrühm:\n1) kehtiva kutsetunnistusega konsulent või isik\, kelle konsulendi kutsetunnistuse kehtivusaeg on lõppenud;\n2) põllu- või maamajandusliku nõuandetegevusega tegelev nõustaja või\n3) põllu- või maamajanduslikust nõuandetegevusest huvitatud isik Euroopa Liidu ühise põllumajanduspoliitika rakendamise seaduse § 71 lõikes 1 sätestatud valikumenetluse kohaselt valitud nõustamisteenuse osutaja nõusolekul. \nRegistreeruda moodulile saab SIIN \nKoolituse tellija: Põllumajanduse Registrite ja Informatsiooni Amet (PRIA) \nTegevus finantseeritakse Euroopa Maaelu Arengu Põllumajandusfond´i (EAFRD) vahenditest. \nKontakt ja täiendav info: Jaana Orin\, Mob: +372 5213304\, E-post: jaana.orin@emu.ee
URL:https://test.pikk.ee/sundmus/riskijuhtimine-noustajale-loomakasvatuse-ja-veterinaaria-moodul/
LOCATION:Tartumaa\, Eesti
CATEGORIES:Finantsmajandus,Loomakasvatus,Maaettevõtlus,Turundus,Ühistegevus
GEO:58.4057128;26.801576
END:VEVENT
END:VCALENDAR