BEGIN:VCALENDAR
VERSION:2.0
PRODID:-//METK nõuandeteenistus - ECPv6.15.13//NONSGML v1.0//EN
CALSCALE:GREGORIAN
METHOD:PUBLISH
X-WR-CALNAME:METK nõuandeteenistus
X-ORIGINAL-URL:https://test.pikk.ee
X-WR-CALDESC:Events for METK nõuandeteenistus
REFRESH-INTERVAL;VALUE=DURATION:PT1H
X-Robots-Tag:noindex
X-PUBLISHED-TTL:PT1H
BEGIN:VTIMEZONE
TZID:Europe/Tallinn
BEGIN:DAYLIGHT
TZOFFSETFROM:+0200
TZOFFSETTO:+0300
TZNAME:EEST
DTSTART:20200329T010000
END:DAYLIGHT
BEGIN:STANDARD
TZOFFSETFROM:+0300
TZOFFSETTO:+0200
TZNAME:EET
DTSTART:20201025T010000
END:STANDARD
BEGIN:DAYLIGHT
TZOFFSETFROM:+0200
TZOFFSETTO:+0300
TZNAME:EEST
DTSTART:20210328T010000
END:DAYLIGHT
BEGIN:STANDARD
TZOFFSETFROM:+0300
TZOFFSETTO:+0200
TZNAME:EET
DTSTART:20211031T010000
END:STANDARD
BEGIN:DAYLIGHT
TZOFFSETFROM:+0200
TZOFFSETTO:+0300
TZNAME:EEST
DTSTART:20220327T010000
END:DAYLIGHT
BEGIN:STANDARD
TZOFFSETFROM:+0300
TZOFFSETTO:+0200
TZNAME:EET
DTSTART:20221030T010000
END:STANDARD
END:VTIMEZONE
BEGIN:VEVENT
DTSTART;TZID=Europe/Tallinn:20210616T103000
DTEND;TZID=Europe/Tallinn:20210616T140000
DTSTAMP:20260424T004231
CREATED:20210527T092248Z
LAST-MODIFIED:20210923T072141Z
UID:10009861-1623839400-1623852000@test.pikk.ee
SUMMARY:Ekspordivõimekuse programmi rahvusvaheline avakonverents Ekspordivägi
DESCRIPTION:Kutsume kõiki sektori ettevõtteid osalema Eesti toidusektori ekspordivõimekuse programmi Ekspordivägi rahvusvahelisel avakonverentsil 16. juunil 2021 algusega kell 10.30 Cinamon kinos kaubanduskeskuses T1. Konverentsi modereerib Anu-Mall Naarits Marketingi Instituudist. \nMiks osaleda: \n\nkuulame rahvusvahelist parimat kogemust toidu ekspordis Itaalia maailmakuulsa toidu näitel ja mõistame\, mis neid edukaks on teinud;\narutleme\, missugused võimalused on ringmajanduses toidusektorile ning kuidas seda Eestis ära kasutada;\nuurime\, missugustel turgudel ja sektorites saaks Eesti toitu kõige suurema lisandväärtusega müüa;\nõpime süsteemselt eksportijate praktikast uutele turgudele sisenemisel ja arutleme\, kuidas peale koroona-aega ekspordis #kooskaugemale liikuda;\nsaada kokku teiste ettevõtetega sektorist\, et omavahel kogemusi vahetada.\n\nAvakonverentsi päevakava \n10.30-11.00 Kogunemine ja tervituskohv \n11.00-11.15 Avasõnad ja koolitusprojekti lühitutvustus \n11.15-11.30 Koos kaugele: Itaalia kogemus toidu ekspordist.  \nEsineja Martina Vazzoler (IT) on Itaalia Toidu Ekspordi kooli õppejõud ja digitaalsete turuplatside ekspert\, kes on kaardistanud toidusektori võrgustikud üle maailma ja avaldanud raamatu “Selling Online with the Marketplace Maps”. \n  \nEttekande slaidid \n  \n11.30-11.45 Arutelu ja koosmõtlemine. \n11.45-12.15 Ringmajandus toidusektoris: mida ootab Euroopa? \nEsineja Frank Graage (GER) on konsultatisoonifirma Steinbeis teadmus- ja tehnoloogiasiirde juht Berliinis\, kes koordineerib Põhjala ja Balti teadusprojekte loodusteaduste valdkonnas. \nEttekande slaidid \n  \n  \n12.15-12.45 Mis turgudel teenida Eesti toiduga raha?   \nEsineja Jean Sutton (UK) on rahvusvahelise turu-uuringute firma ActionLine juht. Ta on koolitanud eksportijaid üle maailma ning viimase 10 aasta jooksul ka Eestis. Ta teeb ülevaate turgudest\, kus toidu lisandväärtus on suur ning trend kasvav. \nEttekande slaidid \n  \n12.45-13.15 Paneelarutelu: Eesti toidu väljakutsed rahvusvahelistel turgudel  \nPaneeldiskussioonil jagavad ekspordikogemust Janek Kalbin (Chaga Health)\, Krista Kulderknup (Organic Estonia) ja Kristi Lehtis (Chocolala). \n  \n13.15-13.30 Arutelude kokkuvõte ja lõpusõnad \n13.30-13.40 Tagasiside kogumine ja loosimine tagasiside täitjate vahel \n13.40-14.00 Networking kohviga \nKonverents on sünkroontõlkega. \nHind: konverents on osalejatele TASUTA. Igale osalejale üllatuskingitus! \nJärelvaatamiseks kliki siin\n* Korraldaja jätab endale õiguse teha vajadusel päevakavas muudatusi. Konverentsil saab osaleda Zoomi vahendusel. Zoomi link saadetakse registreerunutele päev enne konverentsi toimumist. \nTeadmussiirde pikaajaline programm toidusektori müügivõime edenduse tegevusvaldkonnas viiakse ellu “Eesti maaelu arengukava 2014–2020” meetme „Teadmussiire ja teavitus“  tegevuse liigi „Pikaajalised programmid“ raames ning seda rahastatakse Euroopa Maaelu Arengu Põllumajandusfondist (EAFRD).
URL:https://test.pikk.ee/sundmus/28859/
LOCATION:Harjumaa\, Harjumaa\, Eesti
CATEGORIES:Bioenergia ja biomajandus,Keskkond,Maaettevõtlus,Mesindus,Toiduainete tootmine,Turundus,Ühistegevus
ORGANIZER;CN="Visionest Institute / Marketingi Instituut":MAILTO:gloria.saarna@mi.ee
END:VEVENT
END:VCALENDAR