BEGIN:VCALENDAR
VERSION:2.0
PRODID:-//METK nõuandeteenistus - ECPv6.15.13//NONSGML v1.0//EN
CALSCALE:GREGORIAN
METHOD:PUBLISH
X-WR-CALNAME:METK nõuandeteenistus
X-ORIGINAL-URL:https://test.pikk.ee
X-WR-CALDESC:Events for METK nõuandeteenistus
REFRESH-INTERVAL;VALUE=DURATION:PT1H
X-Robots-Tag:noindex
X-PUBLISHED-TTL:PT1H
BEGIN:VTIMEZONE
TZID:Europe/Tallinn
BEGIN:DAYLIGHT
TZOFFSETFROM:+0200
TZOFFSETTO:+0300
TZNAME:EEST
DTSTART:20190331T010000
END:DAYLIGHT
BEGIN:STANDARD
TZOFFSETFROM:+0300
TZOFFSETTO:+0200
TZNAME:EET
DTSTART:20191027T010000
END:STANDARD
BEGIN:DAYLIGHT
TZOFFSETFROM:+0200
TZOFFSETTO:+0300
TZNAME:EEST
DTSTART:20200329T010000
END:DAYLIGHT
BEGIN:STANDARD
TZOFFSETFROM:+0300
TZOFFSETTO:+0200
TZNAME:EET
DTSTART:20201025T010000
END:STANDARD
BEGIN:DAYLIGHT
TZOFFSETFROM:+0200
TZOFFSETTO:+0300
TZNAME:EEST
DTSTART:20210328T010000
END:DAYLIGHT
BEGIN:STANDARD
TZOFFSETFROM:+0300
TZOFFSETTO:+0200
TZNAME:EET
DTSTART:20211031T010000
END:STANDARD
END:VTIMEZONE
BEGIN:VEVENT
DTSTART;VALUE=DATE:20201207
DTEND;VALUE=DATE:20201208
DTSTAMP:20260426T033127
CREATED:20201123T121019Z
LAST-MODIFIED:20201207T101225Z
UID:10009750-1607299200-1607385599@test.pikk.ee
SUMMARY:Köögiviljakasvatuse infopäev: taimekaitse
DESCRIPTION:Eesti Maaülikool korraldab köögiviljakasvatuse infopäeva\, kus antakse ülevaade köögiviljakasvatuse aastast taimekahjustajate leviku aspektist lähtuvalt ning tutvustatakse erinevaid taimekaitse võimalusi köögiviljade kasvatamisel. \nAeg: 07. detsember 2020\, kell 10.00 – 14.00\nToimumiskoht:  EMÜ Mahekeskus\, Eerika tee 2\, Õssu küla\, Kambja vald\, Tartumaa\, 61713   ja veebikeskkond BigBlueButton \nPäevakava:\n9.45 Kogunemine\, kohv\n10.00 – 11.30 Köögiviljanduse aasta 2020: tagasivaade olulisemate kahjustajate levikule. Peamiste kahjustajate tõrje võimalused. Tiiu Annuk\, Põllumeeste ühistu KEVILI agronoom.\n11.30 – 12.00 Innovaatilised lahendused kahjustajate seireks ja keskkonnasõbralikuks tõrjeks: ülevaade projekti SMARTPROTECT (https://www.smartprotect-h2020.eu/) tegevustest. EMÜ aianduse õppetooli lektor Priit Põldma.\n12.00 – 12.30 Lõunapaus\n12.30 – 13.00 Köögiviljadele lubatud taimekaitsevahenditest ja muudatustest lähiajal. Rauno Aljas\, Põllumajandusamet\n13.00 – 13.40 Köögiviljade kahjustajate tõrje võimalused avamaal ja kasvuhoones. Ingrid Tamla\, Nordisk Alkali.\n13.40 – 14.00 Arutelu\, kohapeal tekkinud küsimused. \nInfopäev on planeeritud kontaktüritusena\, kus rakendatakse kõiki võimalikke ohutusmeetmeid\, et kaitsta kõigi tervist. Eelnevalt registreerunutel on võimalik infopäeval osaleda ka läbi veebi vahenduse. Täpsemad juhised  ja link osalemiseks saadetakse registreerunutele päev enne infopäeva. \nInfopäev on tasuta\, osalemiseks on vajalik eelregistreerumine hiljemalt 4. detsembriks siin: https://bit.ly/taimekaitse20 \nOluline praktiline info: \n\nPalun ära osale sündmusel\, kui oled viimase 14 päeva jooksul tundunud ennast halvasti või viibinud lähikontaktis COVID-19 positiivse inimesega.\nÜritusel järgime hajutatuse nõuet\, koos võivad istuda ühiselt üritusele tulnud väiksemad seltskonnad\nCovid19 viiruse leviku takistamiseks on maski kandmine kohustuslik! Võimalusel võta kaasa enda (korduvkasutatav) mask\, vajadusel saad selle kohapealt\nKohapeal on olemas desinfitseerimisvahendid\nLae alla HOIA rakendus (https://hoia.me)\n\n  \nLisainfo e-postilt: priit.poldma@emu.ee\nInfopäev toimub “Teadmussiirde pikaajaline programm aianduse tegevusvaldkonnas ” raames\, toetab Euroopa Liit.
URL:https://test.pikk.ee/sundmus/koogiviljakasvatuse-infopaev-taimekaitse/
LOCATION:Tartumaa\, Eesti
CATEGORIES:Aiandus
GEO:58.4057128;26.801576
END:VEVENT
BEGIN:VEVENT
DTSTART;VALUE=DATE:20201208
DTEND;VALUE=DATE:20201209
DTSTAMP:20260426T033127
CREATED:20201005T110512Z
LAST-MODIFIED:20201123T082433Z
UID:10009693-1607385600-1607471999@test.pikk.ee
SUMMARY:Veebipõhine infopäev "Silo tootmine"
DESCRIPTION:Toimumisaeg 8. detsember 2020\nInfopäev toimub veebipõhiselt BigBlueButton keskkonnas\nTäpsemad juhised koolituse läbimiseks saadame registreerunud osalejatele meilile.\nKõige üldisemad soovitused veebiseminaril osalemiseks:\n– Veebiseminari sisenemise link saadetakse enne seminari algust registreerumisel märgitud e-postile.\n– BBB kasutamiseks on vaja kiiret internetiühendust (võimalusel kaabliga\, mitte wifit).\n– Audio kuulamiseks on vaja kõrvaklappe või kõlareid\, rääkimiseks mikrofoni ning enda videopildi edastamiseks veebikaamerat. (Kui kahte viimast ei ole\, saab ikkagi õppes osaleda.)\n– BBB kasutamiseks sobib kõige paremini Google Chrome. Sellele järgneb Firefox ning Opera. Teiste veebilehitsejega võib esineda probleeme helikvaliteedis ning ekraanijagamisel. Internet Exploreriga BBB ei tööta. \n– Kui kuulate seminari\, on soovitatav oma mikrofon välja lülitada\, et teie ruumi taustahelid seminariruumi ei kostaks. Lülitage mikrofon sisse vaid siis\, kui teil on vajadus rääkida.\n– Kui te soovite esinejale küsimust esitada\, siis on seda võimalik teha vestluse aknas. \nLektor Andres Olt\, EMÜ VLST sööda ja ainevahetuse uurimise laboratooriumi juhataja \nAjakava \n9.45 – 10.00 sisenemine veebiruumi ja sissejuhatus \n10.00 – 11.30 õppetöö\n11.30 – 11.45 paus\n11.45 – 13.15 õppetöö \nSisu\n– Silo kvaliteeti mõjutavad tegurid.\n– Mida põhjustavad võihappebakterid silos?\n– Silo analüüsitulemuste tõlgendamine\n– Arutelu silotootmisega seotud teemadel. \nToimunud infopäevade ettekanded leiab SIIT. \nInfopäev toimub programmi “Teadmussiirde pikaajaline programm loomakasvatuse valdkonnas” raames ja on osalejatele tasuta. Koolitus on rahastatud Eesti maaelu arengukava 2014 – 2020 vahenditest.Osalemine on tasuta\, vajalik on eelregistreerimine! Seda saate teha SIIN. \nKorraldab\nEesti Maaülikooli avatud ülikool​\nKreutzwaldi 56/1 (III korrus\, ruumid 303-306)\,\n51006 Tartu\ntel 731 3174\, 731 3175\, 731 3275\, 5344 1844\ne-post: avayl@emu.ee 
URL:https://test.pikk.ee/sundmus/infopaev-silo-tootmine/
LOCATION:Tartumaa\, Eesti
CATEGORIES:Loomakasvatus
ORGANIZER;CN="Eesti Maa%C3%BClikooli avatud %C3%BClikool":MAILTO:avayl@emu.ee
GEO:58.4057128;26.801576
END:VEVENT
BEGIN:VEVENT
DTSTART;VALUE=DATE:20201208
DTEND;VALUE=DATE:20201209
DTSTAMP:20260426T033127
CREATED:20201125T111136Z
LAST-MODIFIED:20201125T111136Z
UID:10007807-1607385600-1607471999@test.pikk.ee
SUMMARY:Infopäev „Põllumajandusliku äriühingu raamatupidamine“
DESCRIPTION:Tartumaa põllumeeste liit korraldab 8. detsembril 10.00-14.00 Viljandis Vabaduse plats 4 III k saalis tasuta Aino Vooro koolituse „Põllumajandusliku äriühingu raamatupidamine“. \nTeemad: \nmajandusaasta aruande koostamise eripära põllumajandusettevõttes; \nvarude arvestus põllumajandusettevõttes ja raamatupidamise erisused; \nbioloogiline vara. Mida käsitletakse bioloogilise varana ja kuidas seda hinnata\, bioloogilise vara arvestuse iseärasused ja väärtuse muutumine; \nsihtfinantseerimine ja selle kajastamine raamatupidamises; \nmillele tuleks tähelepanu pöörata maksuarvestuses (erisoodustus\, ettevõtlusega mitteseotud kulud\, käibemaks\, tööjõumaksud). \nOsalejatele tasuta Aino Vooro parandatud ja täiendatud trükis „Bioloogiliste varade kajastamine raamatupidamises“. \nRegistreerimine: https://forms.gle/GUS5Nqy5iaduqqnm9 \nPalun aegsasti registreerida\, sest peame jälgima tervisekaitse nõudeid – osalejaid mitte üle 30\, kindlustame maskide ja desinfitseerimisvahendiga. \nLisainfo 508 7320.
URL:https://test.pikk.ee/sundmus/infopaev-pollumajandusliku-ariuhingu-raamatupidamine-2/
LOCATION:Viljandimaa\, Viljandimaa\, Eesti
CATEGORIES:Finantsmajandus
GEO:58.2821746;25.5752233
END:VEVENT
BEGIN:VEVENT
DTSTART;VALUE=DATE:20201209
DTEND;VALUE=DATE:20201210
DTSTAMP:20260426T033127
CREATED:20201002T114903Z
LAST-MODIFIED:20201207T103531Z
UID:10007760-1607472000-1607558399@test.pikk.ee
SUMMARY:Koolitus Söödaratsiooni koostamine piimalehmadele
DESCRIPTION:Toimumiskoht Tartu\nEesti Maaülikool Kreutzwaldi 56/1 auditoorium A 302 (arvutiklass) või Big Blue Button keskkond\nÕpe toimub hübriidõppena – osad osalejad on auditooriumis ja osad veebiruumis. \nToimumisaeg 9.12.2020 \nAjakava\n9.15 – 9.30 registreerimine\, sissejuhatus\n9.30 – 11.00 õppetöö\n11.00 – 11.45 lõuna\n11.45 – 13.15 õppetöö\n13.15 – 13.30 paus\n13.30 – 15.00 õppetöö \nLektorid: \nMeelis Ots\, Eesti Maaülikooli söötmisteaduse õppetooli professor\nPriit Karis\,Eesti Maaülikooli söötmisteaduse õppetooli nooremteadur \nSisu: \n* Söödaratsiooni koostamise alused\n* Praktiline söödaratsioonide koostamine \nNB!\nSellel koolitusel on vajalik arvuti olemasolu\, hea oleks kui osalejatel on kaasas oma farmi söödad millega ratsioon koostada. \n\n\n\nKoolitus toimub programmi “Teadmussiirde pikaajaline programm loomakasvatuse valdkonnas” raames ja on sihtrühmale tasuta. Koolitus on rahastatud Eesti maaelu arengukava 2014 – 2020 vahenditest.\n\n\n\nOsalemissoovi korral on vajalik eelregistreerimine: \nauditoorsele osalemisele saate registreeruda SIIT \nveebirühma saate registreeruda SIIT \nEesti Maaülikooli avatud ülikool​\nKreutzwaldi 56/1 (III korrus\, ruumid 303-306)\,\n51006 Tartu\ntel 731 3174\, 731 3175\, 731 3275\, 5344 1844\ne-post: avayl@emu.ee
URL:https://test.pikk.ee/sundmus/koolitus-soodaratsiooni-koostamine-piimalehmadele/
LOCATION:Tartumaa\, Eesti
CATEGORIES:Loomakasvatus
GEO:58.4057128;26.801576
END:VEVENT
BEGIN:VEVENT
DTSTART;VALUE=DATE:20201209
DTEND;VALUE=DATE:20201210
DTSTAMP:20260426T033127
CREATED:20201106T063625Z
LAST-MODIFIED:20201210T072321Z
UID:10009730-1607472000-1607558399@test.pikk.ee
SUMMARY:Teraviljafoorum 2020: Muutuvad keskkonnanõuded Eesti teraviljasektoris
DESCRIPTION:EPKK Teraviljafoorum 2020: Muutuvad keskkonnanõuded Eesti teraviljasektoris toimub virtuaalselt 9. detsembril kella 10 – 16.30. \nNB! Foorumile palume registreeruda kuni 8. detsembrini  SIIN.  Registreerunutele saadame lingi osalemiseks 9. detsembri hommikul. \nTeraviljafoorumi eesmärgiks on analüüsida Eesti teraviljasektori väljavaateid muutuvate keskkonnanõuete ja uute strateegiliste eesmärkide tingimustes. Foorumil käsitletakse teemasid\, mis on seotud Eesti teraviljakasvatuse majandusliku ja keskkonnaalase jätkusuutlikkusega. Käimas on arutelud ühise põllumajanduspoliitika Eesti strateegiakava üle aastateks 2021-2027\, millel on oluline mõju meie teraviljasektorile. Foorum keskendub ka säästvale taimekaitsele arvestades\, et taimekaitsevahendite valik turul muutub üha ahtamaks ja ühiskond seab tootmisele üha rangemaid nõudmisi keskkonnakaitse osas. Euroopa Komisjon on Euroopa roheleppe osaks olevate „Talust taldrikule“ ja elurikkuse strateegiate raames seadnud ambitsioonikad eesmärgid keemiliste taimekaitsevahendite ja väetiste kasutamise vähendamiseks põllumajandustootmises. Teraviljasektorit hakkab otseselt mõjutama eesmärk vähendada 2030. aastaks keemiliste pestitsiidide kasutamist ja nendega seotud riski 50%\, toitainete kadu vähemalt 50% ja väetiste kasutamist vähemalt 20%. Samuti soovitakse suurendada mahepõllumaa osakaalu vähemalt 25%-ni. Elurikkuse strateegia raames soovitakse lisaks ka kaitsta 30% kogu EL maismaast\, sh rangelt kaitsta 10% EL maismaast\, parandada tolmeldajate olukorda ning 10% põllumajandusmaast jätta tootmisest välja elurikkuse suurendamise eesmärgil. \nP Ä E V A K A V A \n09.40 – 10.00 – Veebikeskkonna avamine \nI sessioon: Ühine põllumajanduspoliitika 2021-2027 \n10.00 – 10.15 Sissejuhatus – Jaak Läänemets\, EPKK teraviljatoimkonna esimees \n10.15 – 11.00 EL ühise põllumajanduspoliitika strateegiakava hetkeseis ja roheleppe strateegiad – Katrin Rannik\, Maaeluministeerium \nII sessioon: Muld kui teraviljatootmise oluline ressurss \n11.00 – 11.20 Euroopa Liidu ja Eesti mullapoliitika arengusuunad – Eike Lepmets\, Maaeluministeerium \n11.20 – 11.50 Mulla tasakaal – Priit Penu\, Põllumajandusuuringute Keskus \n11.50 – 12.15 Põllumajanduspraktikad mullaviljakuse hoidmisel ja säästval taimekaitsel – Jaak Läänemets\, Avispeamees OÜ \n12.15 – 13.00 LÕUNAPAUS \nIII sessioon: Säästev taimekaitse muutuvates tingimustes \n13.00 – 13.30 Kuidas tagada tõhus taimekaitse tulevikus? – Evelin Hillep\, Maaeluministeerium \n13.30 – 14.00 Säästev taimekaitse muutuvates tingimustes – Tiiu Annuk\, Põllumeeste ühistu KEVILI \n14.00 – 14.20 Sünteetiliste ja bioloogiliste pestitsiidide mõjud meemesilastele ja kimalastele – Risto Raimets\, Eesti Maaülikool \n14.20 – 14.45 VÄIKE VAHEAEG \nIV sessioon: Teraviljasektori väljavaated \n14.45 – 15.00 Sordikaitse ja uute sortide turule jõudmine – Karen Uudeberg\, Eesti Seemneliit \n15.00 – 15.30 Teraviljasektori roll kliimaneutraalsuse saavutamisel – Margus Ameerikas\, Baltic Agro \n15.30 – 16.00 Teraviljaturu ülevaade ja prognoosid – Indrek Aigro\, Copenhagen Merchants \nV sessioon: Ühiskonna ootused põllumehele \n16.00 – 16.30 Mida peaksid põllumehed tegema\, et avalikkus ja poliitikud neid paremini mõistaksid? – Andreas Kaju\, Meta Advisory \n16.30 Foorumi kokkuvõte \n  \nFoorumi moderaator on Olav Kreen\, Rabaveere talu \nFoorumil osalemine on tasuta. Foorumi korraldamist toetab Euroopa Liit. \nLisainfo: Vahur Tõnissoo\, EPKK juhatuse liige\, vahur@epkk.ee\, tel 5331 5198 \n 
URL:https://test.pikk.ee/sundmus/teraviljafoorum-2020-muutuvad-keskkonnanouded-eesti-teraviljasektoris/
LOCATION:Veebis\, Eesti
END:VEVENT
BEGIN:VEVENT
DTSTART;VALUE=DATE:20201209
DTEND;VALUE=DATE:20201210
DTSTAMP:20260426T033127
CREATED:20201118T130925Z
LAST-MODIFIED:20201119T100433Z
UID:10009742-1607472000-1607558399@test.pikk.ee
SUMMARY:Taimekaitse täienduskoolituse taimekaitsevahendi professionaalsele kasutajale (11h)
DESCRIPTION:
URL:https://test.pikk.ee/sundmus/taimekaitse-taienduskoolituse-taimekaitsevahendi-professionaalsele-kasutajale-11h/
LOCATION:Põlvamaa\, Põlvamaa\, Eesti
GEO:58.1160622;27.2066394
END:VEVENT
BEGIN:VEVENT
DTSTART;VALUE=DATE:20201209
DTEND;VALUE=DATE:20201212
DTSTAMP:20260426T033127
CREATED:20191125T120257Z
LAST-MODIFIED:20201202T085207Z
UID:10007545-1607472000-1607731199@test.pikk.ee
SUMMARY:Toiduhügieen ja -ohutus\, keskaste (veebikoolitus)
DESCRIPTION:Seoses C-19 kiire levikuga on Eesti Maaülikooli korraldatav täiendkoolitus üleviidud veebikeskkonda. \nTäpsem info ja registreerumine SIIN. \n.Täienduskoolitusest võivad osa võtta:\n– põllumajandustoodete töötlemise või turustamisega tegelev füüsilisest isikust ettevõtja ja tema töötaja ning eraõigusliku juriidilise isiku osanik\, aktsionär\, liige\, juhtorgani liige ja tema töötaja;\n– põllumajandustoodetest mittepõllumajandustoodete töötlemise sh toidu valmistamise või töötlemisega tegelev füüsilisest isikust ettevõtja ja tema töötaja ning eraõigusliku juriidilise isiku osanik\, aktsionär\, liige\, juhtorgani liige ja tema töötaja;\n– toidu valmistamise või töötlemisega tegelev avalik-õigusliku juriidilise isiku juhtorgani liige või töötaja;\n– põllumajandustootjate valdkonda teenindavad isikud (nt kokkuostuga tegelevate ettevõtete töötajad);\n– isikud (FIE-d või ettevõtte esindajad)\, kes koguvad teadmisi uue tegevusvaldkonna kohta;\n– põllumajanduslike esindus- ja erialaorganisatsioonide (MTÜ-d\, mille liikmeteks on põllumajandussaaduste töötlejad) juhatuse liikmed ja töötajad. \nFüüsiliste isikute ja riigiametnike täienduskoolitusel osalemine ei ole toetatav! \nTegevust finantseeritakse Eesti maaelu arengukava 2014-2020 meetme 1 “Teadmussiire ja teavitus” tegevuse “Pikaajalised programmid” raames ja on sihtrühma kuulujatele tasuta. \nNB! Teavitame! Antud koolitustegevuses osalemine on osaleja jaoks vähese tähtsusega abi. \nKoolituse korraldaja:\nEesti Maaülikooli avatud ülikool\nFr. R. Kreutzwaldi 56/1\n51006 Tartu\,\ntel 731 3275\, 731 3174\, 534 41844\ne-post: avayl@emu.ee\nhttp://avatudylikool.emu.ee/
URL:https://test.pikk.ee/sundmus/toiduhugieen-ja-ohutus-keskaste-8/
LOCATION:Veebis\, Eesti
CATEGORIES:Toiduainete tootmine
END:VEVENT
BEGIN:VEVENT
DTSTART;VALUE=DATE:20201209
DTEND;VALUE=DATE:20201212
DTSTAMP:20260426T033127
CREATED:20201109T165021Z
LAST-MODIFIED:20201109T165719Z
UID:10007798-1607472000-1607731199@test.pikk.ee
SUMMARY:Taimekaitse aluskoolitus professionaalsele kasutajale (22 t)
DESCRIPTION:Taimekaitse aluskoolitus professionaalsele kasutajale (22 t) \nKoolitus toimub 9 – 11 detsember Säreveres\nKoolitajad: Kaja Marrandi ja Marek Kõbu\nKoolitusele registreerimine toimub SIIT \nRegistreerunuile saadame konkreetse ajakava\nKoolituse  ÕPPEKAVAGA  saad tutvuda meie kodulehel https://jkhk.ee/et/tasuta-pria-koolitused \nPõllumeestele on koolitus TASUTA. \ntäiendav info: Ruth Türk\nJKHK koolitusjuht\nruth.turk@jkhk.ee\n5329 2188
URL:https://test.pikk.ee/sundmus/taimekaitse-aluskoolitus-professionaalsele-kasutajale-22-t-3/
LOCATION:Järvamaa\, Järvamaa\, Eesti
CATEGORIES:Taimekaitse
GEO:58.8866713;25.5000624
END:VEVENT
BEGIN:VEVENT
DTSTART;VALUE=DATE:20201209
DTEND;VALUE=DATE:20201212
DTSTAMP:20260426T033127
CREATED:20201119T164905Z
LAST-MODIFIED:20201210T151717Z
UID:10009745-1607472000-1607731199@test.pikk.ee
SUMMARY:Taimekaitse aluskoolitus professionaalsele kasutajale (22 t)
DESCRIPTION:Taimekaitse aluskoolitus professionaalsele kasutajale (22 t) \nKoolitus toimub 9 – 11 detsember  Järvamaal Säreveres. KOOLITUS TOIMUB VEEBIKOOLITUSENA.\nKoolitajad: Kaja Marrandi ja Marek Kõbu\nKoolitusele registreerimine toimub SIIT \nTASUTA on koolitus Põllumeestele \nTäpsema info koolituse kohta saadan registreerunuile. \nTäiendav info\nRuth Türk\nJKHK koolitusjuht\nruth.turk@jkhk.ee\n5329 2188
URL:https://test.pikk.ee/sundmus/taimekaitse-aluskoolitus-professionaalsele-kasutajale-22-t-4/
LOCATION:Järvamaa\, Järvamaa\, Eesti
CATEGORIES:Taimekaitse
GEO:58.8866713;25.5000624
END:VEVENT
BEGIN:VEVENT
DTSTART;VALUE=DATE:20201210
DTEND;VALUE=DATE:20201211
DTSTAMP:20260426T033127
CREATED:20201023T125437Z
LAST-MODIFIED:20201207T085313Z
UID:10007775-1607558400-1607644799@test.pikk.ee
SUMMARY:Täiendkoolitus Lihatöötlemine JÄÄB ÄRA!
DESCRIPTION:KOOLITUS JÄÄB ÄRA! \nToimub 10.-11. detsembril 2020 Tartus\, Fr. R. Kreutzwaldi 56/5 (Toiduteaduse ja toiduainete tehnoloogia labor) \n  \n10. detsember 2020 kell 10.00-18.00 (sh lõuna 12.15-13.00) \n11. detsember 2020 kell 10.00-16.00 (sh lõuna 12.15-13.00) \nLektorid Marek Tepper\, Riina Soidla ja Kristi Kerner. \nKoolituse teemad on:\nLiha kui tooraine ja seda mõjutavad tegurid;\nLihatoodete klassifikatsioon sh tootearenduse põhimõtted;\nNõuded väiketootjatele liha käitlemisel\, sh tapahügieen;\nLihatoodete valmistamise tehnoloogilised protsessid;\nVärske liha käitlemine (seadmed\, lihavalmistised\, lihalõikus\, pakendamine jne);\nLihalõikus. Liha hinna kalkulatsioon ja hinda mõjutavad tegurid\, lihavalmistised;\nLihatoodete retsept ja selle koostamise alused;\nVorstide ja sinkide ning lihavalmististe praktilised tööd;\nLihatoodete sensoorne analüüs \nGrupi suurus 10 inimest. \nKoolitus toimub Lihatoodete väiketöötlemise õppekava alusel. \nSihtgrupp: Koolitustest võivad osa võtta vaid juriidiliste isikute esindajad (FIE\, ettevõtte aktsionär\, osanik\, liige\, juhtorgani liige või töötaja). \nTäiendkoolitus toimub MAK 2014-2020 meetme „Teadmussiirde pikaajaline programm loomakasvatuse tegevusvaldkonnas II “ raames ja on sihtgrupile tasuta. \n  \nLisainfo: \nAngelika Nöps\nAngelika.nops[at]pikk.ee\ntel. 5308 9961
URL:https://test.pikk.ee/sundmus/taiendkoolitus-lihatootlemine-2/2020-12-10/
LOCATION:Tartu\, Eesti
ORGANIZER;CN="Maaelu Edendamise Sihtasutus":MAILTO:angelika.nops@pikk.ee
END:VEVENT
BEGIN:VEVENT
DTSTART;VALUE=DATE:20201210
DTEND;VALUE=DATE:20201211
DTSTAMP:20260426T033127
CREATED:20201105T131245Z
LAST-MODIFIED:20201202T085016Z
UID:10009728-1607558400-1607644799@test.pikk.ee
SUMMARY:Riskijuhtimine nõustajale (üldmoodul) (veebikoolitus)
DESCRIPTION:Seoses C-19 kiire levikuga on Eesti Maaülikooli korraldatav täiendkoolitus üleviidud veebikeskkonda. \nTäienduskoolitusprogrammi üldmooduli läbinud õppija teab: \n\nteab riskide väljaselgitamise metoodikaid\, tunneb riskide tüpoloogiat ning oskab liigitada riske ja saab aru erinevate riskide erisustest;\nteab ilmastiku ja kliima muutustest esilekerkivaid peamisi põllumajandustootmist mõjutavaid riske\, äririskid sh finants-\, sissetulekuteriskid\, tururiskid\, ning nende hindamise võimalusi;\nteab põllumajanduse keskkonnatingimuste muutustest esilekerkivate riskide olemust ja nende tekke allikaid ning oskab neid seostada oma nõustamisvaldkonnaga;\ntunneb valdkonda puudutavaid riskide juhtimisega seonduvaid õigusakte\, nõudeid ja ÜPP riskide juhtimise meetmeid;\nteab\, kuidas juhitakse riske teistes Eestiga sarnaste tootmistingimustega riikides.\n\nAJAKAVA:\n9.00 – 9.15 – Tervituskohv\n9.15 -10.45 – Riski definitsioon ning riskijuhtimisega seotud mõisted; põllumajandustootmise riskiallikad ja põllumajandusriskide tüpoloogia – Maire Nurmet\, EMÜ\n10.45 – 10.55 – Kohvipaus\n10.55 – 12.25 – Riskijuhtimise põhimõtted ja strateegiad– Maire Nurmet\, EMÜ\n12.25 – 13.00 – Lõuna\n13.00 – 14.30 – Riskide mõõtmine ja hindamine; põllumajandusriskide allikate ja riskide maandamise\nvõimalused – Rando Värnik\, EMÜ\n14.30 – 14.45 – Kohvipaus\n14.45 – 16.15 – Riskijuhtimine Euroopa Liidu ühise põllumajanduspoliitika (ÜPP) kontekstis Eestis ja\nteistes riikides – Rando Värnik\, EMÜ \nSihtrühm:\n1) kehtiva kutsetunnistusega konsulent või isik\, kelle konsulendi kutsetunnistuse kehtivusaeg on lõppenud;\n2) põllu- või maamajandusliku nõuandetegevusega tegelev nõustaja või\n3) põllu- või maamajanduslikust nõuandetegevusest huvitatud isik Euroopa Liidu ühise põllumajanduspoliitika rakendamise seaduse § 71 lõikes 1 sätestatud valikumenetluse kohaselt valitud nõustamisteenuse osutaja nõusolekul. \nOsalustasu: Kursus on sihtrühmale tasuta (koolitus\, õppepäeval toitlustamine) \nRegistreerumise info: Õppekava on jagatud neljaks mooduliks: kohustuslik üldmoodul ning valikuna kas loomakasvatuse ja veterinaaria erialamoodul\, taimekasvatuse erialamoodul või majanduse erialamoodul. Erialamooduli läbimiseks on kohustuslik eelnev üldmooduli läbimine. Erialamoodulid toimuvad aastal 2021. Täpsemast infost teavitatakse üldmooduli läbinuid kirjateel. \nRegistreerumine ja lähem info maaülikooli avatud ülikooli kodulehel:\nhttp://avatudylikool.emu.ee/et/avatud-ulikool/sihtruhmale/konsulent/ \nRegistreeru kohe SIIN \nKoolituse tellija: Põllumajanduse Registrite ja Informatsiooni Amet (PRIA)\nTegevus finantseeritakse Euroopa Maaelu Arengu Põllumajandusfond´i (EAFRD) vahenditest.\nKontakt: Jaana Orin\, Mob: +372 5213304\, E-post: jaana.orin@emu.ee
URL:https://test.pikk.ee/sundmus/riskijuhtimine-noustajale-uldmoodul/
LOCATION:Veebis\, Eesti
CATEGORIES:Finantsmajandus,Maaettevõtlus,Turundus,Ühistegevus
END:VEVENT
BEGIN:VEVENT
DTSTART;VALUE=DATE:20201210
DTEND;VALUE=DATE:20201211
DTSTAMP:20260426T033127
CREATED:20201126T062813Z
LAST-MODIFIED:20201214T091415Z
UID:10007809-1607558400-1607644799@test.pikk.ee
SUMMARY:Infopäev SÖÖDA OHUTUS LÄBI ENNETAVA TEGEVUSE
DESCRIPTION:Eesti Põllumajandus-Kaubanduskoda korraldab Maaeluministeeriumi tellimusel infopäeva \nSÖÖDA OHUTUS LÄBI ENNETAVA TEGEVUSE \nInfopäev toimub 10. detsembril 2020. a. kell 10:00 – 14:00 virtuaalselt veebikeskkonnas ZOOM. \n  \nPäevakava: \n09:30 – 10:00 – Kogunemine\, ühenduse testimine – selgitame\, kuidas esitada küsimusi lektoritele või kuidas soovi korral sõna saada ja kaasa rääkida/arvamust avaldada. \n10:00 – 10:35 – Antibiootikumiresistentsus\, sh söötadest tuleneda võiv risk – Piret Kalmus\, EMÜ \n10:35 – 10:45 – Küsimused/vastused \n10:45 – 11:20 – Mükotoksiinide  monitooring ja ennetusmeetmed – Pillerin Puskar\, Alltech Eesti \n11:20 – 11:30 – Küsimused/vastused \n11:30 – 12:00 – Uuest ravimisööda määrusest tulenevate nõuete tutvustus – Eda Ernes\, Maaeluministeerium \n12:00 – 12:10 – Küsimused/vastused \n12:10 – 12:30 – Paus \n12:30 – 13:05 – Söötmise korraldus farmis – Sven Tammoja\, Woltevis OÜ \n13:05 – 13:15 – Küsimused/vastused \n13:15 – 13:50 – Putukate kasutamine söötades – Sille Holm\, Tartu Ülikool \n13:50 – 14:00 – Küsimused/vastused ja päeva kokkuvõte \n  \nNB! Registreerige osalemissoov kuni 09. detsembrini SIIN  või  test.pikk.ee (vt sündmuste kalender) või EPKK kodulehel www.epkk.ee \nRegistreerunutele saadame osalemiseks veebilingi 10. detsembri hommikul. \n  \n  \nInfopäev toimub MAK 2014-2020 meetme „Teadmussiirde pikaajaline programm loomakasvatuse tegevusvaldkonna II raames; Rahastamisallikas: riigieelarve\, Euroopa Maaelu Põllumajandusfond (EAFRD). \n  \nLisainformatsioon: EPKK projektijuht Maire Vimb – 50 86 664 või maire@epkk.ee \n 
URL:https://test.pikk.ee/sundmus/infopaev-sooda-ohutus-labi-ennetava-tegevuse/
END:VEVENT
BEGIN:VEVENT
DTSTART;VALUE=DATE:20201211
DTEND;VALUE=DATE:20201212
DTSTAMP:20260426T033127
CREATED:20201023T125437Z
LAST-MODIFIED:20201207T085313Z
UID:10007776-1607644800-1607731199@test.pikk.ee
SUMMARY:Täiendkoolitus Lihatöötlemine JÄÄB ÄRA!
DESCRIPTION:KOOLITUS JÄÄB ÄRA! \nToimub 10.-11. detsembril 2020 Tartus\, Fr. R. Kreutzwaldi 56/5 (Toiduteaduse ja toiduainete tehnoloogia labor) \n  \n10. detsember 2020 kell 10.00-18.00 (sh lõuna 12.15-13.00) \n11. detsember 2020 kell 10.00-16.00 (sh lõuna 12.15-13.00) \nLektorid Marek Tepper\, Riina Soidla ja Kristi Kerner. \nKoolituse teemad on:\nLiha kui tooraine ja seda mõjutavad tegurid;\nLihatoodete klassifikatsioon sh tootearenduse põhimõtted;\nNõuded väiketootjatele liha käitlemisel\, sh tapahügieen;\nLihatoodete valmistamise tehnoloogilised protsessid;\nVärske liha käitlemine (seadmed\, lihavalmistised\, lihalõikus\, pakendamine jne);\nLihalõikus. Liha hinna kalkulatsioon ja hinda mõjutavad tegurid\, lihavalmistised;\nLihatoodete retsept ja selle koostamise alused;\nVorstide ja sinkide ning lihavalmististe praktilised tööd;\nLihatoodete sensoorne analüüs \nGrupi suurus 10 inimest. \nKoolitus toimub Lihatoodete väiketöötlemise õppekava alusel. \nSihtgrupp: Koolitustest võivad osa võtta vaid juriidiliste isikute esindajad (FIE\, ettevõtte aktsionär\, osanik\, liige\, juhtorgani liige või töötaja). \nTäiendkoolitus toimub MAK 2014-2020 meetme „Teadmussiirde pikaajaline programm loomakasvatuse tegevusvaldkonnas II “ raames ja on sihtgrupile tasuta. \n  \nLisainfo: \nAngelika Nöps\nAngelika.nops[at]pikk.ee\ntel. 5308 9961
URL:https://test.pikk.ee/sundmus/taiendkoolitus-lihatootlemine-2/2020-12-11/
LOCATION:Tartu\, Eesti
ORGANIZER;CN="Maaelu Edendamise Sihtasutus":MAILTO:angelika.nops@pikk.ee
END:VEVENT
BEGIN:VEVENT
DTSTART;VALUE=DATE:20201211
DTEND;VALUE=DATE:20201212
DTSTAMP:20260426T033127
CREATED:20201201T105323Z
LAST-MODIFIED:20201216T094903Z
UID:10007810-1607644800-1607731199@test.pikk.ee
SUMMARY:Infopäev  Otse- ja investeeringutoetuste probleemid  Harjumaal (infopäev toimub veebis)
DESCRIPTION:Infopäev toimub 11. detsembril 2020 VEEBIS \nRegistreerumine on lõppenud. Huvi korral palun registreerige ennast infopäevadele\, mis toimuvad 15. detsembril\, 17. detsembril või 29. detsembril. \nLink registreeritud osavõtjatele saadetakse enne infopäeva algust meilile. \nPäevakava:\n9.45-10.00 sisenemine Zoomi\n10.00-13.30 Ettekanded (sh küsimused ja vastused) \nLektor Lilia Kulli\nOtsetoetuste nõuded. Toetusnõuete rikkumine.\nOtsetoetustega seotud probleemistik\, toetuste kontrolli põhimõtted\, tagasinõuete põhjused. Tagasinõuete vältimine ja toetuste korrektne taotlemine.\nLahendused ja soovitused probleemide ning tagasinõuete vältimiseks. \nLektor Triin Luksepp/Angelika Nöps\nInvesteeringutoetuste ülevaade. Investeeringutoetuste korrektne taotlemine ja elluviimine.\nToetusnõuete ülevaade\, nõuete täitmine. Põhiprobleemid investeeringutoetuste taotlemisel\, elluviimisel ning tagasinõuete põhjused ja võimalused nende vältimiseks. \nToetustega seonduv riskide juhtimine ja riskide maandamine. \nInfopäeva ettekanded: \nEttekanne 1 \nEttekanne 2 \nInfopäev on osavõtjatele tasuta. \nInfopäev toimub MAK 2014-2020 “Teadmussiirde ja teavituse toetuse maakondliku ulatusega tegevuste” meetme raames\, tegevust toetab Euroopa Liit.
URL:https://test.pikk.ee/sundmus/infopaev-otse-ja-investeeringutoetuste-probleemid-harjumaal-infopaev-toimub-veebis/
ORGANIZER;CN="Maaelu Edendamise Sihtasutus":MAILTO:angelika.nops@pikk.ee
END:VEVENT
END:VCALENDAR