BEGIN:VCALENDAR
VERSION:2.0
PRODID:-//METK nõuandeteenistus - ECPv6.15.13//NONSGML v1.0//EN
CALSCALE:GREGORIAN
METHOD:PUBLISH
X-ORIGINAL-URL:https://test.pikk.ee
X-WR-CALDESC:Events for METK nõuandeteenistus
REFRESH-INTERVAL;VALUE=DURATION:PT1H
X-Robots-Tag:noindex
X-PUBLISHED-TTL:PT1H
BEGIN:VTIMEZONE
TZID:Europe/Tallinn
BEGIN:DAYLIGHT
TZOFFSETFROM:+0200
TZOFFSETTO:+0300
TZNAME:EEST
DTSTART:20200329T010000
END:DAYLIGHT
BEGIN:STANDARD
TZOFFSETFROM:+0300
TZOFFSETTO:+0200
TZNAME:EET
DTSTART:20201025T010000
END:STANDARD
BEGIN:DAYLIGHT
TZOFFSETFROM:+0200
TZOFFSETTO:+0300
TZNAME:EEST
DTSTART:20210328T010000
END:DAYLIGHT
BEGIN:STANDARD
TZOFFSETFROM:+0300
TZOFFSETTO:+0200
TZNAME:EET
DTSTART:20211031T010000
END:STANDARD
BEGIN:DAYLIGHT
TZOFFSETFROM:+0200
TZOFFSETTO:+0300
TZNAME:EEST
DTSTART:20220327T010000
END:DAYLIGHT
BEGIN:STANDARD
TZOFFSETFROM:+0300
TZOFFSETTO:+0200
TZNAME:EET
DTSTART:20221030T010000
END:STANDARD
END:VTIMEZONE
BEGIN:VEVENT
DTSTART;VALUE=DATE:20210112
DTEND;VALUE=DATE:20210113
DTSTAMP:20260425T203839
CREATED:20201228T222834Z
LAST-MODIFIED:20201228T222834Z
UID:10009763-1610409600-1610495999@test.pikk.ee
SUMMARY:Taimekaitsevahendite professionaalse kasutaja täienduskoolitus (12 tundi)
DESCRIPTION:Taimekaitsevahendite professionaalse kasutaja täienduskoolitus (12 tundi) \nLektor Kaja Marrandi\nKoolitus toimub 12. jaanuar 2021 veebikoolitusena \nRaplamaa põllumeestele on koolitus TASUTA.\nPS! Koolitus on mõeldud kehtiva taimekaitsetunnistuse pikendamiseks!\nKoolituse õppekavaga saad tutvuda SIIT \nKoolitusele registreerimine toimub SIIT
URL:https://test.pikk.ee/sundmus/taimekaitsevahendite-professionaalse-kasutaja-taienduskoolitus-12-tundi-3/
CATEGORIES:Taimekaitse
END:VEVENT
BEGIN:VEVENT
DTSTART;VALUE=DATE:20210112
DTEND;VALUE=DATE:20210113
DTSTAMP:20260425T203839
CREATED:20201231T113432Z
LAST-MODIFIED:20210105T095800Z
UID:10009768-1610409600-1610495999@test.pikk.ee
SUMMARY:KEVILI infopäev - Taimede toitmine mikroelementidega ja katsete tulemused
DESCRIPTION:12. jaanuaril 2021 korraldab MTÜ KEVILI koolitused infopäeva ” Taimede toitmine mikroelementidega ja katsete tulemused”. Ürituse edastatakse osalejatele virtuaalsest stuudiost. Liitumise link ja lisainfo jõuab kõigi registreerijateni e-kirja teel. Allolevalt päevakava: \n09:20 – 09:30  Sisselogimine \n09:30 – 09:35  Päeva avamine – Meelis Annus\, KEVILI juhataja \n09:35 – 09:50  Ülevaade KEVILI iseteenindusest ja juhend– Kerti Kuškis\, raamatupidaja \n09:50 – 11:00  Katsete tulemused ja praktilised näpunäited algavaks hooajaks – Marek Linnutaja\, Yara Eesti OÜ \n11:00 – 11:15  Paus \n11:15 – 12:15   Põldkatsete tulemused 2019-2020 ja leheproovide kokkuvõte hooajast –   Tiiu   Annuk\, Meelis Värnik\, KEVILI agronoomid \n12:15 – 12:35  Paus \n12:35 – 13:25  Soovitused lehekaudseks väetamiseks – Tiiu Annuk\, Meelis Värnik\, KEVILI   agronoomid \n13:25 – 13:45  KEVILI 2021 a. mikrode ja vedelväetiste valiku ülevaade – Andre Parm\,   KEVILI  ostujuht \nKoolitusel osalemiseks on kohustuslik registreerumine aadressil kevili@kevili.ee hiljemalt 11. jaanuariks.
URL:https://test.pikk.ee/sundmus/kevili-infopaev-taimede-toitmine-mikroelementidega-ja-katsete-tulemused-2/
LOCATION:Veebis\, Eesti
END:VEVENT
BEGIN:VEVENT
DTSTART;VALUE=DATE:20210114
DTEND;VALUE=DATE:20210115
DTSTAMP:20260425T203839
CREATED:20201123T090237Z
LAST-MODIFIED:20210118T070337Z
UID:10009749-1610582400-1610668799@test.pikk.ee
SUMMARY:Veebikonverents "Toiduohutuse kommunikatsioon"
DESCRIPTION:Eesti Põllumajandus-Kaubanduskoda korraldab 14. jaanuaril 2021 veebikonverentsi „Toiduohutuse kommunikatsioon“.  \nKuidas teha õigete sõnumitega kommunikatsiooni\, suhelda riigiasutuste ja ka meediaga nii\, et mõlemad oleksid võitjad. Kuidas toiduettevõtjad peaksid rääkima oma tegevustest nt loomsete toodete töötlemisest\, loomakasvatusest\, puurikanade pidamisest\, taimekaitsevahendite kasutamisest või toiduohutuse riskidest selliselt\, et nad ei satuks ühiskonna hukkamõistu osaliseks. Kuidas ja miks peaks ettevõtja selgitama kommunikatsiooniahela põhimõtet oma ettevõttes? Milline on igapäevane suhtlus riigiasutuste\, tarnijate ja tarbijatega? Kas ettevõttel on olemas vaidluste lahendamise süsteem ja kuidas see töötab? \nPÄEVAKAVA* \n\n\n\n9:00 – 9:30\nKonverentsi avamine ja tervitused \nTiina Saron\, Maaeluministeeriumi kantsler \nMeeli Lindsaar\, EPKK juhatuse liige\n\n\n9:30 – 10:20\n„Pealtnägija kui ühiskonna valupunktide vaatleja“ \nMihkel Kärmas\, ajakirjanik ja ERR saate „Pealtnägija“ saatejuht\n\n\n10:20 – 11:10\n„Mis ajendab ettevõtet viima ellu tegevusi\, mis raputavad sektorit ja loovad paradigma muutuse kogu ühiskonnale“ \nLiis Tuur\, AS E-Piim Tootmine arendusjuht\n\n\n11:10 – 12:00\n„Läbimõeldud kvaliteedisüsteem ja asjakohane kommunikatsioon on edukuse aluseks“ \nAlgis Murumaa\, RIMI Eesti Food AS kvaliteedijuht\n\n\n12:00 – 12:15\nSirutuspaus\n\n\n12:15 – 12:55\n„Toit on vaja tagasi kutsuda. Kuidas toimida tõhusalt ja mainet hoides?“ \nOlev Kalda\, Põllumajandus- ja Toiduameti osakonnajuhataja\n\n\n12:55 – 13:45\n„Tarbija teadlikkuse tõstmine – vajadustele tähelepanu pööramine või paratamatusega leppimine?“ \nJean-Baptiste Boucher\, Copa-Cogeca kommunikatsioonijuht \nEttekanne tõlgitakse eesti keelde.\n\n\n13:45 – 14:25\n„Stress\, pinge ja rahulolematus. Kuidas nendega hakkama saada\, hoolitsedes enda ja oma töötajate vaimse tervise eest“ \nÜlo Vihma\, psühhoterapeut ja koolitaja\n\n\n14:25 – 14:35\nKonverentsi kokkuvõte ja lõpusõnad\n\n\n\n*Korraldaja on õigus teha kavas muudatusi. \nOsa võivad võtta kõik valdkonnas tegutsevad või sellest huvitatud isikud. Osalemine on tasuta.  \nKonverents toimub MAK 2014-2020 meetme „Teadmussiirde pikaajaline programm toiduohutuse valdkonnas“ raames\, läbiviimist toetab Euroopa Liit. \nTäpsem info avaldatakse ja registreeruda saab veebilehel toiduteave.ee
URL:https://test.pikk.ee/sundmus/veebikonverents-aktuaalsed-teemad-toiduohutuses/
LOCATION:Muu\, Eesti
CATEGORIES:Toiduainete tootmine
GEO:58.595272;25.0136071
END:VEVENT
BEGIN:VEVENT
DTSTART;VALUE=DATE:20210114
DTEND;VALUE=DATE:20210115
DTSTAMP:20260425T203839
CREATED:20210106T173359Z
LAST-MODIFIED:20210106T173359Z
UID:10007831-1610582400-1610668799@test.pikk.ee
SUMMARY:Taimekaitsevahendite professionaalse kasutaja täiendkoolitus (12 tundi)
DESCRIPTION:Taimekaitsevahendite professionaalse kasutaja täiendkoolitus (12 tundi) \nKoolitus toimub 14. jaanuaril veebikoolitusena\nLektor Kaja Marrandi\nKoolitusele registreerimine toimub SIIT\nKoolitus on tasuline\, 60. eur inimene\nPS! Koolitus on mõeldud kehtiva taimekaitsetunnistuse pikendamiseks! \nTäpsema info koolituse kohta saadan registreerunuile.\nTäiendav info\nRuth Türk\nJKHK koolitusjuht\nruth.turk@jkhk.ee\n5329 2188
URL:https://test.pikk.ee/sundmus/taimekaitsevahendite-professionaalse-kasutaja-taiendkoolitus-12-tundi-11/
CATEGORIES:Taimekaitse
END:VEVENT
END:VCALENDAR