BEGIN:VCALENDAR
VERSION:2.0
PRODID:-//METK nõuandeteenistus - ECPv6.15.13//NONSGML v1.0//EN
CALSCALE:GREGORIAN
METHOD:PUBLISH
X-ORIGINAL-URL:https://test.pikk.ee
X-WR-CALDESC:Events for METK nõuandeteenistus
REFRESH-INTERVAL;VALUE=DURATION:PT1H
X-Robots-Tag:noindex
X-PUBLISHED-TTL:PT1H
BEGIN:VTIMEZONE
TZID:Europe/Tallinn
BEGIN:DAYLIGHT
TZOFFSETFROM:+0200
TZOFFSETTO:+0300
TZNAME:EEST
DTSTART:20200329T010000
END:DAYLIGHT
BEGIN:STANDARD
TZOFFSETFROM:+0300
TZOFFSETTO:+0200
TZNAME:EET
DTSTART:20201025T010000
END:STANDARD
BEGIN:DAYLIGHT
TZOFFSETFROM:+0200
TZOFFSETTO:+0300
TZNAME:EEST
DTSTART:20210328T010000
END:DAYLIGHT
BEGIN:STANDARD
TZOFFSETFROM:+0300
TZOFFSETTO:+0200
TZNAME:EET
DTSTART:20211031T010000
END:STANDARD
BEGIN:DAYLIGHT
TZOFFSETFROM:+0200
TZOFFSETTO:+0300
TZNAME:EEST
DTSTART:20220327T010000
END:DAYLIGHT
BEGIN:STANDARD
TZOFFSETFROM:+0300
TZOFFSETTO:+0200
TZNAME:EET
DTSTART:20221030T010000
END:STANDARD
END:VTIMEZONE
BEGIN:VEVENT
DTSTART;VALUE=DATE:20210209
DTEND;VALUE=DATE:20210210
DTSTAMP:20260425T185701
CREATED:20210121T153343Z
LAST-MODIFIED:20210121T154359Z
UID:10009783-1612828800-1612915199@test.pikk.ee
SUMMARY:Taimekaitsevahendite professionaalse kasutaja täienduskoolitus (12 t)
DESCRIPTION:Taimekaitsevahendite professionaalse kasutaja täienduskoolitus (12 t) \nKoolitus toimub 9. veebruaril veebikoolitusena\nKoolitaja Kaja Marrandi\nHind ühele osalejale koos käibemaksuga on 60 eurot.\nPS! Koolitus on mõeldud  kehtiva taimekaitsetunnistuse pikendamiseks!\nKoolitusele registreerimine toimub SIIT \nTäpsema info koolituse kohta saadan registreerunuile.\nRuth Türk\nJKHK koolitusjuht\nruth.turk@jkhk.ee\n5329 2188
URL:https://test.pikk.ee/sundmus/taimekaitsevahendite-professionaalse-kasutaja-taienduskoolitus-12-t-2/
LOCATION:Veebis\, Eesti
CATEGORIES:Taimekaitse
END:VEVENT
BEGIN:VEVENT
DTSTART;VALUE=DATE:20210210
DTEND;VALUE=DATE:20210211
DTSTAMP:20260425T185701
CREATED:20210126T101009Z
LAST-MODIFIED:20210212T092202Z
UID:10007843-1612915200-1613001599@test.pikk.ee
SUMMARY:Infopäev Mükotoksiinide riski juhtimine (toimub veebis)
DESCRIPTION:Infopäev toimub 10.veebruaril kell 13-17 Zoomis. \nGRUPP ON TÄIS! \nLink registreeritud osavõtjatele saadetakse enne infopäeva algust meilile. \n  \nAjakava: \n13.00-15.00 – Mükotoksinide riski juhtimine Lektor RENATA  OLEJNICZAK \n15.00-17.00 Mükotoksiinide mõju mäletsejaliste põletikulisele protsessile\, Põletik ja oksüdatiivne stress lüpsilehmadel Lektor Juan-Ignacio ARTAVIA \n  \nInfopäeval tagatakse tõlge eesti keelde. \n  \nInfopäev toimub MAK 2014-2020 meetme „Teadmussiirde pikaajaline programm loomakasvatuse tegevusvaldkonnas II “ raames ja on sihtgrupile tasuta.
URL:https://test.pikk.ee/sundmus/infopaev-mukotoksiinide-riski-juhtimine-toimub-veebis/
LOCATION:Veebis\, Eesti
ORGANIZER;CN="Maaelu Edendamise Sihtasutus":MAILTO:angelika.nops@pikk.ee
END:VEVENT
BEGIN:VEVENT
DTSTART;TZID=Europe/Tallinn:20210211T110000
DTEND;TZID=Europe/Tallinn:20210211T130000
DTSTAMP:20260425T185701
CREATED:20210128T193329Z
LAST-MODIFIED:20210128T193329Z
UID:10007845-1613041200-1613048400@test.pikk.ee
SUMMARY:Veebipõhine infopäev „Ilutaimede kasvu ja arengu parandamine biostimulantidega“
DESCRIPTION:Eesti Maaülikool ja MTÜ Aiandusklaster korraldavad veebipõhise infopäeva innovatsioonitegevuse „Ilutaimede kasvu ja arengu parandamine biostimulantidega“ raames läbi viidud katsete tulemuste tutvustamiseks. \nKoht: videosilla vahendusel BigBlueButton keskkonnas.\nAeg: 11.veebruar 2021.a. kell 11:00-13:00 \nPäevakava\n10:45 Sisselogimine veebikeskkonda\n11:00 Mis on biostimulandid? – Leila Mainla\n11:20 Suvelillede katsetulemuste ülevaade – Leila Mainla\n11:50 Püsikute katsetulemuste ülevaade – Leila Mainla\n12:20 Puitunud ilutaimede katsetulemuste ülevaade – Leila Mainla\n12:50 Kokkuvõte ja arutelu \nInfopäev on osalejale tasuta. Osalemiseks on vajalik eelregistreerumine hiljemalt 9.02.2021 siin: http://bit.ly/ilutaimed21  \nVeebiseminariga liitumiseks vajalik info saadetakse osalejatele e-maili teel.\nLisainfo: Leila Mainla\, Eesti Maaülikool\, aianduse õppetool\, e-post: leila.mainla@emu.ee \nInfopäev toimub Eesti maaelu arengukava 2014–2020” meetme 16 „Koostöö” alameetme „Innovatsiooniklaster” raames\, toetab Maaelu Arengu Euroopa Põllumajandusfond (EAFRD).
URL:https://test.pikk.ee/sundmus/veebipohine-infopaev-ilutaimede-kasvu-ja-arengu-parandamine-biostimulantidega/
LOCATION:Veebis\, Eesti
CATEGORIES:Aiandus
END:VEVENT
END:VCALENDAR