BEGIN:VCALENDAR
VERSION:2.0
PRODID:-//METK nõuandeteenistus - ECPv6.15.13//NONSGML v1.0//EN
CALSCALE:GREGORIAN
METHOD:PUBLISH
X-WR-CALNAME:METK nõuandeteenistus
X-ORIGINAL-URL:https://test.pikk.ee
X-WR-CALDESC:Events for METK nõuandeteenistus
REFRESH-INTERVAL;VALUE=DURATION:PT1H
X-Robots-Tag:noindex
X-PUBLISHED-TTL:PT1H
BEGIN:VTIMEZONE
TZID:Europe/Tallinn
BEGIN:DAYLIGHT
TZOFFSETFROM:+0200
TZOFFSETTO:+0300
TZNAME:EEST
DTSTART:20200329T010000
END:DAYLIGHT
BEGIN:STANDARD
TZOFFSETFROM:+0300
TZOFFSETTO:+0200
TZNAME:EET
DTSTART:20201025T010000
END:STANDARD
BEGIN:DAYLIGHT
TZOFFSETFROM:+0200
TZOFFSETTO:+0300
TZNAME:EEST
DTSTART:20210328T010000
END:DAYLIGHT
BEGIN:STANDARD
TZOFFSETFROM:+0300
TZOFFSETTO:+0200
TZNAME:EET
DTSTART:20211031T010000
END:STANDARD
BEGIN:DAYLIGHT
TZOFFSETFROM:+0200
TZOFFSETTO:+0300
TZNAME:EEST
DTSTART:20220327T010000
END:DAYLIGHT
BEGIN:STANDARD
TZOFFSETFROM:+0300
TZOFFSETTO:+0200
TZNAME:EET
DTSTART:20221030T010000
END:STANDARD
END:VTIMEZONE
BEGIN:VEVENT
DTSTART;TZID=Europe/Tallinn:20210531T091500
DTEND;TZID=Europe/Tallinn:20210602T160000
DTSTAMP:20260423T200459
CREATED:20210512T054422Z
LAST-MODIFIED:20210512T054903Z
UID:10007915-1622452500-1622649600@test.pikk.ee
SUMMARY:Koolitus "Fermenteeritud piimatoodete valmistamine"
DESCRIPTION:ÕPPEKAVA KOOSTAMISE ALUS\n\n Olustvere TMK õppekavad Toiduainetöötleja\, tase 4 kutsekeskharidusõpe 180 EKAP ning Piimatoodete tehnoloogia\, tase 4\, kutseõppe jätkuõpe 60 EKAP \n  \n\n NÕUDED ÕPINGUTE ALUSTAMISEKS\n\n Sihtgrupp: Piimatooteid valmistavate tööstuste töötajad. Vajalik töötamine piimatooteid tootvas ettevõttes. \n  \n\n ÕPPE SISU \n\nTeemad ja alateemad:                                  \n\nPiima\, koore eeltöötlemine (nõuded eeltöötlemisele (nõuded toorainele\, seadmed); separeerimisprotsess (nõuded toorainele\, seadmed)\, pastöriseerimine (nõuded toorainele\, seadmed)).\nFermenteeritud piimatooted (põhilised tooted (jogurt\, hapukoor\, kohupiim jm): nõuded toorainele; fermenteeritud toodete tehnoloogilised protsessid; tehnoloogilised seadmed).\nTöötaja isiklik ja üldhügieen ettevõttes (riistsaastumise ohud (mikrobioloogilised\, keemilised\, füüsikalised); CIP pesemine (lahused\, nende mõju\, tähtsus). HACCAP.\n\nKokku 24 õppetundi millest 12 tundi on praktiline tegevus kooli õppetööstuses \n  \n\nÕPPEKESKKONNA KIRJELDUS\n\nÕppetöö toimub kontaktõppe tundidena. Koolil on praktiliste õppetundide läbiviimiseks piimatoodete valmistamist võimaldav õppetööstus. \nTeoreetilise õppetöö läbiviimiseks on esitlustehnikaga õppeklass. \nKasutatakse koolitajate poolt valmistatud õppematerjale. \n  \n\n ÕPIVÄLJUNDID\n\nÕpingud läbinud õppija: \n\nValmistab fermenteeritud piimatooteid jälgides tootmis- ja hügieeninõuedeid\n\n  \n\n NÕUDED ÕPINGUTE LÕPETAMISEKS\n\nOmandatud õpiväljundid. \nKoolituse läbinutele väljastatakse tunnistus. \n  \n\n KOOLITAJAD \n\nVilma Tatar – Eesti Maaülikool\, õppejõud\, doktorant \nKatrin Laikoja – Eesti Maaülikool\, õppejõud\, doktorant \nEdgar Lepman – Olustvere TMK õppetööstuse juhataja\, piimatoodete tehnoloog \n  \nAJAKAVA: \n 31.mai 2021 \n 9.15  – 10.45 Toorpiima koostis\, omadused ja kvaliteet. Koostisosade roll piimatoodete tehnoloogias ja mõju piima omadustele. Nõuded toorpiima kvaliteedile. Toorpiima kvaliteeti mõjutavad tegurid. Toorpiima kvaliteedi hindamine. Koolitaja –  Vilma Tatar\, Eesti Maaülikool \n10.45 – 11.00 – Kohvipaus \n11.00 – 12.30 –  Piima\, koore eeltöötlemine. Separeerimine\, normaliseerimine\, homogeniseerimine ja pastöriseerimine (eeltöötlemise protsesside sisu ja seadmete tööpõhimõte). Koolitaja –  Vilma Tatar\, Eesti Maaülikool \n12.30 – 13.00 – lõuna \n13.00 – 14.30 – Piima\, koore kuumtöötlemine. Kuumtöötlemise mõisted ja meetodid. Temperatuuri mõju piima koostisosadele ja omadustele. Kuumtöötlemise kontrollimeetodid. Koolitaja –  Vilma Tatar\, Eesti Maaülikool \n14.30 – 14.45 – Kohvipaus \n14.45 – 16.15 –  Fermenteeritud piimatooted (põhilised tooted nagu hapupiimad\, jogurt\, hapendatud pett\, hapukoor\, kohupiim jm.). Fermenteeritud piimatoodete tehnoloogilised protsessid; tehnoloogilised seadmed).  Koolitaja –  Vilma Tatar\, Eesti Maaülikool \n1.juuni 2021 \n9.00  – 10.30 –  Töötaja isiklik ja üldhügieen ettevõttes (riistsaastumise ohud (mikrobioloogilised\, keemilised\, füüsikalised); CIP pesemine (lahused\, nende mõju\, tähtsus). HACCAP.  Koolitaja Katrin Laikoja\, Eesti Maaülikool \n10.30 – 10.45 – Kohvipaus \n10.45 – 12.15 –  Töötaja isiklik ja üldhügieen ettevõttes (riistsaastumise ohud (mikrobioloogilised\, keemilised\, füüsikalised); CIP pesemine (lahused\, nende mõju\, tähtsus). HACCAP. Koolitaja Katrin Laikoja\, Eesti Maaülikool \n12.15 – 12.45 – Lõuna \n12.45 – 14.15 – Praktiline tegevus kooli õppetööstuses: Fermenteeritud piimatoodete valmistamine tootmisprotsess\, seadmed\, tööohutus\, hügieeninõuded – koolitaja Edgar Lepman\, Olustvere TMK\, õppetööstuse juhataja \n14.15 – 14.30 Kohvipaus \n14.30 – 16.00 – Praktiline tegevus kooli õppetööstuses: Fermenteeritud piimatoodete valmistamine tootmisprotsess\, seadmed\, tööohutus\, hügieeninõuded – koolitaja Edgar Lepman\, Olustvere TMK\, õppetööstuse juhataja \n2.juuni 2021 \n9.00  – 10.30 –  Praktiline tegevus kooli õppetööstuses: Fermenteeritud piimatoodete valmistamine tootmisprotsess\, seadmed\, tööohutus\, hügieeninõuded – koolitaja Edgar Lepman\, Olustvere TMK\, õppetööstuse juhataja \n10.30 – 10.45 – Kohvipaus \n10.45 – 12.15 –  Praktiline tegevus kooli õppetööstuses: Fermenteeritud piimatoodete valmistamine tootmisprotsess\, seadmed\, tööohutus\, hügieeninõuded – koolitaja Edgar Lepman\, Olustvere TMK\, õppetööstuse juhataja \n12.15 – 12.45 – Lõuna \n12.45 – 14.15 – Praktiline tegevus kooli õppetööstuses: Fermenteeritud piimatoodete valmistamine tootmisprotsess\, seadmed\, tööohutus\, hügieeninõuded – koolitaja Edgar Lepman\, Olustvere TMK\, õppetööstuse juhataja \n14.15 – 14.30 Kohvipaus \n14.30 – 16.00 – Praktiline tegevus kooli õppetööstuses: Fermenteeritud piimatoodete valmistamine tootmisprotsess\, seadmed\, tööohutus\, hügieeninõuded – koolitaja Edgar Lepman\, Olustvere TMK\, õppetööstuse juhataja
URL:https://test.pikk.ee/sundmus/koolitus-fermenteeritud-piimatoodete-valmistamine-3/
END:VEVENT
BEGIN:VEVENT
DTSTART;VALUE=DATE:20210601
DTEND;VALUE=DATE:20210602
DTSTAMP:20260423T200459
CREATED:20210514T113513Z
LAST-MODIFIED:20210614T050954Z
UID:10009851-1622505600-1622591999@test.pikk.ee
SUMMARY:Põllumajandusloomade heaolu - lambakarjamaad
DESCRIPTION:Koolitus toimub 01. juuni Olustvere Teenindus ja Maamajanduskoolis \nAjakava: \n09:00 – 10:30 loeng \n10:30 – 10:40 paus \n10:40 – 12:10 loeng \n12:10 – 12:45 paus \n12:45 – 14:15 loeng \n14:25 – 16:00 praktiline õpe karjamaal \n  \nLektor: Ell Sellis\,  lambakasvataja ja  lambakasvatuskonsulent\, Eesti Lamba ja Kitsekasvatajate Liidu juhatuse liige. \nÕppe sisu: osalejad saavad ülevaate: kehtivad nõuded loomade karjatamisel; heaolu halvendavad tegurid karjatamisperioodil; meetmed kiskjarünnakute kaitseks; karjamaade kasutamise üldised põhimõtted\, karjamaadel levinud kultuurtaimed ja ravimtaimekultuurid; karjamaa planeerimine. \nAntud koolitus läheb arvesse loomade heaolu toetuse taotlemisel\, osalejatele väljastatakse tunnistus. \nSihtgrupp: Koolitusest võivad osa võtta põllumajandustoodete tootmise\, töötlemise või turustamisega\, põllumajandusmaa hooldamisega\, põllumajandustoodetest mittepõllumajandustoodete töötlemisega\, sealhulgas toidu valmistamise või töötlemisega\, või metsa majandamisega seotud või nimetatud tegevusega tegelevat füüsilisest isikust ettevõtjat ja tema töötajat\, eraõigusliku juriidilise isiku osanikku\, aktsionäri\, liiget\, juhtorgani liiget ja tema töötajat\, metsa majandamisega tegelevat füüsilist isikut ja toidu valmistamise või töötlemisega tegelevat avalik-õigusliku juriidilise isiku juhtorgani liiget või töötajat. (Teadmussiirde pikaajaliste programmide rakendamise toetus määruse 28.04.2016 nr.46  muutmine. Vastu võetud 24.08.2017 nr 59.RT I\, 30.08.2017\, 1 ) \nRegistreerimise tähtaeg kuni 28 mai või kuni grupi komplekteerumiseni ( 20 osalejat) \nInfo 513 6242 \nRegistreerimine on lõppenud \nÕppekava \nKoolitusmaterjalid: https://www.olustvere.edu.ee/et/toimunud-pria-pip-koolitused-ja-materjalid \nTäienduskoolitus toimub MAK 2014-2020 meetme „Teadmussiirde pikaajaline programm loomakasvatuse tegevusvaldkonnas II “ raames.
URL:https://test.pikk.ee/sundmus/pollumajandusloomade-heaolu-lambakarjamaad/
END:VEVENT
BEGIN:VEVENT
DTSTART;TZID=Europe/Tallinn:20210601T080000
DTEND;TZID=Europe/Tallinn:20210603T170000
DTSTAMP:20260423T200459
CREATED:20210512T084858Z
LAST-MODIFIED:20210512T085225Z
UID:10007917-1622534400-1622739600@test.pikk.ee
SUMMARY:Taimekaitse aluskoolitus professionaalsele kasutajale (22 t)
DESCRIPTION:Taimekaitse aluskoolitus professionaalsele kasutajale (22 t) \nKoolitus toimub 1.-3.juuni veebis\nKoolitajad: Kaja Marrandi ja Marek Kõbu\nKoolitusele registreerimine toimub SIIT \nTäiendav info:\nRuth Türk\nruth.turk@jkhk.ee\n+372 5329 2188
URL:https://test.pikk.ee/sundmus/taimekaitse-aluskoolitus-professionaalsele-kasutajale-22-t-8/
LOCATION:Veebis\, Eesti
CATEGORIES:Taimekaitse
END:VEVENT
BEGIN:VEVENT
DTSTART;TZID=Europe/Tallinn:20210601T100000
DTEND;TZID=Europe/Tallinn:20210601T140000
DTSTAMP:20260423T200459
CREATED:20210518T090628Z
LAST-MODIFIED:20220509T111605Z
UID:10009854-1622541600-1622556000@test.pikk.ee
SUMMARY:Infopäev piimakarjakasvatajatele ja jõudlusandmete kogujatele
DESCRIPTION:Eesti Põllumajandusloomade Jõudluskontrolli AS (EPJ) korraldab loomapidajatele ja jõudlusandmete kogujatele infopäeva “Infopäev piimakarjakasvatajatele ja jõudlusandmete kogujatele”. \n  \nAjakava \n\njuuni 2021\n\nKl 10.00-10.10 Sissejuhatus\nKl 10.10-11.00 Ülevaade piimakarjade tulemustest. Õiged andmed annavad rohkem infot. Aire Pentjärv\, EPJ\nKl 11.00-11.05 Paus Kl 11.05-11.55 Aretus kui piimakarjakasvataja tööriist. Tanel Bulitko\, Eesti Tõuloomakasvatajate Ühistu\nKl 11.55-12.10 Paus\nKl 12.10-13.40 Antibiootikumide vastutustundlik kasutamine\, mikroobide resistentsus. Birgit Aasmäe\, Eesti Maaülikool\nKl 13.40-13.45 Kokkuvõte \n  \nInfopäev toimub veebikeskkonnas ja nõuab arvuti ning internetiühenduse olemasolu. \nRegistreeruda saate siin https://forms.gle/MAx93nLiQKKRENMt5\, infopäeva link saadetakse teile pärast registreerumist. \nLisainfo telefonil 738 7700 või epj@epj.ee. \nInfopäev on osalejatele tasuta\, ettevõtmist toetab Eesti Maaelu Arengukava. \n  \nEesti Põllumajandusloomade Jõudluskontrolli AS F. Tuglase 12\, Tartu www.epj.ee
URL:https://test.pikk.ee/sundmus/infopaev-piimakarjakasvatajatele-ja-joudlusandmete-kogujatele-16/
CATEGORIES:Loomakasvatus
ORGANIZER;CN="Eesti P%C3%B5llumajandusloomade J%C3%B5udluskontrolli Aktsiaselts":MAILTO:epj@epj.ee
END:VEVENT
BEGIN:VEVENT
DTSTART;VALUE=DATE:20210602
DTEND;VALUE=DATE:20210603
DTSTAMP:20260423T200459
CREATED:20210106T094946Z
LAST-MODIFIED:20210521T083412Z
UID:10009771-1622592000-1622678399@test.pikk.ee
SUMMARY:Koolitus "Lüpsikarja sigivuse tasuvusanalüüs"
DESCRIPTION:Toimumisaeg\n02.06.2021\n\n\nMaht\n6 akadeemilist tundi\n\n\nToimumiskoht\nTartu Eesti Maaülikool Kreutzwaldi 56/1 avatud ülikooli auditoorium III korrusel / veebikeskkond BigBueButton\n\n\nAjakava\nauditoorse koolituse puhul on vajalik eelnevalt teha COVID-19 kiirtest\, mistõttu on vajalik saabuda õppehoone juurde varem: \n9.30 – 10.00 kiirtestimine \n10.00 – 11.30 õppetöö\n11.30 – 12.00 lõunapaus\n12.00 – 13.30 õppetöö\n13.30 – 13.45 kohvipaus\n13.45 – 15.15 õppetöö\n\n\nÕppekeel\neesti keel\n\n\nÕppejõud\nKalle Kask\,PhD\, Eesti Maaülikooli Veterinaarmeditsiini ja loomakasvatusinstituudi kliinilise veterinaarmeditsiini õppetooli dotsent\n\n\n\n\n\n\n\n\n\n\n\nHinnainfo\nKoolitus toimub programmi\n“Teadmussiirde pikaajaline programm loomakasvatuse valdkonnas” raames\, on rahastatud Eesti maaelu arengukava 2014 – 2020 vahenditest\nja on sihtrühma kuulujatele tasuta.\n\n\nSihtrühm\nPõllumajandustoodete tootmise\, töötlemise või turustamisega\, põllumajandusmaa hooldamisega\, põllumajandustoodetest mittepõllumajandustoodete töötlemisega\, sealhulgas toidu valmistamise või töötlemisega\, või metsa majandamisega seotud või nimetatud tegevusega tegelev füüsilisest isikust ettevõtja ja tema töötaja\, eraõigusliku juriidilise isiku osanik\, aktsionär\, liige\, juhtorgani liige ja tema töötaja\, metsa majandamisega tegelev füüsiline isik ja toidu valmistamise või töötlemisega tegelev avalik-õiguslik juriidilise isiku juhtorgani liige või töötaja.\nLisaks valdkonna teenindamisega tegelejad (nt loomasööda\, veterinaarravimite müüjad)\, oma ettevõtte tegevusvaldkonda laiendada soovijad\, põllumajanduslike esindus- ja erialaorganisatsioonide juhatuse liikmed ja töötajad.Programmi eesmärk on tõsta loomakasvatussektoris (v.a. vesiviljelus) tegelevate ettevõtjate ja töötajate teadmiste taset teemadel\, mis on seotud põllumajandusloomade pidamise\, söötmise\, heaolu\, tervise\, taudiennetuse\, aretuse ja geneetiliste ressursside säilitamise\, ohutu ja kvaliteetse sööda\, ning esmase töötlemise kaudu lisandväärtuse loomisega.\n\n\n\n\n\nSisu\n1. Ülevaade lüpsikarja sigivuse hetkeseisust;\n2. Faktorid mis mõjutavad sigivusparameetreid;\n3. Sigivusindeksid ja nende kasutamine;\n4. Võimalike sigivusest põhjustatud kahjude väljaarvestamine karja tasandil.\n\n\n\n\n\n\n\n\n\n\nOsalemissoovi korral on kindlasti vajalik eelregistreerimine\, seda saate teha SIIN \nNB! auditoorse õppe grupp on täitunud\nVeebiõppe gruppi on võimalik registreeruda: SIIT\nVeebiõppes osalemiseks on vaja\n1) kiiret internetiühendust\n2) et arvutist kostaks heli ehk siis kõlarit või kõrvaklappe\, kellel on võimalik kasutada mikrofoni\, siis soovitame seda kasutada\n3) veebilehitsejat Google Chrome\, Firefox või Opera. NB! Internet Exploreriga BigBlueButton keskkond ei tööta.\n\n\n\n\n\n\n\n\n\n\n\n\n\n\n\n\n\n\n\n\n\n\n\n\n\n\n\n\n\n\n\nLähem info koolituse korraldajalt:\nEesti Maaülikooli avatud ülikool\nFr. R. Kreutzwaldi 56 (III korrus\, ruumid 303-306)\, 51014 Tartu\,\ntel 731 3174\, 731 3175\, 731 3275\, 534 41844\ne-post: avayl@emu.ee\nhttp://avatudylikool.emu.ee2014
URL:https://test.pikk.ee/sundmus/koolitus-lupsikarja-sigivuse-tasuvusanaluus-5/
LOCATION:Eesti
CATEGORIES:Loomakasvatus
END:VEVENT
BEGIN:VEVENT
DTSTART;VALUE=DATE:20210602
DTEND;VALUE=DATE:20210603
DTSTAMP:20260423T200459
CREATED:20210514T114018Z
LAST-MODIFIED:20210614T051235Z
UID:10009852-1622592000-1622678399@test.pikk.ee
SUMMARY:Infopäev Põllumajandusloomade heaolu – väikemäletsejalised (lambad/kitsed)
DESCRIPTION:Infopäev toimub 02. juuni Olustvere Teenindus ja Maamajanduskoolis. \nAjakava \n09.00 – 10:30 Loeng \n10:30 – 10.45 Paus \n10:45 – 12:00 Loeng \n12:00 – 13:00 Lõuna \n13:00 – 15:00 Praktiline\, Pärnisaare Talu OÜ-s \n  \nLektor Ann-Mari Anupõld\, MES lambakasvatuskonsulent\, veterinaararst \nInfopäeva eesmärk on tõsta põllumajandusettevõtjate ja töötajate teadmiste taset teemadel: pidamistingimused; hügieen ja bioohutus; karantiin; loomade vedu; tervishoiu planeerimine ja  esmaabi. \n  \nAntud infopäev läheb arvesse loomade heaolu toetuse taotlemisel\, osalejatele väljastatakse tunnistus. \nRegistreerimise kuni 28.juuni\, või kuni grupp komplekteerub ( 20 osalejat ). \nKoolitusmaterjalid: https://www.olustvere.edu.ee/et/toimunud-pria-pip-koolitused-ja-materjalid \nRegistreerimine: Siin \nInfo 513 6242 \n  \nInfopäev toimub MAK 2014-2020 meetme „Teadmussiirde pikaajaline programm loomakasvatuse tegevusvaldkonnas II “ raames\, tegevus on rahastatud Eesti maaelu arengukava 2014-2020 vahenditest ja on kõigile osalejatele tasuta. \n 
URL:https://test.pikk.ee/sundmus/infopaev-pollumajandusloomade-heaolu-vaikemaletsejalised-lambad-kitsed-7/
END:VEVENT
BEGIN:VEVENT
DTSTART;VALUE=DATE:20210603
DTEND;VALUE=DATE:20210604
DTSTAMP:20260423T200459
CREATED:20210506T043343Z
LAST-MODIFIED:20210602T110817Z
UID:10009849-1622678400-1622764799@test.pikk.ee
SUMMARY:Keskkonnasõbraliku majandamise täiendkoolitus (KSM)
DESCRIPTION:Keskkonnasõbraliku majandamise täiendkoolitus Keskkonnasõbraliku majandamise toetuse (KSM) 2021. aasta täienduskoolitus toimub veebipõhiselt (Zoomis) \nToimumise aeg on 3. juuni (Zoomis). Registreerimine on lõppenud. \nKoolitus on kohustuslik  Keskkonnasõbraliku majandamise toetuse (KSM) taotlejatele. KSM toetuse saajad\, kellel on kohustus koolitus läbida\, saavad koolituse info e-postile. \n  \nKoolituse ajakava: \n9.00-9.30 sisenemine Zoomi \n9.30-11.00 Muld kui põllumahe tootmisvahend\, lektor Priit Penu \n11.00-12.20 Vahe- ja haljasväetiskultuurid ja nende tähtsus\, huumuse kalkulaator\, lektor Karli Sepp \n12.20-13.00 paus \n13.00-15.00 Mesilased – kasulikud\, kuid haavatavad putukad. QuESSA projekti tulemused\, lektor Tago Holsting \n15.00-16. 00 Arutelu\, kokkuvõte\, praktiline ülesanne/eksam \nKoolituse teemad: \n\nKSM_muld_ettekanne_taienduskoolitus_2021  – Priit Penu\nKSM_vahekultuurid_ettekanne_taienduskoolitus_2021 – Karli Sepp\nKSM_muld_ettekanne_taienduskoolitus_2021KSM_mesliased_ettekanne_taienduskoolitus_2021 – Tago Holsting\n\nKoolituse läbinutele (sh eksami/praktilise töö sooritanud isikutele) väljastatakse tunnistus. KSM koolituse kohustuslaste andmed koolituse läbimise kohta edastatakse PRIA-le. \nÕppekava \nInfo saamiseks palume pöörduda: \n\nMaaelu Edendamise Sihtasutuse nõuandeteenistusse\, kontakt arendus-koolitusspetsialist  Angelika Nöps\, telefon 742 4005; e-post: angelika.nops@pikk.ee või\,\nPõllumajandusuuringute Keskusesse\, kontakt Ere Ploomipuu\, telefon 5031048\, e-post: ere.ploomipuu@pmk.agri.ee\n\nKoolitus toimub Põllumajanduse\, toidu ja maamajanduse teadmussiirde programmi raames.
URL:https://test.pikk.ee/sundmus/ksm-koolitus2021/
LOCATION:Veebis\, Eesti
CATEGORIES:Keskkond,Taimekasvatus
ORGANIZER;CN="Maaelu Edendamise Sihtasutus":MAILTO:angelika.nops@pikk.ee
END:VEVENT
BEGIN:VEVENT
DTSTART;TZID=Europe/Tallinn:20210603T090000
DTEND;TZID=Europe/Tallinn:20210603T123000
DTSTAMP:20260423T200459
CREATED:20210519T144044Z
LAST-MODIFIED:20220707T062515Z
UID:10009858-1622710800-1622723400@test.pikk.ee
SUMMARY:Infopäev veebis piima kvaliteedistandarditest
DESCRIPTION:EPKK korraldab 3. juunil infopäev-seminari\, kus arutatakse kvaliteedikava „Eesti Piim“ koostamise vajaduse ja sisu üle. \n\n\nEuroopa Liit annab võimaluse toetada kehtestatud nõuetest kõrgemate standardite väljatöötamist ja rakendamist. Mitmed riigid on selliseid võimalusi kasutanud\, kvaliteedikavade tingimused on koostöös piima tootjate ja töötlejatega kokku lepitud ning nendest on saanud konkurentsieelis nii kodu- kui eksportturgudel. Ühtse ja kõrgema kvaliteedi saamiseks on oluline määratleda kindlad kvaliteedi ja ohutuse kriteeriumid toorpiimale. EPKK kutsub kaasa mõtlema ja arutlema kvaliteedikava „Eesti Piim“ koostamise vajaduse ja sisu üle. \n\n\nInfopäeva päevakava* \n9:00 – 10:00 Kvaliteedikava väljatöötamine\, rakendamine ja kontroll \n                   Liis Raska\, Maaeluministeeriumi ekspordi ja turuarenduse büroo peaspetsialist \n10:00 – 10:45 Euroopa Liidu kvaliteedikava geograafilise tähise “Sõir” spetsifikaadi protseduur ja väljatöötamine \n                    Heili Sadam\, BioCC OÜ toidutehnoloog \n10:45 – 11:15 Kvaliteedikavad piimale teiste riikide näidetel \n                    Kaie Laaneväli-Vinokurov\, Maaeluministeeriumi põllumajandus- ja toidusektori arengu büroo \n11:15 – 12:15 Piima kõrgemad kvaliteedistandardid tagavad paremad majandustulemused \n                    Hardi Tamm\, MTÜ Piimaklaster juhatuse liige \n12:15  Arutelu ja infopäeva kokkuvõte \n* Korraldaja jätab endale õiguse teha vajadusel ajakavas muudatusi \n  \nInfopäevast võivad osa võtta kõik valdkonnas tegutsevad või sellest huvitatud isikud. Osalemine on tasuta\, kui ettevõtte vähese tähtsusega abi määr ei ole ületatud. \nEttevõtte vähese tähtsusega abi (VTA) vaba jääki saab kontrollida veebilehelt https://www.rahandusministeerium.ee/et/riigiabi. Tegemist on vähese tähtsusega abiga\, abisumma on 72 eurot ühe osaleva inimese kohta. \nInfopäev toimub MAK 2014-2020 meetme „Teadmussiirde pikaajaline programm toiduohutuse valdkonnas“ raames\, läbiviimist toetab Euroopa Liit. \nRegistreerumine toiduteave.ee lehel https://toiduteave.ee/infopaev-03-06-2021-veebis-piima-kvaliteedistandardid/
URL:https://test.pikk.ee/sundmus/infopaev-veebis-piima-kvaliteedistandarditest/
LOCATION:Veebis\, Eesti
CATEGORIES:Toiduainete tootmine
END:VEVENT
BEGIN:VEVENT
DTSTART;TZID=Europe/Tallinn:20210603T093000
DTEND;TZID=Europe/Tallinn:20210603T161500
DTSTAMP:20260423T200459
CREATED:20210519T120231Z
LAST-MODIFIED:20210527T045627Z
UID:10009857-1622712600-1622736900@test.pikk.ee
SUMMARY:KEVILI põllupäev - Keskkonnasõbralik rapsikasvatus
DESCRIPTION:KEVILI põllupäev – “Keskkonnasõbralik rapsikasvatus” toimub 03. juunil 2021. \nAllolevalt päevakava: \n09.30 – 10.00 kogunemine Vitsjärve Põldur kuivatikompleksi juures https://www.google.com/maps/dir/58.6547657\,25.8087121/@58.6582893\,25.8166381\,2018m/data=!3m1!1e3!4m2!4m1!3e0 \n10.00 – 10.10 päeva avamine – Hannes Prits\, KEVILI juhataja \n10.10 – 10.35 Ettevõtte tutvustus – Tanel Tõrvand\, Vitsjärve Põldur OÜ \n10.35 – 11.00 Ettevõtte tutvustus – Tõnis Riisk\, Essi Agro OÜ \n11.00 – 14.30 Põldkatsetel ja tootmispõldudel ringkäik \n\nTalirapsi sordid (kokku üle 15 sordi)\nTalirapsi agrotehnika (külv\, külviajad\, kahjurite seired\, väetamine)\nTalirapsi kasvuregulaatorid\nTalioder – eelvili talirapsile. Agrotehnika\nTalinisu sordid (kokku üle 7 sordi). Agrotehnika\nTalinisu – eelvili talirapsile.  Agrotehnika\n\n14.30 – 15.15 Lõuna \n15.15 – 16.15 Tehnika ja kuivati tutvustus \n16.15 – …        Kojusõit \nKoolitusel osalemiseks on kohustuslik registreerumine aadressil kevili@kevili.ee hiljemalt 01. juuniks!
URL:https://test.pikk.ee/sundmus/kevili-pollupaev-keskkonnasobralik-rapsikasvatus/
LOCATION:Jõgevamaa\, Jõgevamaa\, Eesti
END:VEVENT
END:VCALENDAR