BEGIN:VCALENDAR
VERSION:2.0
PRODID:-//METK nõuandeteenistus - ECPv6.15.13//NONSGML v1.0//EN
CALSCALE:GREGORIAN
METHOD:PUBLISH
X-ORIGINAL-URL:https://test.pikk.ee
X-WR-CALDESC:Events for METK nõuandeteenistus
REFRESH-INTERVAL;VALUE=DURATION:PT1H
X-Robots-Tag:noindex
X-PUBLISHED-TTL:PT1H
BEGIN:VTIMEZONE
TZID:Europe/Tallinn
BEGIN:DAYLIGHT
TZOFFSETFROM:+0200
TZOFFSETTO:+0300
TZNAME:EEST
DTSTART:20200329T010000
END:DAYLIGHT
BEGIN:STANDARD
TZOFFSETFROM:+0300
TZOFFSETTO:+0200
TZNAME:EET
DTSTART:20201025T010000
END:STANDARD
BEGIN:DAYLIGHT
TZOFFSETFROM:+0200
TZOFFSETTO:+0300
TZNAME:EEST
DTSTART:20210328T010000
END:DAYLIGHT
BEGIN:STANDARD
TZOFFSETFROM:+0300
TZOFFSETTO:+0200
TZNAME:EET
DTSTART:20211031T010000
END:STANDARD
BEGIN:DAYLIGHT
TZOFFSETFROM:+0200
TZOFFSETTO:+0300
TZNAME:EEST
DTSTART:20220327T010000
END:DAYLIGHT
BEGIN:STANDARD
TZOFFSETFROM:+0300
TZOFFSETTO:+0200
TZNAME:EET
DTSTART:20221030T010000
END:STANDARD
END:VTIMEZONE
BEGIN:VEVENT
DTSTART;TZID=Europe/Tallinn:20210802T110000
DTEND;TZID=Europe/Tallinn:20210802T160000
DTSTAMP:20260423T121727
CREATED:20210720T074139Z
LAST-MODIFIED:20210802T185748Z
UID:10009884-1627902000-1627920000@test.pikk.ee
SUMMARY:Mahepõllumajandusliku köögiviljakasvatuse infopäev
DESCRIPTION:Infopäev: mahepõllumajanduslik köögiviljakasvatus \nAeg: 2. august kell 11-16 \nKoht: Erto talu\, Kõrenduse küla\, Tartu vald\, Tartumaa \nKorraldaja: Mahepõllumajanduse Koostöökogu koostöös Ökoloogiliste Tehnoloogiate Keskusega \n  \nProgramm \n11:00    Mullaharimisvõtted umbrohtumuse reguleerimiseks. Margo Mansberg (Erto talu). Arutelu \n          Umbrohutõrjeks sobiv tehnika. Priit Põldma (Eesti Maaülikool). Arutelu \n13:30    Lõunapaus \n14:00    Erto talu köögiviljapõldude vaatlus. Arutelu. Margo Mansberg \n            Maheklastri katsete tulemuste tutvustus. Priit Põldma\, Margo Mansberg \n16:00    Lõpp \nInfopäev on tasuta. Osalemiseks on kindlasti vajalik eelregistreerimine hiljemalt  26.07 e-maili aadressil maheteave@gmail.com. Registreerimine lõpetatakse kohtade täitumisel. \nInfopäev läheb arvesse mahetoetuse kohustusliku koolitusena (6 ak tundi) \nLisainfo: maheteave@gmail.com \nInfopäev toimub MAK 2014-2020 meetme „Teadmussiirde pikaajaline programm põllumajanduse\, toidu ja maamajanduse tegevusvaldkonnas“ mahemajanduse valdkonna raames\, toetab Euroopa Liit.
URL:https://test.pikk.ee/sundmus/mahepollumajandusliku-koogiviljakasvatuse-infopaev/
LOCATION:Tartumaa\, Eesti
CATEGORIES:Aiandus,Taimekaitse,Taimekasvatus
GEO:58.4057128;26.801576
END:VEVENT
BEGIN:VEVENT
DTSTART;TZID=Europe/Tallinn:20210803T100000
DTEND;TZID=Europe/Tallinn:20210803T150000
DTSTAMP:20260423T121727
CREATED:20210713T125310Z
LAST-MODIFIED:20210809T061914Z
UID:10009877-1627984800-1628002800@test.pikk.ee
SUMMARY:Katmiktehnoloogiate infopäev: kasvuhoonete tüübid lillekultuuride kasvatamisel
DESCRIPTION:Eesti Maaülikool korraldab katmikala tehnoloogiaid tutvustava infopäeva\, kus tutvustatakse erinevaid Eesti tingimustesse sobivaid kasvuhoonetüüpe ja tehnoloogilisi lahendusi kasvuhoonetes lillekultuuride kasvatamisel. \nAeg: 03. august 2021\, kell 10.00 – 15.00\nAsukoht: Rikets Aiand\, Pagavere\, Vana-Aespa küla\, Kohila vald\, Rapla maakond\, 79748 (https://goo.gl/maps/nUpZmMctCrHpDvKp7 ) \nPäevakava:\n9.45 Kogunemine\, kohv\n10.00 – 10.45. Põhjamaade tingimustesse sobivad kasvuhoonete tüübid: tunnelkasvuhooned ja plokkkasvuhooned. Roland Rool\, Baltic Agro.\n10.45 – 11.30. Erinevad küttelahendused\, kliimakontrolli ja energiasäästu võimalused kasvuhoonetes. Roland Rool\, Baltic Agro.\n11.30 – 12.00 Biotõrje võimalused lillekultuuride kahjustajate tõrjel\, lillekasvataja praktilised kogemused. Marili Jaama\, Flores Aed OÜ.\n12.00 – 12.40 Energiapaus ja arutelu\n12.30 – 13.00 Innovaatilised lahendused kahjustajate seireks ja keskkonnasõbralikuks tõrjeks katmikalal: ülevaade projekti SMARTPROTECT tegevustest. Priit Põldma\, EMÜ.\n13.00 – 15.00 Tutvumine Rikets aiandi kasvuhoonete tehnoloogiliste lahendustega lillekasvatajatele. Arutelu\, kohapeal tekkinud küsimused. (Getriin Hermlin\, Roland Rool ja Priit Põldma) \nInfopäev on tasuta\, osalemiseks on vajalik eelregistreerumine hiljemalt 30. juuliks siin: https://bit.ly/katmikala2_2021 \nEsitluse jaotusmaterjalid: \nKasvuhoonete tüübid ja energialahendused – R. Rool \nBiotõrje võimalused lillekultuuride kahjustajate tõrjel\, lillekasvataja praktilised kogemused. Marili Jaama \nÜlevaade projekti SMARTPROTECT tegevustest – P. Põldma \nLisainfo e-postilt: priit.poldma@emu.ee\nInfopäev toimub MAK 2014-2020 meetme „Teadmussiirde pikaajaline programm põllumajanduse\, toidu ja maamajanduse tegevusvaldkonnas“ aianduse valdkonna raames; Rahastamisallikas: Euroopa Maaelu Põllumajandusfond (EAFRD).
URL:https://test.pikk.ee/sundmus/katmiktehnoloogiate-infopaev-kasvuhoonete-tuubid-lillekultuuride-kasvatamisel/
LOCATION:Raplamaa\, Raplamaa
CATEGORIES:Aiandus
GEO:58.8492625;24.7346569
END:VEVENT
END:VCALENDAR