BEGIN:VCALENDAR
VERSION:2.0
PRODID:-//METK nõuandeteenistus - ECPv6.15.13//NONSGML v1.0//EN
CALSCALE:GREGORIAN
METHOD:PUBLISH
X-WR-CALNAME:METK nõuandeteenistus
X-ORIGINAL-URL:https://test.pikk.ee
X-WR-CALDESC:Events for METK nõuandeteenistus
REFRESH-INTERVAL;VALUE=DURATION:PT1H
X-Robots-Tag:noindex
X-PUBLISHED-TTL:PT1H
BEGIN:VTIMEZONE
TZID:Europe/Tallinn
BEGIN:DAYLIGHT
TZOFFSETFROM:+0200
TZOFFSETTO:+0300
TZNAME:EEST
DTSTART:20200329T010000
END:DAYLIGHT
BEGIN:STANDARD
TZOFFSETFROM:+0300
TZOFFSETTO:+0200
TZNAME:EET
DTSTART:20201025T010000
END:STANDARD
BEGIN:DAYLIGHT
TZOFFSETFROM:+0200
TZOFFSETTO:+0300
TZNAME:EEST
DTSTART:20210328T010000
END:DAYLIGHT
BEGIN:STANDARD
TZOFFSETFROM:+0300
TZOFFSETTO:+0200
TZNAME:EET
DTSTART:20211031T010000
END:STANDARD
BEGIN:DAYLIGHT
TZOFFSETFROM:+0200
TZOFFSETTO:+0300
TZNAME:EEST
DTSTART:20220327T010000
END:DAYLIGHT
BEGIN:STANDARD
TZOFFSETFROM:+0300
TZOFFSETTO:+0200
TZNAME:EET
DTSTART:20221030T010000
END:STANDARD
END:VTIMEZONE
BEGIN:VEVENT
DTSTART;TZID=Europe/Tallinn:20210830T090000
DTEND;TZID=Europe/Tallinn:20210830T123000
DTSTAMP:20260421T131440
CREATED:20210623T062725Z
LAST-MODIFIED:20220226T080017Z
UID:10007936-1630314000-1630326600@test.pikk.ee
SUMMARY:Inimeste sotsiaalne juhtimine
DESCRIPTION:Infopäeva teemaks on sotsiaalne juhtimine. Osalejatele antakse teavet sotsiaalse juhtimise olemusest\, selle peamistest komponentidest ja harjutatakse praktilisi juhtimistegevusi. \nAeg: 30. augustil 2021 kl 9:00 – 12:15. \nKoht: Zoom keskkond \nKoolitaja: konsultant ja juhtimiskoolitaja Kristel Jalak. \nRegistreerumise link allpool \nInfopäeva sihtgrupiks on põllumajandustoodete tootmise ja töötlemise\, põllumajandusmaa hooldamise\, põllumajandustoodetest mittepõllumajandustoodete töötlemise või metsa majandamisega tegelevad isikud või mittepõllumajandusliku ettevõtlusega tegelevad mikroettevõtjad. \nInfopäeva teemad: \n\nSotsiaalsus\, selle komponendid ja avaldumine ühiskonnas\nKoostöö kujunemine ja selle juhtimine erinevates etappides\nKaasamine kui sotsiaalse juhtimise oluline tegevus\nPraktilised suhtlemismudelid inimeste sotsiaalsel juhtimisel (selgete juhtnööride ja korralduste andmine\, veenva ettepaneku tegemine\, suhteid säilitav keeldumine).\n\nInfopäev on praktiline\,  lühikesed teooriaülevaated vahelduvad grupiarutelude\, rühmatööde\, ajurünnakute ja eneseanalüüsi ülesannetega. Registreerunud osalejad saavad enne infopäeva osalemiskutse zoomis; juhendi\, kuidas zoom keskkonda infopäeval kasutada ja töölehed –  soovitav on need endale välja trükkida. \nKuna tegemist on grupiviisilise tööga\, siis on osalemiseks oluline valmisolek viibida kohal kogu infopäeva vältel\, sisselülitatud videopildiga. \nInfopäeval osalemiseks on vaja: \n\nStabiilset internetiühendust\nVeebikaameraga laua-\, süle- või tahvelarvutit. Nutitelefoniga osalemine ei võimalda kõikide tööks vajalike rakenduste kasutamist.\n\nInfopäeva ei salvestata ja see pole järelvaadatav. \n  \nInfopäeva viib läbi Kristel Jalak\,  (PhD Agri) – põllumajandusharidusega\, 30-aastase praktilise juhtimise kogemusega ning 20-aastase inimeste arendamise ja koolitamise kogemusega konsultant ja koolitaja. Töötanud kõikidel juhtimistasanditel\, sh juhtkonna liikmena rahvusvahelistes suurkorporatsioonides (PepsiCo\, Cleanaway/Brambles Group\, Enics) ja Eesti avalikus teenistused (PRIA\, HTM). Täiskasvanute koolitaja ja suhtlemistreeneri (videotreeneri) kogemus alates 1999. aastast. Läbinud Hancocki esinemisoskuste treeneri väljaõppe Moskvas ja Londonis ning Bowperson aktiivmeetodite väljaõppe Londonis. Aasta Koolitaja 2019. Kristeli kvalifikatsiooni kohta leiate rohkem infot  www.developdesign.eu \n  \nInfopäev toimub MAK 2014-2020 „Teadmussiirde programm põllumajanduse\, toidu ja maamajanduse tegevusvaldkonnas“  raames\, toetab Euroopa Liit. \n 
URL:https://test.pikk.ee/sundmus/inimeste-sotsiaalne-juhtimine/
LOCATION:Muu\, Eesti
CATEGORIES:Maaettevõtlus,Ühistegevus
ATTACH;FMTTYPE=image/png:https://test.pikk.ee/wp-content/uploads/2021/06/Inimeste-sotsiaalne-juhtimine.png
GEO:58.595272;25.0136071
END:VEVENT
BEGIN:VEVENT
DTSTART;TZID=Europe/Tallinn:20210830T120000
DTEND;TZID=Europe/Tallinn:20210830T164500
DTSTAMP:20260421T131440
CREATED:20210817T065935Z
LAST-MODIFIED:20210817T065935Z
UID:10009890-1630324800-1630341900@test.pikk.ee
SUMMARY:Mahelihaveisekasvatuse õpiring 2021
DESCRIPTION:Mahepõllumajanduse Koostöökogu koostöös Ökoloogiliste Tehnoloogiate Keskusega korraldab mahelihaveisekasvatusega tegelevatele ettevõtetele õpiringi. Sellest oodatakse osa võtma ettevõtteid\, kes soovivad end teiste kogemuste abil koolitada ja on valmis oma kogemusi jagama. \n2021. a toimub neli õpiringi kokkusaamist\, millest esimene toimub 30. augustil Puutsa talus Jõgevamaal. Järgmiste kokkusaamiste detailsemad teemad ja toimumiskohad lepitakse kokku esimesel kokkusaamisel. Õpiringis osalejatelt oodatakse osalemist kõigil neljal planeeritud kokkusaamisel. \nAeg: 30. august 2021 kell 12.00-16.45 \nAsukoht:  Puutsa talu\, Tõrve\, Jõgevamaa \nÕpiringi juhendab Airi Külvet (MTÜ Liivimaa Lihaveis; Puutsa talu) \nÕpiringis osalemine on tasuta. Õpiringides osalemine läheb arvesse mahepõllumajandusliku tootmise toetuse saamise kohustusliku koolitusena. \nÕpiringis osalemiseks palun saata hiljemalt 20. augustiks e-mail aadressil maheteave@gmail.com. Osalejate arv on piiratud\, registreerimine lõpetatakse kohtade täitumisel enne tähtaega. \nLisainfo: \nAiri Külvet\nairi@liivimaalihaveis.ee \nMerit Mikk\nÖkoloogiliste Tehnoloogiate Keskus\nmaheteave@gmail.com\nÕpiring toimub MAK 2014-2020 meetme „Teadmussiirde programm põllumajanduse\, toidu ja maamajanduse tegevusvaldkonnas“ mahemajanduse valdkonna raames\, toetab Euroopa Liit.
URL:https://test.pikk.ee/sundmus/mahelihaveisekasvatuse-opiring-2021/
LOCATION:Jõgevamaa\, Jõgevamaa\, Eesti
CATEGORIES:Loomakasvatus
END:VEVENT
BEGIN:VEVENT
DTSTART;TZID=Europe/Tallinn:20210831T100000
DTEND;TZID=Europe/Tallinn:20210831T140000
DTSTAMP:20260421T131440
CREATED:20210813T121033Z
LAST-MODIFIED:20210813T121522Z
UID:10007956-1630404000-1630418400@test.pikk.ee
SUMMARY:Vähelevinud puuvilja- ja marjakultuuride esitluspäev
DESCRIPTION:Eesti Maaülikool korraldab 31. augustil vähelevinud puuvilja- ja marjakultuuride esitluspäeva. Eesmärgiks on tutvustada söödavat kuslapuud\, jaapani ebaküdooniat: töötlemisseadmed ja tootearendus. \n  \nAeg: 31.08.2021 kell 10.00-13.50 \nKoht: Eesti Maaülikooli PKI Polli aiandusuuringute keskus\, Mulgi vald\, Polli küla\, Viljandimaa\, 69108 (https://goo.gl/maps/mTty5krCZ532 ). \n  \nPäevakava: \n9.30 Kogunemine Polli Aiandusuuringute Keskusesse\, tervituskohv \n10.00-10.15 Sinise kuslapuu ja jaapani ebaküdoonia väärindamise võimalused – Mailis Vinogradov \n10.15-10.45 Polli aiandusuuringute keskuses läbiviidud tootearendusprojektid (sh külmkuivatamine) ning koostöövõimalused tootjatele – Peeter Laurson \n10.45-11.15 Vähelevinud puuvilja- ja marjakultuuride töötlemistehnoloogiad praktikas ning toodete degusteerimine – Liina Arus \n11.15-11.30 Uue-Saaluse veinitalu toodete tutvustus – Maris Kivistik \n11.30-12.00 Energiapaus ja toodete tutvustamine \n12.00-12.20 Ringkäik Kompetentsikeskuses Plantvalor – Peeter Laurson\, Alar Aluvee \n12.20-13.20 Puuviljade ja marjade tootearenduskeskuse tutvustamine – Hans Neppo \n13.20-13.50 Arutelu ja lõpetamine \n  \nEsitluspäev on tasuta. \nKohtade arv on piiratud\, registreerumine lõpetatakse kohtade täitumisel. Registreerimine SIIN \nLisainfo: Ave Kikas\, Eesti Maaülikool\, Polli Aiandusuuringute keskus\, tel.5132081 \ne-post: Ave.Kikas@emu.ee \nEsitlus toimub ’’Teadmussiirde programm põllumajanduse\, toidu ja maamajanduse tegevusvaldkonnas’’ aianduse valdkonna raames\, toetab Euroopa Liit.
URL:https://test.pikk.ee/sundmus/30302/
LOCATION:Viljandimaa\, Viljandimaa\, Eesti
CATEGORIES:Aiandus
GEO:58.2821746;25.5752233
END:VEVENT
BEGIN:VEVENT
DTSTART;TZID=Europe/Tallinn:20210901T100000
DTEND;TZID=Europe/Tallinn:20210903T160000
DTSTAMP:20260421T131440
CREATED:20210817T145651Z
LAST-MODIFIED:20210923T072118Z
UID:10009891-1630490400-1630684800@test.pikk.ee
SUMMARY:Edusammud kaunviljadega seotud teaduses ja praktikas 2
DESCRIPTION:1. – 3 septembril kell 10:00 – 16:00 (Kesk-Euroopa aja järgi) toimub teine ​​kaunviljade konverents “Edusammud kaunviljadega seotud teaduses ja praktikas 2”\, mille korraldab AAB (Association of Applied Biologists) spetsialistide rühm Cropping And The Environment (CATE). \nÜritusele oodatakse erinevate erialade esindajaid\, et uurida\, milline on kaunviljade roll säästvas põllumajanduses\, pöörates erilist tähelepanu ökosüsteemi teenustele. Üritus on rahvusvaheline ja hõlmab arutelusid teemal “Kaunviljad Aafrikas” ja “Tõlgitud kaunviljad”. \nKaunviljadel võib olla oluline roll jätkusuutlikus põllumajanduses\, olles põllukultuuride vahelises režiimis ressurss tolmeldajatele ja lindudele\, pakkudes vahelduvaid põllukultuure\, suurendades mulla lämmastiku taset\, juurdepääsu mullas sisalduvale fosforile ja edendades mulla bioloogilist mitmekesisust. \nKaunviljadest toidutoodete valmistamisega seotud kasvuhoonegaaside heitkogused on üldjuhul madalad\, samas kui tooted on väga toitainerikkad ning paljusid tooreid kaunviljatooteid saab pikka aega värskena hoida. Seetõttu kasvab nende roll jätkusuutlikus toidutootmises ja julgeolekus. \nSeminar pidi algselt toimuma Prantsusmaal Angersis\, kuid arusaadavatel põhjustel toimub see nüüd Zoom platvormil. Tegemist on kaasava üritusega\, kus saab kuulda mitmeid ettekandeid ja plakatite esitlusi. \nPlakati ettekandjate tutvustatud plakatid lisatakse pdf-failina “Konverentsi raamatusse”\, nad teevad lühikese ettekande ja seejärel osalevad vastavasisulises Zoomi arutelus. \nOsalustasu: 10-85£ \n\nÜrituse lisainfo leiad SIIN\nTutvu ürituse päevakavaga SIIN
URL:https://test.pikk.ee/sundmus/edusamud-kaunviljade-teaduses-ja-praktikas-2/
LOCATION:Veebis\, Eesti
END:VEVENT
BEGIN:VEVENT
DTSTART;VALUE=DATE:20210903
DTEND;VALUE=DATE:20210904
DTSTAMP:20260421T131440
CREATED:20210823T075738Z
LAST-MODIFIED:20210906T093954Z
UID:10009899-1630627200-1630713599@test.pikk.ee
SUMMARY:Infopäev Karja tervis lambakasvatuses
DESCRIPTION:Infopäev Karja tervis lambakasvatuses toimub 03. septembril Saaremaal\, Suure Tõllu puhkekülas. \nRegistreerimine infopäevale SIIN \nAjakava: \n8.45-9.00  kogunemine \n9.00  – 12.00 loeng Are Selge ja Morgan Hammerbeck \n12.00-12.30 lõuna \n13.00-18.00 taludes praktilised nõuanded ja teemakohased loengud. Are Selge\, Morgan Hammerbeck \nLoengu ettekanne \nLektorid : Are Selge (Kohalike kliimatingimusi arvestav sööda tootmine\, sööda koristus ja  silo ja heina valmistamine) \nMorgan Hammerbeck  (Karja tervis\, pidamistingimused\,söötmine ja karjatamise organiseerimine\, turustamine) \n  \nInfopäev toimub Teadmussiirde pikaajalise programmi loomakasvatuse valdkonnas raames ja on sihtgrupile tasuta. \n 
URL:https://test.pikk.ee/sundmus/infopaev-karja-tervis-lambakasvatuses/
LOCATION:Saaremaa\, Saaremaa
ORGANIZER;CN="Maaelu Edendamise Sihtasutus":MAILTO:angelika.nops@pikk.ee
GEO:58.3705526;22.6876383
END:VEVENT
BEGIN:VEVENT
DTSTART;TZID=Europe/Tallinn:20210903T100000
DTEND;TZID=Europe/Tallinn:20210903T130000
DTSTAMP:20260421T131440
CREATED:20210816T112707Z
LAST-MODIFIED:20211005T061454Z
UID:10009889-1630663200-1630674000@test.pikk.ee
SUMMARY:Investeeringud metsaala arengusse ja metsade elujõulisuse parandamisse
DESCRIPTION:Infopäev on järelvaadatav SIIN. \n  \nAeg: 3. september 2021 kell 10-13 \nKoht: Veebikeskkond ZOOM \nKorraldaja: Eesti Põllumajandus-Kaubanduskoda koostöös SA Erametsakeskusega \n  \nPäevakava \n10:00 – 10:05 Avasõnad moderaatorilt – Jaanus Aun\, SA Erametsakeskus \n10:05 – 10:30 Metsandustoetuste ülevaade – Kristine Hindriks\, Maaeluministeerium \n10:30 – 11:15 Toetuste taotlemise tingimused – Triin Karin\, SA Erametsakeskus \n11:15 – 11:30 Sirutuspaus \n11:30 – 12:15 Kohapealne kontroll – Gunnar Reinapu\, SA Erametsakeskus \n12:15 – 12:45 Puiduturu hetkeseis ja võimalikud arengud – Einar Rannula\, Eesti Puidumüügikeskuse tegevjuht  \n12:45 – 13:00 Infopäeva kokkuvõte moderaatorilt \n  \nInfopäev on tasuta ja suunatud metsa majandamisega tegelevatele isikutele sh erametsaomanikele ja metsaühistute eestvedajatele/tugiisikutele. \nOsalemiseks on kindlasti vajalik eelregistreerumine hiljemalt 2.09 SIIN. \nZOOMi link infopäevaga liitumiseks saadetakse registreerunutele 3. septembri hommikul – tund enne infopäeva algust. \nInfopäev toimub MAK 2014-2020 „Teadmussiirde pikaajaline programm põllumajanduse\, toidu ja maamajanduse tegevusvaldkonnas“ raames; Rahastamisallikas: Euroopa Maaelu Põllumajandusfond (EAFRD).
URL:https://test.pikk.ee/sundmus/investeeringud-metsaala-arengusse-ja-metsade-elujoulisuse-parandamisse-3/
LOCATION:Veebis\, Eesti
CATEGORIES:Metsandus
END:VEVENT
END:VCALENDAR