BEGIN:VCALENDAR
VERSION:2.0
PRODID:-//METK nõuandeteenistus - ECPv6.15.13//NONSGML v1.0//EN
CALSCALE:GREGORIAN
METHOD:PUBLISH
X-WR-CALNAME:METK nõuandeteenistus
X-ORIGINAL-URL:https://test.pikk.ee
X-WR-CALDESC:Events for METK nõuandeteenistus
REFRESH-INTERVAL;VALUE=DURATION:PT1H
X-Robots-Tag:noindex
X-PUBLISHED-TTL:PT1H
BEGIN:VTIMEZONE
TZID:Europe/Tallinn
BEGIN:DAYLIGHT
TZOFFSETFROM:+0200
TZOFFSETTO:+0300
TZNAME:EEST
DTSTART:20200329T010000
END:DAYLIGHT
BEGIN:STANDARD
TZOFFSETFROM:+0300
TZOFFSETTO:+0200
TZNAME:EET
DTSTART:20201025T010000
END:STANDARD
BEGIN:DAYLIGHT
TZOFFSETFROM:+0200
TZOFFSETTO:+0300
TZNAME:EEST
DTSTART:20210328T010000
END:DAYLIGHT
BEGIN:STANDARD
TZOFFSETFROM:+0300
TZOFFSETTO:+0200
TZNAME:EET
DTSTART:20211031T010000
END:STANDARD
BEGIN:DAYLIGHT
TZOFFSETFROM:+0200
TZOFFSETTO:+0300
TZNAME:EEST
DTSTART:20220327T010000
END:DAYLIGHT
BEGIN:STANDARD
TZOFFSETFROM:+0300
TZOFFSETTO:+0200
TZNAME:EET
DTSTART:20221030T010000
END:STANDARD
END:VTIMEZONE
BEGIN:VEVENT
DTSTART;TZID=Europe/Tallinn:20210907T100000
DTEND;TZID=Europe/Tallinn:20210907T133000
DTSTAMP:20260420T061344
CREATED:20210723T083239Z
LAST-MODIFIED:20210726T073652Z
UID:10009887-1631008800-1631021400@test.pikk.ee
SUMMARY:Tähtsaimad lepingud metsanduses
DESCRIPTION:Tähtsaimad lepingud metsanduses \n07.09.2021 \nÄripäeva veebiseminar \n  \n  \nVeebiseminaril räägime metsanduse valdkonna tüüpilistest lepingutest ja nendega seotud probleemidest. Käsitleme raieõiguse ja metsamaterjali võõrandamise lepingut\, teenuselepingut ja töölepingut metsandusvaldkonnas. Juhime tähelepanu vigadele\, mida lepingute tegemisel vältida ning anname praktilisi soovitusi tekkinud probleemide lahendamiseks. \nVeebiseminari läbimine aitab ennetada metsanduse valdkonnas lepingute sõlmimisega kaasneda võivaid juriidilisi probleeme. Veebiseminari läbinud metsaomanik oskab hinnata\, millal millist lepingut sõlmida\, oskab märgata sõlmitavates lepingutes tema jaoks olulist ja seeläbi maandada riske\, mis on seotud teise poole võimaliku lepingu rikkumisega. \n  \nTäpsemalt räägime veebiseminaril järgmistel teemadel: \n\n       kasvava raieõiguse müügist\,\n       metsamaterjali müügist\,\n       toodangu müügist\,\n       teenuslepingudest\,\n       ehituslepingudest\,\n       kinnisasjade kasutamist puudutavast.\n\nSamuti kästiletakse töölepinguid metsandusvaldkonnas. \nRäägitakse ka sellest\, mis saab siis\, kui lepingut ei täideta\, kuidas metsaomanik peaks end selle vastu kaitsma. \n  \nVeebiseminari viivad läbi advokaadibüroo TRINITI vandeadvokaadid Siim Maripuu ja Klen Laus. \n  \nVeebiseminar on TASUTA. Lisainfot veebiseminari kohta leiate: https://pood.aripaev.ee/veebiseminar-tahtsaimad-lepingud-metsaduses. \nMetsanduse teemal korraldatud tegevuses osalemise toetamine on riigiabi komisjoni määruse (EL) nr 702/2014 Euroopa Liidu toimimise lepingu artiklite 107 ja 108 kohaldamise kohta\, millega teatavat liiki abi põllumajandus- ja metsandussektoris ja maapiirkondades tunnistatakse siseturuga kokkusobivaks (ELT L 193\, 01.07.2014\, lk 1–75)\, artikli 38 tähenduses. \nAbil loetakse olevat ergutav mõju\, kui abisaaja on asjaomasele liikmesriigile esitanud kirjaliku abitaotluse enne projekti või tegevusega seotud töö alustamist. \nTaotluse veebiseminaril osalemissooviga saab täita (registreerimisvorm) SIIN. Kui millegipärast registreerimine ei õnnestu\, siis palun saatke kiri liina.aru@aripaev.ee. \n  \n  \nVeebiseminar toimub 7. septembril kell 10.00-13.15 internetis Äripäeva veebiseminaride keskkonnas.  Enne veebiseminari saadetakse registreerunud kasutajatele infomeil lingiga\, mille kaudu pääseb enne seminari algust veebiseminari keskkonda. \nSeminari on võimalik jälgida oma arvutist töökohal\, kodus või mujal Teile sobivas kohas ning selle jälgimiseks on tarvis arvutit\, internetiühendust ning mugavamaks kuulamiseks kõrvaklappe. Veebiseminari kestel on Teil võimalik esitada ka lektorile küsimusi\, mille saate kirjutada vestluse kasti. \nLisainfot veebiseminari kohta saab küsida kirjutades liina.aru@aripaev.ee. \n  \nVeebiseminar toimub MAK 2014-2020 “Teadmussiirde ja teavituse toetuse (meede 1) üleriigilise ulatusega tegevuste” meetme raames\, tegevust toetab Euroopa Liit. Toetus – infopäeval osaleja kohta 62\,00 eurot. \n 
URL:https://test.pikk.ee/sundmus/tahtsaimad-lepingud-metsanduses/
LOCATION:Veebis\, Eesti
ORGANIZER;CN="AS %C3%84rip%C3%A4ev":MAILTO:liina.aru@aripaev.ee
END:VEVENT
BEGIN:VEVENT
DTSTART;TZID=Europe/Tallinn:20210908T100000
DTEND;TZID=Europe/Tallinn:20210908T140000
DTSTAMP:20260420T061344
CREATED:20210831T115505Z
LAST-MODIFIED:20210910T102908Z
UID:10007968-1631095200-1631109600@test.pikk.ee
SUMMARY:Eesti toidu visioonikonverents
DESCRIPTION:Eesti toidu visioonikonverents\nAeg:  8. september 2021 kell 10 – 14\nKoht: Veebiülekanne Tohi Distilleryst\nKonverents on järelvaadatav https://play.saundland.ee/epkk0809v \n  \nRegistreerimine virtuaalsele konverentsile on avatud siin. \nEesti toidu visioonikonverentsil keskendutakse kahele olulisele teemale – toidu tootmine ja toidu tarbimine täna ja tulevikus. Mida toob kaasa uuenduslik ja innovaatiline toidutootmine toitumisele? Kas alternatiivsed toidud on täisväärtuslikud ja tagavad kõik vajalikud toitained? Kas trendid toidutootmises ja toidu tarbimisel on jäädavad või mööduvad? Neile ja paljudele teistele küsimustele püüame peaasjalikult mitmes vestlusringis vastuseid leida\, mõned traditsioonilised ettekanded ikka ka. \n  \nVestlusringides osalevad: Siim Tiidemann – Maaeluministeeriumi kalanduspoliitika ja välissuhete asekantsler; Andrus Laaniste – Academic Food Lab koolitaja\, kokk; Anu Hellenurme – Eesti Põllumajandus-Kaubanduskoja lihatoimkonna juht; Eliis Salm – Toitumisnõustaja Eesti Vegan Seltsis; Priit Lumi – Elsavie tegevjuht; Riina Annus – piimatoodete tehnoloog; Kaarel Adamberg – bio- ja toiduainetehnoloog; Ene Kärner – Eesti põllumajandusorganisatsioonide esindaja Brüsselis; Riina Maruštšak – teadlik toidutarbija. \nModeraator: Meeli Lindsaar\, Eesti Põllumajandus-Kaubanduskoja juhatuse liige \nPäevakava * \n10.00-11.45 I osa Tuleviku toidutootmine\nInnovaatiline proteiini tootmine – Solar Foods \nKus kasvab tuleviku liha? – Jack Bobo\, rahvusvaheliselt tunnustatud toidu futurist \nKas kaerajook on alternatiiv piimale?  – Riina Annus\, piimatoodete tehnoloog \nTrendid kokanduses – molekulaargastronoomia – Andrus Laaniste\, Academic Food Lab koolitaja \n  \n11.45-12.30 Lõunapaus \n  \n12.30 – 14.00 II osa Tuleviku toidu tarbimine\nInimesest lähtuv toitumine täna ja homme – Priit Lumi\, Elsavie tegevjuht \nVeganlus – Eliis Salm\, toitumisnõustaja Eesti Vegan Seltsis \nToitumise müüdid ja tegelikkus – Kaarel Adamberg\, bio- ja toiduainetehnoloog \nEesti toidu tulevik – Siim Tiidemann\, Maaeluministeeriumi kalanduspoliitika ja välissuhete asekantsler \n  \n* Korraldajal on vajadusel õigus teha päevakavas muudatusi \n  \nKonverents toimub MAK 2014-2020 teadmussiirde ja teavituse toetuse meetme rahastusel ja on osalejatele tasuta. \nLisainfo: Maire Vimb\, EPKK projektijuht maire@epkk.ee; tel 50 86 664
URL:https://test.pikk.ee/sundmus/eesti-toidu-visioonikonverents/
END:VEVENT
BEGIN:VEVENT
DTSTART;TZID=Europe/Tallinn:20210909T090000
DTEND;TZID=Europe/Tallinn:20210909T143000
DTSTAMP:20260420T061344
CREATED:20210824T124336Z
LAST-MODIFIED:20210902T075509Z
UID:10009906-1631178000-1631197800@test.pikk.ee
SUMMARY:Seenekasvatuse alused
DESCRIPTION:Täpsem info ja registreerumine SIIN \nKoolitus annab ülevaate seente kasvatamise spetsiifilistest nõuetest\, võimalustest ja väljakutsetest. \nKoolitus toimub 9. septembril 2021 Tartus\, Eesti Maaülikooli Fr.R. Kreutzwaldi 56/1 õppehoones (tehnikamajas). \nSellel koolitusel osalemine on tasuline (85 eurot) ning vajalik on eelregistreerimine. \n  \nKoolituse korraldaja:\nEesti Maaülikooli avatud ülikool\nFr. R. Kreutzwaldi 56/1\n51006 Tartu\,\ntel 731 3275\ne-post: avayl@emu.ee\nhttp://avatudylikool.emu.ee/
URL:https://test.pikk.ee/sundmus/seenekasvatuse-alused/
LOCATION:Tartu\, Eesti
CATEGORIES:Aiandus,Taimekasvatus,Toiduainete tootmine
END:VEVENT
END:VCALENDAR