BEGIN:VCALENDAR
VERSION:2.0
PRODID:-//METK nõuandeteenistus - ECPv6.15.13//NONSGML v1.0//EN
CALSCALE:GREGORIAN
METHOD:PUBLISH
X-ORIGINAL-URL:https://test.pikk.ee
X-WR-CALDESC:Events for METK nõuandeteenistus
REFRESH-INTERVAL;VALUE=DURATION:PT1H
X-Robots-Tag:noindex
X-PUBLISHED-TTL:PT1H
BEGIN:VTIMEZONE
TZID:Europe/Tallinn
BEGIN:DAYLIGHT
TZOFFSETFROM:+0200
TZOFFSETTO:+0300
TZNAME:EEST
DTSTART:20210328T010000
END:DAYLIGHT
BEGIN:STANDARD
TZOFFSETFROM:+0300
TZOFFSETTO:+0200
TZNAME:EET
DTSTART:20211031T010000
END:STANDARD
BEGIN:DAYLIGHT
TZOFFSETFROM:+0200
TZOFFSETTO:+0300
TZNAME:EEST
DTSTART:20220327T010000
END:DAYLIGHT
BEGIN:STANDARD
TZOFFSETFROM:+0300
TZOFFSETTO:+0200
TZNAME:EET
DTSTART:20221030T010000
END:STANDARD
BEGIN:DAYLIGHT
TZOFFSETFROM:+0200
TZOFFSETTO:+0300
TZNAME:EEST
DTSTART:20230326T010000
END:DAYLIGHT
BEGIN:STANDARD
TZOFFSETFROM:+0300
TZOFFSETTO:+0200
TZNAME:EET
DTSTART:20231029T010000
END:STANDARD
END:VTIMEZONE
BEGIN:VEVENT
DTSTART;TZID=Europe/Tallinn:20221219T090000
DTEND;TZID=Europe/Tallinn:20221221T160000
DTSTAMP:20260425T224108
CREATED:20220818T125213Z
LAST-MODIFIED:20221213T130638Z
UID:10008318-1671440400-1671638400@test.pikk.ee
SUMMARY:Toiduhügieen ja -ohutus\, keskaste (veebipõhine kursus)
DESCRIPTION:Täpsem info ja registreerumine SIIT \nTegemist on tasulise koolitusega\, mille hinnaks on 270 eurot. \n. \nKoolitus toimub kolme 8-tunnise õppepäevana 19.-21. detsember 2022. \nKoolitus annab teadmisi toiduhügieenialase koolituse läbiviimiseks ettevõttes\, toiduohutuse töörühma juhtimiseks ja töötajates toiduohutusele suunatud hoiakute kujundamiseks. \n. \nTäienduskoolitusest võivad osa võtta kõik huvilised sh füüsilised isikud\, riigiametnikud\, õpetajad ja kalandus- ja vesiviljelustoodete tootjad ja töötlejad. \n. \nKoolituse korraldaja:\nEesti Maaülikooli avatud ülikool\nFr. R. Kreutzwaldi 56/1\n51006 Tartu\,\ntel 731 3275\ne-post: avayl@emu.ee\nhttp://avatudylikool.emu.ee/
URL:https://test.pikk.ee/sundmus/toiduhugieen-ja-ohutus-keskaste-5-2/
CATEGORIES:Toiduainete tootmine,Toit ja toiduohutus
END:VEVENT
BEGIN:VEVENT
DTSTART;TZID=Europe/Tallinn:20221219T130000
DTEND;TZID=Europe/Tallinn:20221219T154000
DTSTAMP:20260425T224108
CREATED:20221206T064900Z
LAST-MODIFIED:20221227T091657Z
UID:10010440-1671454800-1671464400@test.pikk.ee
SUMMARY:EPKK infopäev „Täppisviljelus ja digilahendused taimekasvatuses“
DESCRIPTION:EPKK infopäev „Täppisviljelus ja digilahendused taimekasvatuses“ \nToimumise aeg: 19. detsember 2022 kell 13.00 – 15.30 \nToimumise koht: Veebikeskkond ZOOM \nTaimekasvatusprotsesside digitaliseerimine tagab tootmise kuluefektiivsuse ja jätkusuutlikkuse. Intelligentsed sensorid ja mõõtmistehnoloogia\, kõrge resolutsiooniga laotuskaardid ja kogemused asukohapõhises taimekasvatuses\, tagavad uue kvaliteedi põllutöödel. Infopäeval toomegi kuulajateni selle aasta taimekasvatushooaja olulisemad märksõnad täppisviljeluse puhul\, keskendudes mullakaartidele ja sealt saadud info tõlgendamisele väetusplaanide tegemisel. Lisaks saame teada\, kuidas on läinud Eesti Taimekasvatuse Instituudil droonide kasutamine\, mida on õpitud projektist NOBALwheat. \nPÄEVAKAVA: \n13.00 – 13.05 Avasõnad. EPKK põllumajandusvaldkonna juht Meelika Sander-Sõrmus\n13.05 – 14.05 Mullakaardid ja sealt saadud info tõlgendamine väetusplaanide tegemisel. Precision Farming OÜ juhatuse liige Meit Jürgens \n\nAsukohapõhine mullaproovide kogumine;\nVäetamine vastavalt taime vajadusetele;\nEfektiivne väetamine põhielementidega ja lämmastikuga (õige väetis\, õige aeg\, õige koht\, õige kogus);\nAsukohapõhine lupjamine;\nAgriPORT – andmehaldus põllumehele.\n\n14.05 – 14.15 Paus \n14.15 – 15.00 Loeng jätkub. Precision Farming OÜ juhatuse liige Meit Jürgens \n15.00 – 15.15 Põllumehe kogemus täppisviljeluslahenduste kasutamisel. Avispeamees OÜ agronoom Vardo Lund \n15.15 –  15.35 Droonide kasutamine ETKIs – projekt NOBALwheat. Eesti Taimekasvatuse Instituudi vaneminsener Anti Konsap \n\nKuidas kahel viimasel aastal on instituudis droone kasutatud\, kuidas seda täpsemalt tehakse\, kuhu pildid edasi liiguvad ja kuidas neid andmeid kasutatakse.\n\n15.35 – 15.40 Infopäeva kokkuvõte. EPKK põllumajandusvaldkonna juht Meelika Sander-Sõrmus \n  \nTASUTA infopäev toimub MAK 2014-2020 meetme „Teadmussiirde pikaajaline programm põllumajanduse\, toidu ja maamajanduse tegevusvaldkonnas“ taimekasvatuse valdkonna raames. Rahastamisallikas: Euroopa Maaelu Põllumajandusfond (EAFRD). \n  \nLisainformatsioon: Meelika Sander-Sõrmus\, EPKK põllumajandusvaldkonna juht\, tel. +372 555 33 789\, meelika@epkk.ee
URL:https://test.pikk.ee/sundmus/epkk-infopaev-tappisviljelus-ja-digilahendused-taimekasvatuses-2/
CATEGORIES:Taimekasvatus
ORGANIZER;CN="Eesti P%C3%B5llumajandus-Kaubanduskoda":MAILTO:info@epkk.ee
END:VEVENT
BEGIN:VEVENT
DTSTART;TZID=Europe/Tallinn:20221220T100000
DTEND;TZID=Europe/Tallinn:20221220T121500
DTSTAMP:20260425T224108
CREATED:20221216T141413Z
LAST-MODIFIED:20221216T142319Z
UID:10010446-1671530400-1671538500@test.pikk.ee
SUMMARY:Mahepõllumajanduse nõuete infopäev: taimekasvatus
DESCRIPTION:Mahepõllumajanduse nõuete infopäev veebis – taimekasvatus \nMahepõllumajanduse Koostöökogu korraldab 20. detsembril kell 10:00-12:15 infopäeva veebis mahepõllumajanduse nõuetega seotud teemadel. \nVõimalus osaleda ka kohapeal Põllumajandus- ja Toiduametis\, Teaduse 2\, Saku \nTeemad: \n\nÜlevaade mahetaimekasvatusest ja nõuete täitmisest 2022. aastal\nPeamised probleemid mahenõuete täitmisel taimekasvatuses\nNõuete tõlgendamine\n\nLektorid: Põllumajandus- ja Toiduameti esindaja kinnitamisel; Airi Vetemaa\, Mahepõllumajanduse Koostöökogu \nRegistreerimine maheteave@gmail.com \nVeebilink saadetakse osalejatele päev enne toimumist. \nLisainfo: maheteave@gmail.com; 5225936 \nInfopäev toimub MAK 2014-2020 meetme „Teadmussiirde pikaajaline programm põllumajanduse\, toidu ja maamajanduse tegevusvaldkonnas“ raames\, toetab Euroopa Liit.
URL:https://test.pikk.ee/sundmus/mahepollumajanduse-nouete-infopaev-taimekasvatus/
LOCATION:Veebis\, Eesti
CATEGORIES:Mahemajandus,Taimekasvatus
END:VEVENT
BEGIN:VEVENT
DTSTART;TZID=Europe/Tallinn:20221220T110000
DTEND;TZID=Europe/Tallinn:20221221T140000
DTSTAMP:20260425T224108
CREATED:20221201T132513Z
LAST-MODIFIED:20221216T070338Z
UID:10008434-1671534000-1671631200@test.pikk.ee
SUMMARY:Täienduskoolitus „Lihasektori kvaliteedikava väljatöötamine II
DESCRIPTION:Tere \nEesti Maaülikool korraldab 20.12.2022–21.12.2022 kahepäevase täienduskoolituse „Lihasektori kvaliteedikava väljatöötamine II“. Koolitus toimub Klaara-Manni puhke- ja seminarikeskuses (Põhjala/3\, Randivälja küla\, Tori vald\, Pärnu maakond\, 86814). \nPäevakava (20.12.2022): \n\n11.00–12.30 Toomas Kevvai\, Eesti Kalatootjate Keskühistu. „Seakasvatajate tootjaorganisatsiooni tegevuste kaardistamine ja sellega seotud probleemid“\n12.30–14.00 Toomas Kevvai\, Eesti Kalatootjate Keskühistu. „Seakasvatajate tootjaorganisatsiooni arenguvõimaluste kaardistamine ja selle pakutavad lahendused“\n14.00–14.15 Kohvipaus\n14.15–15.45 Rando Värnik\, Eesti Maaülikool. „Ideekorje ja ärimudeli kontseptsiooni loomine“\n\nPäevakava (21.12.2022): \n\n9.00–10.30 Rando Värnik\, Eesti Maaülikool. „Ärimudelisse kuuluvad tegevused\, nende alternatiivid ja võimalikud teenused“\n10.30–12.00 Rando Värnik\, Eesti Maaülikool. „Ideest tegevusteni – jätkutegevuste kaardistamine ja ülesannete jagamine“\n12.00–12.30 Lõuna\n12.30–14.00 Siim Maripuu\, Advokaadibüroo TRINITI OÜ. „Tootjaorganisatsiooni asutamise võimalused ja asutamisdokumendi koostamine“\n\nÕppekavaga saab tutvuda Eesti Maaülikooli õppeinfosüsteemis. Koolitusel osalemine on tasuta\, kuid selleks tuleb registreeruda (https://forms.gle/NyKCiCRKteJLJuQz7). \nOsaleda saavad põllumajandustoodete tootmise\, töötlemise või turustamisega\, põllumajandusmaa hooldamisega\, põllumajandustoodetest mittepõllumajandustoodete töötlemisega (sealhulgas toidu valmistamise või töötlemisega) või metsa majandamisega seotud või nimetatud tegevusega tegelevad füüsilisest isikust ettevõtjad ja tema töötajad\, eraõigusliku juriidilise isiku osanik\, aktsionär\, liige\, juhtorgani liige ja tema töötaja\, metsa majandamisega tegelev füüsiline isik ja toidu valmistamise või töötlemisega tegeleva avalik-õigusliku juriidilise isiku juhtorgani liige või töötaja. \nLisainfot saab Taavi Kiisa käest meiliaadressilt taavi.kiisk@emu.ee. \nKahepäevane täienduskoolitus toimub MAK 2014–2020 meetme „Teadmussiirde programm põllumajanduse\, toidu ja maamajanduse tegevusvaldkonnas“ ühistegevuse valdkonna raames ning seda toetab Euroopa Liit.
URL:https://test.pikk.ee/sundmus/taienduskoolitus-lihasektori-kvaliteedikava-valjatootamine-ii/
LOCATION:Pärnumaa\, Pärnumaa\, Eesti
CATEGORIES:Loomakasvatus,Ühistegevus
END:VEVENT
BEGIN:VEVENT
DTSTART;TZID=Europe/Tallinn:20221220T131500
DTEND;TZID=Europe/Tallinn:20221220T153000
DTSTAMP:20260425T224108
CREATED:20221216T141758Z
LAST-MODIFIED:20221216T142238Z
UID:10010445-1671542100-1671550200@test.pikk.ee
SUMMARY:Mahepõllumajanduse nõuete infopäev: loomakasvatus
DESCRIPTION:Mahepõllumajanduse nõuete infopäev veebis – loomakasvatus \nMahepõllumajanduse Koostöökogu korraldab 20. detsembril kell 13:15-15:30 infopäeva veebis mahepõllumajanduse nõuetega seotud teemadel. \nVõimalus osaleda ka kohapeal Põllumajandus- ja Toiduametis\, Teaduse 2\, Saku \nTeemad: \n\nÜlevaade maheloomakasvatusest ja nõuete täitmisest 2022. aastal\nPeamised probleemid mahenõuete täitmisel loomakasvatuses\nNõuete tõlgendamine\n\nLektorid: Põllumajandus- ja Toiduameti esindaja kinnitamisel; Airi Vetemaa\, Mahepõllumajanduse Koostöökogu \nRegistreerimine maheteave@gmail.com \nVeebilink saadetakse osalejatele päev enne toimumist. \nLisainfo: maheteave@gmail.com; 5225936 \nInfopäev toimub MAK 2014-2020 meetme „Teadmussiirde pikaajaline programm põllumajanduse\, toidu ja maamajanduse tegevusvaldkonnas“ raames\, toetab Euroopa Liit.
URL:https://test.pikk.ee/sundmus/mahepollumajanduse-nouete-infopaev-loomakasvatus/
LOCATION:Veebis\, Eesti
CATEGORIES:Loomakasvatus,Mahemajandus
END:VEVENT
BEGIN:VEVENT
DTSTART;TZID=Europe/Tallinn:20221221T100000
DTEND;TZID=Europe/Tallinn:20221221T123000
DTSTAMP:20260425T224108
CREATED:20221216T142126Z
LAST-MODIFIED:20221216T142126Z
UID:10010443-1671616800-1671625800@test.pikk.ee
SUMMARY:Mahepõllumajanduse nõuete infopäev: töötlemine
DESCRIPTION:Mahepõllumajanduse nõuete infopäev veebis – töötlemine \nMahepõllumajanduse Koostöökogu korraldab 21. detsembril kell 10:00-12:30 infopäeva veebis mahepõllumajanduse nõuetega seotud teemadel. \nVõimalus osaleda ka kohapeal Põllumajandus- ja Toiduametis\, Teaduse 2\, Saku \nTeemad: \n\nÜlevaade mahetöötlemisest ja nõuete täitmisest 2022. aastal\nPeamised probleemid mahenõuete täitmisel töötlemises\nNõuete tõlgendamine\n\nLektorid: Pille Edovald\, Põllumajandus- ja Toiduamet; Airi Vetemaa\, Mahepõllumajanduse Koostöökogu \nRegistreerimine maheteave@gmail.com \nVeebilink saadetakse osalejatele päev enne toimumist. \nLisainfo: maheteave@gmail.com; 5225936 \nInfopäev toimub MAK 2014-2020 meetme „Teadmussiirde pikaajaline programm põllumajanduse\, toidu ja maamajanduse tegevusvaldkonnas“ raames\, toetab Euroopa Liit.
URL:https://test.pikk.ee/sundmus/mahepollumajanduse-nouete-infopaev-tootlemine/
LOCATION:Veebis\, Eesti
CATEGORIES:Mahemajandus,Toiduainete tootmine
END:VEVENT
END:VCALENDAR