BEGIN:VCALENDAR
VERSION:2.0
PRODID:-//METK nõuandeteenistus - ECPv6.15.13//NONSGML v1.0//EN
CALSCALE:GREGORIAN
METHOD:PUBLISH
X-WR-CALNAME:METK nõuandeteenistus
X-ORIGINAL-URL:https://test.pikk.ee
X-WR-CALDESC:Events for METK nõuandeteenistus
REFRESH-INTERVAL;VALUE=DURATION:PT1H
X-Robots-Tag:noindex
X-PUBLISHED-TTL:PT1H
BEGIN:VTIMEZONE
TZID:Europe/Tallinn
BEGIN:DAYLIGHT
TZOFFSETFROM:+0200
TZOFFSETTO:+0300
TZNAME:EEST
DTSTART:20230326T010000
END:DAYLIGHT
BEGIN:STANDARD
TZOFFSETFROM:+0300
TZOFFSETTO:+0200
TZNAME:EET
DTSTART:20231029T010000
END:STANDARD
BEGIN:DAYLIGHT
TZOFFSETFROM:+0200
TZOFFSETTO:+0300
TZNAME:EEST
DTSTART:20240331T010000
END:DAYLIGHT
BEGIN:STANDARD
TZOFFSETFROM:+0300
TZOFFSETTO:+0200
TZNAME:EET
DTSTART:20241027T010000
END:STANDARD
BEGIN:DAYLIGHT
TZOFFSETFROM:+0200
TZOFFSETTO:+0300
TZNAME:EEST
DTSTART:20250330T010000
END:DAYLIGHT
BEGIN:STANDARD
TZOFFSETFROM:+0300
TZOFFSETTO:+0200
TZNAME:EET
DTSTART:20251026T010000
END:STANDARD
END:VTIMEZONE
BEGIN:VEVENT
DTSTART;TZID=Europe/Tallinn:20241203T130000
DTEND;TZID=Europe/Tallinn:20241203T151500
DTSTAMP:20260420T022141
CREATED:20240118T113233Z
LAST-MODIFIED:20240128T092336Z
UID:10010998-1733230800-1733238900@test.pikk.ee
SUMMARY:Lõhna- ja maitseained toidutootmises (veebikoolitus)
DESCRIPTION:Täpsem info ja registreerumine SIIT \nProfessor Tõnu Püssa koolitus tutvustab enamkasutatavaid lõhna- ja maitseained toidutööstuses\, nende valmistamist\, kasutamist ja omadusi\, aga ka nende kasutamisega seonduvaid ohte. \nKoolitusel käsitletavad teemad: \n\nLõhna- ja maitseainete olemus\, nende klassifitseerimine;\nLõhna- ja maitseainetega seotud seadusandlus;\nEnamkasutatavad lõhna- ja maitseained\, nende valmistamine\, kasutamine ja omadused;\nLõhna- ja maitseainete kasutamisega seotud ohud.\n\nTäienduskoolitusest võivad osa võtta kõik huvilised.\n. \nKoolituse korraldaja:\nEesti Maaülikooli avatud ülikool\nFr. R. Kreutzwaldi 56/1\n51006 Tartu\,\ntel 731 3275\ne-post: avayl@emu.ee\nhttp://avatudylikool.emu.ee/
URL:https://test.pikk.ee/sundmus/lohna-ja-maitseained-toidutootmises-veebikoolitus/
LOCATION:Veebis\, Eesti
CATEGORIES:Maaettevõtlus,Toiduainete tootmine,Toit ja toiduohutus
ORGANIZER;CN="Eesti Maa%C3%BClikooli avatud %C3%BClikool":MAILTO:avayl@emu.ee
END:VEVENT
BEGIN:VEVENT
DTSTART;TZID=Europe/Tallinn:20241206T090000
DTEND;TZID=Europe/Tallinn:20241206T121500
DTSTAMP:20260420T022141
CREATED:20240112T132325Z
LAST-MODIFIED:20240128T092320Z
UID:10010983-1733475600-1733487300@test.pikk.ee
SUMMARY:Taimsete toodete mikrobioloogiline ohutus (veebikoolitus)
DESCRIPTION:Täpsem info ja registreerumine SIIT \nProf Mati Roasto koolitus annab ülevaate taimsete toodetega seonduvatest mikrobioloogilistest toiduohtudest ning tootmishügieeni tagamise põhimõtetest. \nKoolitusel käsitletavad teemad: \n\nTaimsed tooted toidutekkeliste haiguste k.a haiguspuhangute põhjustajana;\nTaimsete toodete riknemise ja ohutuse mikrobioloogilised indikaatorid;\nTootmishügieeni tagamise põhimõtted;\nListeria monocytogenes´e olulisus taimsetes valmistoodetes ning riskide ohjamine.\n\nTäienduskoolitusest võivad osa võtta: \n\npõllumajandustoodete töötlemise või turustamisega tegelev füüsilisest isikust ettevõtja ja tema töötaja ning eraõigusliku juriidilise isiku osanik\, aktsionär\, liige\, juhtorgani liige ja tema töötaja;\npõllumajandustoodetest mittepõllumajandustoodete töötlemise sh toidu valmistamise või töötlemisega tegelev füüsilisest isikust ettevõtja ja tema töötaja ning eraõigusliku juriidilise isiku osanik\, aktsionär\, liige\, juhtorgani liige ja tema töötaja;\ntoidu valmistamise või töötlemisega tegelev avalik-õigusliku juriidilise isiku juhtorgani liige või töötaja;\npõllumajandustootjate valdkonda teenindavad isikud (nt kokkuostuga tegelevate ettevõtete töötajad);\nisikud (FIE-d või ettevõtte esindajad)\, kes koguvad teadmisi uue tegevusvaldkonna kohta;\npõllumajanduslike esindus- ja erialaorganisatsioonide (MTÜ-d\, mille liikmeteks on põllumajandussaaduste töötlejad) juhatuse liikmed ja töötajad.\n\nFüüsiliste isikute ja riigiametnike täienduskoolitusel osalemine ei ole toetatav! \n  \nKoolitus toimub MAK 2014-2020 meetme “Teadmussiirde pikaajaline programm põllumajanduse\, toidu ja maamajanduse tegevusvaldkonnas” toidu ja toiduohutuse valdkonna raames\, toetab Euroopa Liit. \nKoolitusel osalemine on vähese tähtsusega abi (VTA). Abisumma ühe osavõtja kohta arvutatakse osavõtjate lõpliku arvu järgi\, kuid see ei ületa 270 eurot. \nEttevõtte VTA vaba jääki saab kontrollida veebilehelt: https://fin.ee/riigihanked-riigiabi-osalused-kin.. \nKui osaleja ettevõttel ei ole piisavalt VTA vaba jääki\, siis on osalemise eest antav toetus riigiabi ning sellisel juhul tuleb ettevõttel esitada enne tegevuse toimumist riigiabi taotlus (vormi saab korraldajalt).\nKeskmise suurusega ettevõtja korral toetatakse infopäeval või koolitusel osalemist 60%\, mikro-ja väikeettevõtja korral 70% ning suurettevõtja korral 50% ulatuses osaleja kohta.\nPuudujääv osa tuleb osalejal/ettevõttel endal tasuda. \n  \nKoolituse korraldaja:\nEesti Maaülikooli avatud ülikool\nFr. R. Kreutzwaldi 56/1\n51006 Tartu\,\ntel 731 3275\ne-post: avayl@emu.ee\nhttp://avatudylikool.emu.ee/
URL:https://test.pikk.ee/sundmus/taimsete-toodete-mikrobioloogiline-ohutus-veebikoolitus/
LOCATION:Veebis\, Eesti
CATEGORIES:Maaettevõtlus,Toiduainete tootmine,Toit ja toiduohutus
ORGANIZER;CN="Eesti Maa%C3%BClikooli avatud %C3%BClikool":MAILTO:avayl@emu.ee
END:VEVENT
END:VCALENDAR