BEGIN:VCALENDAR
VERSION:2.0
PRODID:-//METK nõuandeteenistus - ECPv6.15.13//NONSGML v1.0//EN
CALSCALE:GREGORIAN
METHOD:PUBLISH
X-WR-CALNAME:METK nõuandeteenistus
X-ORIGINAL-URL:https://test.pikk.ee
X-WR-CALDESC:Events for METK nõuandeteenistus
REFRESH-INTERVAL;VALUE=DURATION:PT1H
X-Robots-Tag:noindex
X-PUBLISHED-TTL:PT1H
BEGIN:VTIMEZONE
TZID:Europe/Tallinn
BEGIN:DAYLIGHT
TZOFFSETFROM:+0200
TZOFFSETTO:+0300
TZNAME:EEST
DTSTART:20230326T010000
END:DAYLIGHT
BEGIN:STANDARD
TZOFFSETFROM:+0300
TZOFFSETTO:+0200
TZNAME:EET
DTSTART:20231029T010000
END:STANDARD
BEGIN:DAYLIGHT
TZOFFSETFROM:+0200
TZOFFSETTO:+0300
TZNAME:EEST
DTSTART:20240331T010000
END:DAYLIGHT
BEGIN:STANDARD
TZOFFSETFROM:+0300
TZOFFSETTO:+0200
TZNAME:EET
DTSTART:20241027T010000
END:STANDARD
BEGIN:DAYLIGHT
TZOFFSETFROM:+0200
TZOFFSETTO:+0300
TZNAME:EEST
DTSTART:20250330T010000
END:DAYLIGHT
BEGIN:STANDARD
TZOFFSETFROM:+0300
TZOFFSETTO:+0200
TZNAME:EET
DTSTART:20251026T010000
END:STANDARD
END:VTIMEZONE
BEGIN:VEVENT
DTSTART;TZID=Europe/Tallinn:20240604T100000
DTEND;TZID=Europe/Tallinn:20240604T140000
DTSTAMP:20260419T235627
CREATED:20240523T110421Z
LAST-MODIFIED:20240524T111016Z
UID:10011163-1717495200-1717509600@test.pikk.ee
SUMMARY:Lüpsirobotite koolituspäev
DESCRIPTION:  \nAutor: Manuela Kollom \n  \nOsalemiseks klõpsa lehe all olevale nupule “Registreeru” (hiljemalt 03. juuni 15:00). \nPecador OÜ koostöös Sarapiku Farm OÜ-ga korraldab 04. juuni kell 10:00-14:00 Märjamaa lähedal Sarapiku farmis lüpsirobotite koolituspäeva. \nKoolituspäev on mõeldud robotfarmi omanikele ja juhatajatele. \nKoolituse eesmärgid: \n\nPraktiline töö lüpsirobotite tarkvaradega saavutamaks paremat tootmise efektiivsust\nSöötmine robotlautades\nRobotite seadistused vastavalt loomade arvule laudas\n\nKoolituspäeval külastame ka lauta! \n  \nAutor: Manuela Kollom \n  \nPäevakava: \n10:00-11:30 Sarapiku farmi külastus \n12:00-14:00 Valgu kultuurimajas loeng ja praktiline töö DeLaval ja Lely tarkvaradega \n* korraldajal on õigus teha muudatusi päevakavas \n  \n  \nKoolitaja Luis Cardo omandas 2000. aastal Leóni ülikoolis (Hispaania) veterinaariateaduskonnas veterinaariateaduste kraadi ja asus samal aastal tööle mäletsejaliste toitumise ja majandamise alal. Sellest aastast on ta jätkanud tööd samas valdkonnas\, keskendudes mäletsejaliste toitumisele nii Hispaanias kui ka teistes riikides\, pakkudes peamiselt praktilist nõustamist farmidele ja ettevõtetele.\nAlates 2021. aastast käib sageli Eestis\, Hispaania ettevõtte Qualivet tellimusel koostöös Eesti loomasöötade valdkonna ettevõttega Pecador. Tema peamised huvid piimatootmise valdkonnas on vasikate majandamine ja mullikate kasvatamine\, söötmine\, paljundamine ja üldine majandamine – integreerimine\, kuna kõik need punktid on heade ja jätkusuutlike tulemuste saavutamiseks hädavajalikud. \n  \nLisainfo: \nRünno Patune \npecadoroy@gmail.com \n+372 5664 0008
URL:https://test.pikk.ee/sundmus/lupsirobotite_koolituspaev/
LOCATION:Raplamaa\, Raplamaa
CATEGORIES:Loomakasvatus
GEO:58.8492625;24.7346569
END:VEVENT
END:VCALENDAR