BEGIN:VCALENDAR
VERSION:2.0
PRODID:-//METK nõuandeteenistus - ECPv6.15.13//NONSGML v1.0//EN
CALSCALE:GREGORIAN
METHOD:PUBLISH
X-WR-CALNAME:METK nõuandeteenistus
X-ORIGINAL-URL:https://test.pikk.ee
X-WR-CALDESC:Events for METK nõuandeteenistus
REFRESH-INTERVAL;VALUE=DURATION:PT1H
X-Robots-Tag:noindex
X-PUBLISHED-TTL:PT1H
BEGIN:VTIMEZONE
TZID:Europe/Tallinn
BEGIN:DAYLIGHT
TZOFFSETFROM:+0200
TZOFFSETTO:+0300
TZNAME:EEST
DTSTART:20230326T010000
END:DAYLIGHT
BEGIN:STANDARD
TZOFFSETFROM:+0300
TZOFFSETTO:+0200
TZNAME:EET
DTSTART:20231029T010000
END:STANDARD
BEGIN:DAYLIGHT
TZOFFSETFROM:+0200
TZOFFSETTO:+0300
TZNAME:EEST
DTSTART:20240331T010000
END:DAYLIGHT
BEGIN:STANDARD
TZOFFSETFROM:+0300
TZOFFSETTO:+0200
TZNAME:EET
DTSTART:20241027T010000
END:STANDARD
BEGIN:DAYLIGHT
TZOFFSETFROM:+0200
TZOFFSETTO:+0300
TZNAME:EEST
DTSTART:20250330T010000
END:DAYLIGHT
BEGIN:STANDARD
TZOFFSETFROM:+0300
TZOFFSETTO:+0200
TZNAME:EET
DTSTART:20251026T010000
END:STANDARD
END:VTIMEZONE
BEGIN:VEVENT
DTSTART;TZID=Europe/Tallinn:20240523T100000
DTEND;TZID=Europe/Tallinn:20240523T141500
DTSTAMP:20260424T130845
CREATED:20240325T134131Z
LAST-MODIFIED:20240615T061658Z
UID:10011063-1716458400-1716473700@test.pikk.ee
SUMMARY:Veebiseminar: Keskkonnasõbraliku majandamise toetuse infopäev
DESCRIPTION:  \n\nJärelvaatamine maainfo YouTube kanalis siin. \nMillised nõuded on sinu ettevõttele ja mida sa peaksid tegema KSM toetuse saamiseks? Millised keskkonnasõbralikud majandamispraktikad suurendavad elurikkust ja maastikulist mitmekesisust? Millised lahendusi pakub e-põlluraamat? \nTingimuslikkuse süsteemiga tagatakse\, et põllumajandustoetusi makstakse täies mahus vaid neile\, kes täidavad maa hea põllumajandus- ja keskkonnaseisundis hoidmise nõudeid ja kohustuslikke majandamisnõudeid. Toetust antakse keskkonnasõbraliku majandamispraktika põhitegevuse või lisategevuse elluviimise eest. Seeläbi tõstetakse põllumajandustootjate keskkonnateadlikkust ja inspireeritakse ettevõtteid üha enam nägema loodust ja tootmist kui tervikut. \nPutukad ja liblikad on olulised liigirikkuse näitajad. Foto: Janek Laanemäe \nKeskkonnasõbralikud majandamispraktikad on muutunud järjest olulisemaks. Intensiivsest kasvatustehnoloogiast tulenev mulla erosioon\, toitainete kadu ja bioloogilise mitmekesisuse vähenemine näitab\, et põllumehel on aeg hakata loodusele tagasi andma. Mullakvaliteedi parandamiseks\, elurikkuse soodustamiseks ja sünteetiliste sisendite kasutamise vähendamiseks on hakatud tähelepanu pöörama vahekultuuride kasvatamisele\, lupjamisele\, lämmastikubilansile ja süsiniku jalajälje mõõtmisele. Näiteks Agrone grupi farmide kliimamõju on mõõdetud regulaarselt. Miks ja kuidas mõõdeti ning millised on järgmised sammud? \ne-PRIA põldude haldamise teenuses on alates 1. aprillist võimalik täita põlluraamatut. Räägime\, millised võimalused PHT teenuses täna on\, kuhu lähiajal jõuda soovime ning missugune on visioon kaugemaks tulevikuks\, kaardistame võimalikke kitsaskohti ja kummutame müüte. \nInfopäev läheb arvesse KSM kohustusliku koolitusena. \n  \nPäevakava: \n10:00-11:00 Lilia Kulli (konsulent) – KSM tingimuslikkuse nõuete ülevaade\, nende täitmise ja järelvalve mehhanism (vaata ettekannet: Lilia Kulli_ KSM tingimuslikkus 23. mai 2024) \n11:00-11:30 Priit Penu (METK) – Lupjamise erinevad aspektid: METK mullateenuse lubjatarbe määramine\, erinevate lubiväetiste mõju ja valimise printsiibid. Lupjamistoetuse esimese aasta ülevaade (vaata ettekannet: Priit Penu_lupjamine_23. mai 2024) \nPaus 15 min \n11:45 – 12:15 Liina Talgre (EMÜ) – Talvised vahekultuurid ja nende tähtsus (vaata ettekannet: Liina Talgre_Vahekultuurid_23. mai 2024) \n12:15 – 12:45 Alar Astover (EMÜ) – Põllu lämmastikubilanss: miks ja kuidas seda arvepidamist teha? (vaata ettekannet: Alar Astover_lämmastikubilanss_23. mai 2024) \nPaus 30 min \n13:15 – 13:45 Sirli Pehme (Agrone OÜ) – Süsiniku jalajälje mõõtmine – miks? Kuidas? Mis selle teadmisega peale hakata? (vaata ettekannet: Sirli Pehme_Agrone_süsiniku jalajälg_23. mai 2024) \n13:45 – 14:15  Evely Veetsmann (PRIA) – PRIA Põldude haldamise teenus (PHT) e-põlluraamatu pidamine (vaata ettekannet: Evely Veetsmann_e-polluraamat 23. mai 2024) \n*korraldajal on õigus teha muudatusi külastuse ajakavas \n  \nRegistreerunutele saadetakse ürituse päeval veebiseminariga osalemiseks link Zoomi keskkonda. Üritus on järelvaadatav\, kõikidele registreerunutele ja osalejatele saadetakse link peale sündmuse toimumist. KSM toetuse kohustusliku koolituse märke saavad kirja ainult sündmusel reaalselt osalejad. \n  \nInfopäev viiakse läbi „Teadmussiirde pikaajaline programm põllumajanduse\, toidu ja maamajanduse tegevusvaldkonnas“ raames. \n  \nLisainfo: \nManuela Kollom\nmanuela.kollom@metk.agri.ee\n+372 5672 6756
URL:https://test.pikk.ee/sundmus/veebiseminar-ksm-mai-2024/
LOCATION:Veebis\, Eesti
CATEGORIES:Keskkond,Maaettevõtlus,Taimekasvatus
END:VEVENT
END:VCALENDAR