BEGIN:VCALENDAR
VERSION:2.0
PRODID:-//METK nõuandeteenistus - ECPv6.15.13//NONSGML v1.0//EN
CALSCALE:GREGORIAN
METHOD:PUBLISH
X-WR-CALNAME:METK nõuandeteenistus
X-ORIGINAL-URL:https://test.pikk.ee
X-WR-CALDESC:Events for METK nõuandeteenistus
REFRESH-INTERVAL;VALUE=DURATION:PT1H
X-Robots-Tag:noindex
X-PUBLISHED-TTL:PT1H
BEGIN:VTIMEZONE
TZID:Europe/Tallinn
BEGIN:DAYLIGHT
TZOFFSETFROM:+0200
TZOFFSETTO:+0300
TZNAME:EEST
DTSTART:20110327T010000
END:DAYLIGHT
BEGIN:STANDARD
TZOFFSETFROM:+0300
TZOFFSETTO:+0200
TZNAME:EET
DTSTART:20111030T010000
END:STANDARD
BEGIN:DAYLIGHT
TZOFFSETFROM:+0200
TZOFFSETTO:+0300
TZNAME:EEST
DTSTART:20120325T010000
END:DAYLIGHT
BEGIN:STANDARD
TZOFFSETFROM:+0300
TZOFFSETTO:+0200
TZNAME:EET
DTSTART:20121028T010000
END:STANDARD
BEGIN:DAYLIGHT
TZOFFSETFROM:+0200
TZOFFSETTO:+0300
TZNAME:EEST
DTSTART:20130331T010000
END:DAYLIGHT
BEGIN:STANDARD
TZOFFSETFROM:+0300
TZOFFSETTO:+0200
TZNAME:EET
DTSTART:20131027T010000
END:STANDARD
END:VTIMEZONE
BEGIN:VEVENT
DTSTART;VALUE=DATE:20121228
DTEND;VALUE=DATE:20121229
DTSTAMP:20260422T130135
CREATED:20171231T220000Z
LAST-MODIFIED:20171231T220000Z
UID:10005665-1356652800-1356739199@test.pikk.ee
SUMMARY:Teabepäev
DESCRIPTION:Jõgevamaa \nKamari seltsimaja \nJõgevamaa \n\n	Jõgeva Tootjate Liit korraldab teabepäeva  teemal 2013 aasta toetused. Piima ja teravilja kokkuostuhinnad 2013 aastal.aastal.
URL:https://test.pikk.ee/sundmus/teabepaev/
LOCATION:Jõgevamaa\, Jõgevamaa\, Eesti
CATEGORIES:Maaettevõtlus
END:VEVENT
BEGIN:VEVENT
DTSTART;VALUE=DATE:20121120
DTEND;VALUE=DATE:20121121
DTSTAMP:20260422T130135
CREATED:20171231T220000Z
LAST-MODIFIED:20171231T220000Z
UID:10005492-1353369600-1353455999@test.pikk.ee
SUMMARY:VEEFOORUM 2012
DESCRIPTION:Jõgevamaa \nPõltsamaa\, Põltsamaa Kultuurikeskus (J.Kuperjanovi 1\, Põltsamaa) \nJõgevamaa \n\n	\n	Hea põllumajandushuviline! \n\n	Kutsume Teid osalema Läänemere koostööprojektide Baltic Deal ja Baltic Manure ühiskonverentsil\n	Veefoorum 2012\, mis toimub 20. novembril 2012 algusega kell 09:30\n	Põltsamaa Kultuurikeskuses (J.Kuperjanovi 1\, Põltsamaa). \n\n	Foorumil kuuled põnevaid ettekandeid biogaasi ja hajukoormuse teemadel. \n\n	Päevakorras: \n\n	     Kas ja millistel tingimustel on võimalik Eestis toota biogaasi  põllumajandusjäätmetest?\n	     Bioenergia investeeringute toetamine täna ja tulevikus?\n	     Millised on Rootsi tootjate kogemused hajukoormuse vähendamisel?\n	     Kuidas targalt loomi karjatada?\n	     Milliseid häid keskkonna praktikaid kasutavad Eesti põllumajandustootjad?\n	     Kust pärineb rannikuveereostus? \n\n	\n	Päeva juhib Vladislav Koržets. \n\n	Veefoorumi täiendav info ja registreerumine (hiljemalt 16.novembril) projekti kodulehel test.pikk.ee/balticdeal või meiliaadressil heidi.oovel@nouandeteenistus.ee  . \n\n	Info:\n	Heidi Öövel\n	Baltic Deal projektijuht\n	Eesti Põllu- ja Maamajanduse Nõundeteenistus Kreutzwaldi 64\n	51014 Tartu\n	Tel 731 3650\n	E:post: heidi.oovel[A]nouandeteenistus.ee\n	Maaelu Edendamise Sihtasutus \n	 
URL:https://test.pikk.ee/sundmus/veefoorum-2012/
LOCATION:Jõgevamaa\, Jõgevamaa\, Eesti
CATEGORIES:Muu
END:VEVENT
BEGIN:VEVENT
DTSTART;VALUE=DATE:20121031
DTEND;VALUE=DATE:20121101
DTSTAMP:20260422T130135
CREATED:20171231T220000Z
LAST-MODIFIED:20171231T220000Z
UID:10005565-1351641600-1351727999@test.pikk.ee
SUMMARY:Keskkonnasõbraliku majandamise täienduskoolitus
DESCRIPTION:Jõgevamaa \nKamari Seltsimaja\, Põltsamaa vald\, Kamari küla \nJõgevamaa \n\n	Koolitused algavad kõikjal kell 10 ja lõpevad orienteeruvalt 16.00. \n\n	Teemad:  \n\n\n		Mulla tähtsusest inimesele ja loodusele\n\n		Keskkonnasõbralik taimekaitse\n\n		Milleks põllumjandusmaastiku elurikkus\n\n\n	  \n\n	29.10 Tartumaa – Puhja Seltsimaja\, Viljandi tee 24\, Puhja (http://www.puhja.ee) \n\n	30.10 Lääne-Virumaa – Pariisi Puhkeküla\, Kadrina vald\, Pariisi (http://www.pariisi.ee) \n\n	30.10 Võrumaa – Ala-Rõuge Külalistemaja\, Võru mnt 12\, Rõuge (http://www.alarouge.ee/) \n\n	31.10 – Jõgevamaa – Kamari Seltsimaja\, Põltsamaa vald\, Kamari küla (http://kamari.ee/seltsimaja/) \n\n	31.10 Viljandimaa – Männiku Metsatalu\, Paistu vald\, Intsu küla (http://metsatalu.ee/) \n\n	  \n\n	21.11 Raplamaa – Kehtna Majandus- ja Tehnoloogiakool\, Kooli 1\, Kehtna (http://www.kehtna.edu.ee/ ) \n\n	21.11 Põlvamaa – Eesti Fototurismi Keskus\, Mooste vald\, Mooste (http://www.fototurism.ee) \n\n	21.11 Pärnumaa – Ojako turismitalu\, Audru vald\, Marksa küla (http://www.ojako.ee/) \n\n	22.11 Läänemaa – Lihula kultuurimaja\, Tallinna mnt 1A\, Lihula (http://www.lihula.ee/) \n\n	  \n\n	04.12 Võrumaa – Vastseliina kultuurimaja\, Võidu tn 38\, Vastseliina (http://www.vastseliina.ee/) \n\n	05.12 Tartumaa – Võnnu kultuurimaja\, Tartu mnt 24\, Võnnu (http://www.vonnukultuur.blogspot.com/) \n\n	  \n\n	11.12 Lääne-Virumaa – Kiltsi põhikool\, Väike-Maarja vald\, Liivaküla küla \n\n	 (http://www.v-maarja.ee/kiltsipk/) \n\n	11.12 Pärnumaa – Tori seltsimaja\, Tori vald\, Tori (https://torivald.kovtp.ee/et/rahvamaja) \n\n	12.12 Raplamaa – Rapla kultuurikeskus\, Tallinna mnt 17A\, Rapla (http://www.raplakultuur.ee/) \n\n	12.12 Viljandimaa – hotell Centrum\, Tallinna 24\, Viljandi (http://www.centrum.ee) \n\n	  \n\n	Koolitused on tasuta ning kõik osalejad saavad KSM kohustusliku täienduskoolituse tunnistuse. \n\n	Koolituse läbiviimist toetab Euroopa Liit. \n\n	Osaleda saavad ainult EELREGISTREERITUD osalejad (piiratud arv kohti)! \n\n	Eelregistreeruda saab telefonil: 6 729 143 (Sirje Reintam) või e-mailil: sirje.reintam[A]pmk.agri.ee \n\n	Registreerimine lõpeb 3 päeva enne koolituse toimumist! \n\n	\n	Küsimuste korral pöörduda: katrin.vask[A]pmk.agri.ee  või  53 482 682
URL:https://test.pikk.ee/sundmus/keskkonnasobraliku-majandamise-taienduskoolitus-4/
LOCATION:Jõgevamaa\, Jõgevamaa\, Eesti
CATEGORIES:Muu
END:VEVENT
BEGIN:VEVENT
DTSTART;VALUE=DATE:20121016
DTEND;VALUE=DATE:20121017
DTSTAMP:20260422T130135
CREATED:20171231T220000Z
LAST-MODIFIED:20171231T220000Z
UID:10005582-1350345600-1350431999@test.pikk.ee
SUMMARY:Koolitus "Teravilja maheseemnekasvatus - põllupäev Jõgeva Sordiaretuse Instituudis".
DESCRIPTION:Jõgevamaa \nKoguneme Jõgeva Sordiaretuse Instituudi peamaja juurde\, Aamisepa 1\, Jõgeva alevik. \nJõgevamaa \n\n	Eesti Mahepõllumajanduse SA korraldab koolituse "Teravilja maheseemnekasvatus – põllupäev Jõgeva Sordiaretuse Instituudis". \n\n\n		\n		Aeg: 16. oktoobril 2012\, kell 10:00-15:00\n		Koht: Koguneme Jõgeva Sordiaretuse Instituudi peamaja juurde\, Aamisepa 1\, Jõgeva alevik. \n		Teemad:\n		Taliteraviljade agrotehnika seemnekasvatuses\, talvitumist mõjutavad\n		tegurid – haigused\, kahjurid ja umbrohud\n		Taliteraviljade külvide vaatlus erineva agrotehnika korral\n		Seemnete koristusjärgne käitlemine – kuivatamine\, sorteerimine ja\n		ladustamine – tutvumine Jõgeva SAI ruumide ja seadmetega\n		Arutelu \n		Lektorid Margus Ess ja Pille Sooväli \n\n\n	Koolitustel osalemine on tasuta. Osalemiseks on vajalik registreerimine e-mailil mahepm[A]gmail.com (eelistatult) või telefonil\n	5662 0955. Registreerimisel kindlasti esitada oma nimi\, soovitud\n	koolituse koht ja kuupäev.  Kohtade arv on piiratud.\n	Koolitused lähevad arvesse mahepõllumajandusliku tootmise toetuse\n	raames nõutava kohustusliku koolitusena. \n \n\n	 \n\n	Eesti Mahepõllumajanduse SA
URL:https://test.pikk.ee/sundmus/koolitus-teravilja-maheseemnekasvatus-pollupaev-jogeva-sordiaretuse-instituudis/
LOCATION:Jõgevamaa\, Jõgevamaa\, Eesti
CATEGORIES:Taimekasvatus
END:VEVENT
BEGIN:VEVENT
DTSTART;VALUE=DATE:20121004
DTEND;VALUE=DATE:20121005
DTSTAMP:20260422T130135
CREATED:20171231T220000Z
LAST-MODIFIED:20171231T220000Z
UID:10005505-1349308800-1349395199@test.pikk.ee
SUMMARY:Infopäev „Seemneprobleemid mahepõllumajanduses“
DESCRIPTION:Jõgevamaa \nJõgeva\, Jõgeva Sordiaretuse Instituut \nJõgevamaa \n\n	Eesti Maaülikooli Mahekeskus korraldab Põllumajandusministeeriumi tellimusel 4. oktoobril Jõgeva Sordiaretuse Instituudis\n	infopäeva teemal „Seemneprobleemid mahepõllumajanduses“. \n\n	Infopäevale on oodatud konsulendid\, teadlased\, mahetootjad\, Põllumajandusministeeriumi ja Põllumajandusameti esindajad. \n	Aeg ja koht:\n	4. oktoober 2012\, Jõgeva Sordiaretuse Instituut\, J. Aamisepa 1\, 48309 Jõgeva alevik\, Jõgevamaa \n	Päevakava\n	10.00 – 10.15 Kogunemine ja registreerimine\n	10.15 – 11.00 Sordi omaniku ja kaitsealuse sordi kasutaja õigused ja kohustused – Pille Ardel\, Jõgeva SAI\n	11.00 – 11.45 Ülevaade maheseemne tootmisest ja kasutamisest ning mahetootjatele tavaseemne kasutamiseks väljastatud lubadest Eestis – Egon Palts\, Põllumajandusamet\n	11.45 – 12.15 Seemne oma tarbeks paljundamine ja mahetootmises kasutamine – Margus Ess\, Jõgeva SAI\n	12.15 – 13.00 Lõuna\n	13.00 – 14.45 Soovitusi maheseemne (seemnekartul\, teravili\, kaunviljad\, õlikultuurid\, köögiviljad\, kõrrelised heintaimed) tootmiseks ja turustamiseks ning sellega kaasnevad probleemid. Mahetootmisse sobivad sordid – Margus Ess\, Jõgeva SAI\n	14.45 – 15.00 Kohvipaus\n	15.00 – 15.20 Maheseemne kasutamise kogemused – Margo Mansberg\, mahetootja\n	15.20 – 16.00 Diskussioon ja ettepanekud seemneprobleemide lahendamiseks mahepõllumajanduses \n\n	Infopäeval osalemine on tasuta.\n	Osalemiseks on vajalik registreerimine hiljemalt 30. septembriks \n	e-mailil mahekeskus@emu.ee  (eelistatult) või telefonil 5304 4002. \n	Lisainformatsioon:\n	Elen Peetsmann\n	EMÜ Mahekeskus\n	mahekeskus@emu.ee\, tel: 5304 4003\n	 
URL:https://test.pikk.ee/sundmus/infopaev-seemneprobleemid-mahepollumajanduses/
LOCATION:Jõgevamaa\, Jõgevamaa\, Eesti
CATEGORIES:Taimekasvatus
END:VEVENT
BEGIN:VEVENT
DTSTART;VALUE=DATE:20120927
DTEND;VALUE=DATE:20120928
DTSTAMP:20260422T130135
CREATED:20171231T220000Z
LAST-MODIFIED:20171231T220000Z
UID:10005516-1348704000-1348790399@test.pikk.ee
SUMMARY:Loopre-Lepiku talu REHEPEKSUPÄEV
DESCRIPTION:Jõgevamaa \nPajusi valla Loopre külas\, Loopre-Lepiku talus \nJõgevamaa \nLoopre-Lepiku talu REHEPEKSUPÄEV toimub\nPajusi valla Loopre külas 27. septembril algusega kell 12. \nReht peksavad Valdeko Kippus ja  Evald Põldmaa.\nMeeleolu loob lõõtspillimuusika. \nÜritus on tasuta ja kõik on oodatud! Rehepeksupäeva täiendav info siin (pdf failis). \nInfo tel 510 0799 või 505 2041 \nKorraldaja: Pajusi Küla Selts\n 
URL:https://test.pikk.ee/sundmus/loopre-lepiku-talu-rehepeksupaev/
LOCATION:Jõgevamaa\, Jõgevamaa\, Eesti
CATEGORIES:Muu
END:VEVENT
BEGIN:VEVENT
DTSTART;VALUE=DATE:20120811
DTEND;VALUE=DATE:20120812
DTSTAMP:20260422T130135
CREATED:20171231T220000Z
LAST-MODIFIED:20171231T220000Z
UID:10005264-1344643200-1344729599@test.pikk.ee
SUMMARY:Infopäev „Mesilaste haigused\, seire\, tõrje ja ennetamine“
DESCRIPTION:Jõgevamaa \nPõltsamaa\, Põltsamaa  Kultuurikeskus \nJõgevamaa \n\n	  \n\n	Jõgeva Tootjate Liit  korraldab MAK meetme 1.1 „Koolitus- ja teavitustegevus“ raames tasuta maakondliku infopäeva teemal: „Mesilaste haigused\, seire\, tõrje ja ennetamine“ \n	Toimumiskoht: Jõgeva maakond Põltsamaa  Kultuurikeskus\n	Toimumisaeg: laupäev 11 august algusega  kell 10.00 -15.00 \n	Infopäeva kava: \n\n	  \n\n	Nõuandesüsteemi ja nõuandetoetuse tutvustamine. Liia Lust\n	  \n\n	1. Õiguslikud alused (Loomatauditõrje seadus\, Veterinaarkorralduse seadus\, Ravimiseadus)\n	2. Mesilasperede suremuse ja haiguste järelevalve\n	3. Mesilaste haiguste seire ja tõrjemeetmete rakendamine mesilates\n	4. Mesilate registreerimine ja mesilasperede teatamine PRIA-s\n	5. Ravimiarvestuse pidamine mesilates\n	6. Mesilaste haiguste tõrje \n\n	Lektor Aado Oherd \n	  \n\n	Info ja kontakt: Registreerimine e-posti aadressil: ain.seeder@gmail.com; 5250204  \n\n	Infopäeva  toetab Euroopa Liit
URL:https://test.pikk.ee/sundmus/infopaev-mesilaste-haigused-seire-torje-ja-ennetamine/
LOCATION:Jõgevamaa\, Jõgevamaa\, Eesti
CATEGORIES:Muu
END:VEVENT
BEGIN:VEVENT
DTSTART;VALUE=DATE:20120802
DTEND;VALUE=DATE:20120803
DTSTAMP:20260422T130135
CREATED:20171231T220000Z
LAST-MODIFIED:20171231T220000Z
UID:10005405-1343865600-1343951999@test.pikk.ee
SUMMARY:Jõgeva SAI kartuli- ja köögiviljakasvatuse põllupäev
DESCRIPTION:Jõgevamaa \nKogunemine Jõgeva SAI ladude juures \nJõgevamaa \n	Jõgeva Sordiaretuse Instituut annab teada\, et \n	kartuli- ja köögiviljakasvatuse põllupäev \n	toimub 02.augustil 2012. \n	Kogunemine Jõgeva SAI ladude juures. \n	10.00 – 10.30 Kogunemine ja registreerimine \n	Teemad:\n	Tähtsamate köögiviljakultuuride kasvatamise kogemusi. Katsed porgandi\, kaalika ja tomatiga. – Ingrid Bender\n	Tärkliserikaste kartulisortide mahekatse. Aide Tsahkna\n	Saagikus\, kvaliteet ja haigusresistentsus tavakatses. Demokatse. Terje Tähtjärv\n	Nõudmised ja praktikad seemnekartuli tootmisel. Primstone’i kasutamine hariliku kärna vähendamiseks. Ilmar Polli\n	Kartulisortide vastuvõtlikkus lehemädanikule. Kartuli lehemädaniku prognoos ja tõrje. Mikrotoite elementide kasutamine seemnekartuli puhtimisel. Mati Koppel \n	14.30 Lõuna \n	Vajalik eelregistreerimine: 7766901\, jogeva[A]jpbi.ee või www.sordiaretus.ee  lehel oleva vormi abil. \n	Palun märkige\, kas soovite õppepäeval osaleda kartuli või köögivilja grupis!  \n	 
URL:https://test.pikk.ee/sundmus/jogeva-sai-kartuli-ja-koogiviljakasvatuse-pollupaev/
LOCATION:Jõgevamaa\, Jõgevamaa\, Eesti
CATEGORIES:Taimekasvatus
END:VEVENT
BEGIN:VEVENT
DTSTART;VALUE=DATE:20120731
DTEND;VALUE=DATE:20120801
DTSTAMP:20260422T130135
CREATED:20171231T220000Z
LAST-MODIFIED:20171231T220000Z
UID:10005418-1343692800-1343779199@test.pikk.ee
SUMMARY:Seminar "Eesti maaelu arengukava aastateks 2007-2013 meetmete mõju mahepõllumajandusesektorile ja tegevuste kavandamine aastateks 2013+"
DESCRIPTION:Jõgevamaa \nHotell Trofee\, Tõrve küla\, Puurmani vald \nJõgevamaa \n\n	Toimub mahesektorile suunatud seminar teemal "Eesti maaelu arengukava aastateks 2007-2013 meetmete mõju mahepõllumajandusesektorile ja tegevuste kavandamine aastateks 2013+” \n\n	Aeg: 31.07 – 01.08.2012\n	Koht: Hotell Trofee\, Tõrve küla\, Puurmani vald\, Jõgevamaa\n	Korraldaja: Ökoloogiliste Tehnoloogiate Keskus\n	Tellija: Põllumajandusministeerium\, Toetab Euroopa Liit
URL:https://test.pikk.ee/sundmus/seminar-eesti-maaelu-arengukava-aastateks-2007-2013-meetmete-moju-mahepollumajandusesektorile-ja-tegevuste-kavandamine-aastateks-2013-2/
LOCATION:Jõgevamaa\, Jõgevamaa\, Eesti
CATEGORIES:Muu
END:VEVENT
BEGIN:VEVENT
DTSTART;VALUE=DATE:20120717
DTEND;VALUE=DATE:20120718
DTSTAMP:20260422T130135
CREATED:20171231T220000Z
LAST-MODIFIED:20171231T220000Z
UID:10005314-1342483200-1342569599@test.pikk.ee
SUMMARY:Katsed ja põllumajandusuuringud Jõgeva SAI-s
DESCRIPTION:Jõgevamaa \nJõgeva SAI põllud \nJõgevamaa \n\nJõgeva Sordiaretuse Instituut ja KEVILI Põllumajandusühistu korraldavad ürituse \nKatsed ja põllumajandusuuringud Jõgeva SAI-s \n\nToimumisaeg: 17.juuli 2012\nToimumiskoht: Jõgeva SAI põllud\, Jõgeva alevik \nTutvumine Jõgeva SAI – KEVILI rakendusuuringu katsevõrgustiku katsetega. \n10.00 – 10.30 Kogunemine Jõgeva SAI ladude juures \n10.30 – 11.00 Uued kompleks- ja mikroväetised ning nende efektiivsus. –     Tiia Kangor ja Mihkel Hang \n11.00 – 11.30 Taimehaiguste ja kahjurite levik ning prognoos 2012.a.  Fungitsiidide efektiivsus suviviljade haiguste tõrjel.  Herbitsiidide efektiivne kasutamine suviteraviljadel. – Pille Sooväli \n11.30 – 12.00 Puhtimispreparaatide ning fungitsiidide toime taliteraviljade haiguste tõrjel. –   Mati Koppel \n12.00 – 12.30 Talirukki võrdluskatse ja leivavilja kvaliteeti mõjutavad tegurid. – Ilme Tupits \n12.30 – 13.00 Talinisu võrdluskatse. Uued talinisu sordid ja aretised. – Reine Koppel \n13.00 – 13.30 Suvinisu võrdluskatse\, toidunisu kvaliteeti mõjutavad tegurid. – Anne Ingver  \n13.30 – 14.00 Suviodra võrdluskatse\, õlleodra kvaliteeti mõjutavad tegurid. – Ülle Tamm \n14.00 – 14.30 Uued kaerasordid ja nende omadused. – Ilmar Tamm \n14.30 Lõuna \n\nVajalik eelregistreerimine: 7766901\, jogeva@jpbi.ee või www.sordiaretus.ee lehel.  \nÜrituse korraldamist toetab Euroopa Liit.
URL:https://test.pikk.ee/sundmus/katsed-ja-pollumajandusuuringud-jogeva-sai-s/
LOCATION:Jõgevamaa\, Jõgevamaa\, Eesti
CATEGORIES:Taimekasvatus
END:VEVENT
BEGIN:VEVENT
DTSTART;VALUE=DATE:20120710
DTEND;VALUE=DATE:20120711
DTSTAMP:20260422T130135
CREATED:20171231T220000Z
LAST-MODIFIED:20171231T220000Z
UID:10005258-1341878400-1341964799@test.pikk.ee
SUMMARY:Maheviljeluse põllupäev
DESCRIPTION:Jõgevamaa \nJõgeva SAI põllud\, Jõgeva alevik\, Jõgevamaa \nJõgevamaa \n	Jõgeva Sordiaretuse Instituut\n	Maheviljeluse põllupäev\n	10.juuli 2012\n	Jõgeva SAI põllud\, Jõgeva alevik\, Jõgevamaa \n\n	\n	10.00 – 10.30 Kogunemine ja registreerimine \n\n	10.30 – 10.55 Köögiviljade mahekatse.  – Ingrid Bender \n\n	10.55 – 11.20 Talirüps maheviljeluses  – Lea Narits \n\n	11.20 – 11.45 Talirukki uued aretised maheviljeluses  – Ilme Tupits \n\n	11.45 – 12.10 Talinisu sordid ja uued aretised mahetingimustes. –  Reine Koppel \n\n	12.10 – 12.35 Suvinisu maheviljeluse alternatiivid väetamisel ja puhtimisel– Anne Ingver \n\n	12.35 – 13.00 Oder maheviljeluse alternatiivid väetamisel ja puhtimisel. Uued odrasordid maheviljeluses –  Ülle Tamm \n\n	13.00 – 13.25 Kaera uued sordid maheviljeluses – Ilmar Tamm \n\n	13.25 – 13.50 Liblikõielised mahekülvikordades – Sirje Tamm \n\n	13.50 – 14.15 Vahekultuurid kui üks oluline võti mulla elustamisel. Maheotsekülv – Margus Ess \n\n	14.15 – 14.40 Miniharimine ja otsekülv maheviljeluses kui alternatiiv künnile ja umbrohtude kontrollimiseks – Tõnis Sareal \n\n	14.40 – 15.00 Mahetootjale mõeldud ökokultivaator Kvick-Finn juurumbrohtude tõrjumiseks – Sander Sarap \n\n	15.00 Lõuna \n\n	VAJALIK EELREGISTREERIMINE: 7766901\, jogeva@jpbi.ee  VÕI www.sordiaretus.ee  lehel.
URL:https://test.pikk.ee/sundmus/maheviljeluse-pollupaev/
LOCATION:Jõgevamaa\, Jõgevamaa\, Eesti
CATEGORIES:Taimekasvatus
END:VEVENT
BEGIN:VEVENT
DTSTART;VALUE=DATE:20120614
DTEND;VALUE=DATE:20120615
DTSTAMP:20260422T130135
CREATED:20171231T220000Z
LAST-MODIFIED:20171231T220000Z
UID:10005296-1339632000-1339718399@test.pikk.ee
SUMMARY:Seminar konsulentidele
DESCRIPTION:Jõgevamaa \nAlgus: E-Piim Põltsamaa Meierei\, Välja 4\, Põltsamaa.\nVäljasõit: Viraito OÜ \nJõgevamaa
URL:https://test.pikk.ee/sundmus/seminar-konsulentidele-2/
LOCATION:Jõgevamaa\, Jõgevamaa\, Eesti
CATEGORIES:Muu
END:VEVENT
BEGIN:VEVENT
DTSTART;VALUE=DATE:20120515
DTEND;VALUE=DATE:20120516
DTSTAMP:20260422T130135
CREATED:20171231T220000Z
LAST-MODIFIED:20171231T220000Z
UID:10005260-1337040000-1337126399@test.pikk.ee
SUMMARY:Infopäev "Igalt ammlehmalt igal aastal terve ja elujõuline vasikas"
DESCRIPTION:Jõgevamaa \nAiri Külveti Puutsa talus Tõrve külas Puurmani vallas \nJõgevamaa \nTartu Põllumeeste Liit korraldab 16. mail Jõgevamaal infopäeva „Igalt ammlehmalt igal aastal terve ja elujõuline vasikas“. \nLektor: Aigar Suurmaa. \nTeemad: lehmvasikate võõrutamisjärgne õige söötmine; ammlehmade söötmine\, eriti sügisperioodil; ammlehmade paaritusperioodi organiseerimine selliselt\, et see tagaks kõigi emasloomade tiinestumise; poegimisperioodil ammlehmade ööpäevaringne jälgimine\, et poegimine toimuks häireteta; milline on normaalne sünnitusabi raskematel ja kergematel poegimisjuhtudel; jõuetu vasika sündimisel rakendatavad elustamisvõtted. \nAlgus: 10.00 Airi Külveti Puutsa talus Tõrve külas Puurmani vallas (Airi Külvet 5342 4274). \nSoovitav eelregistreerimine ttl[A]kodu.ee või 736 6955 (E-R: 9.00-16.00).
URL:https://test.pikk.ee/sundmus/infopaev-igalt-ammlehmalt-igal-aastal-terve-ja-elujouline-vasikas/
LOCATION:Jõgevamaa\, Jõgevamaa\, Eesti
CATEGORIES:Loomakasvatus
END:VEVENT
END:VCALENDAR